Workbook

Sheet 表紙【市長選】
A2: ポスター掲示場
A3: 設置場所一覧表
A4: （145カ所）
A6: 46012
A8: 相馬市長選挙
A13: 相馬市選挙管理委員会

Sheet 表紙【県議市議】
A2: ポスター掲示場
A3: 設置場所一覧表
A4: （148カ所）
A6: 46705
A7: 福島県議会議員一般選挙
A8: 相馬市議会議員一般選挙
A13: 相馬市選挙管理委員会

Sheet 一覧_候補者渡し台帳用
A1: 設置№ | B1: 投票区 | C1: 番号 | D1: 掲示場名 | E1: 掲示場住所
A2: =#REF! -> #REF! | B2: =#REF! -> #REF! | C2: =#REF! -> #REF! | D2: =#REF! -> #REF! | E2: =#REF! -> #REF!
A3: =#REF! -> #REF! | B3: =#REF! -> #REF! | C3: =#REF! -> #REF! | D3: =#REF! -> #REF! | E3: =#REF! -> #REF!
A4: =#REF! -> #REF! | B4: =#REF! -> #REF! | C4: =#REF! -> #REF! | D4: =#REF! -> #REF! | E4: =#REF! -> #REF!
A5: =#REF! -> #REF! | B5: =#REF! -> #REF! | C5: =#REF! -> #REF! | D5: =#REF! -> #REF! | E5: =#REF! -> #REF!
A6: =#REF! -> #REF! | B6: =#REF! -> #REF! | C6: =#REF! -> #REF! | D6: =#REF! -> #REF! | E6: =#REF! -> #REF!
A7: =#REF! -> #REF! | B7: =#REF! -> #REF! | C7: =#REF! -> #REF! | D7: =#REF! -> #REF! | E7: =#REF! -> #REF!
A8: =#REF! -> #REF! | B8: =#REF! -> #REF! | C8: =#REF! -> #REF! | D8: =#REF! -> #REF! | E8: =#REF! -> #REF!
A9: =#REF! -> #REF! | B9: =#REF! -> #REF! | C9: =#REF! -> #REF! | D9: =#REF! -> #REF! | E9: =#REF! -> #REF!
A10: =#REF! -> #REF! | B10: =#REF! -> #REF! | C10: =#REF! -> #REF! | D10: =#REF! -> #REF! | E10: =#REF! -> #REF!
A11: =#REF! -> #REF! | B11: =#REF! -> #REF! | C11: =#REF! -> #REF! | D11: =#REF! -> #REF! | E11: =#REF! -> #REF!
A12: =#REF! -> #REF! | B12: =#REF! -> #REF! | C12: =#REF! -> #REF! | D12: =#REF! -> #REF! | E12: =#REF! -> #REF!
A13: =#REF! -> #REF! | B13: =#REF! -> #REF! | C13: =#REF! -> #REF! | D13: =#REF! -> #REF! | E13: =#REF! -> #REF!
... A149: =#REF! -> #REF! | B149: =#REF! -> #REF! | C149: =#REF! -> #REF! | D149: =#REF! -> #REF! | E149: =#REF! -> #REF!

Sheet 一覧_設計書・業者・候補者渡し台帳用 (15欠番ver)
A1: 設置№ | B1: 投票区 | C1: 番号 | D1: 掲示場名 | E1: 所在地 （住宅地図対応）
A2: ='ポスター掲示場一覧メイン (15欠番ver)'!A2 -> 1 | B2: ='ポスター掲示場一覧メイン (15欠番ver)'!E2 -> 1 | C2: ='ポスター掲示場一覧メイン (15欠番ver)'!F2 -> 1 | D2: ='ポスター掲示場一覧メイン (15欠番ver)'!B2 -> 市営長谷堂住宅入口 | E2: ='ポスター掲示場一覧メイン (15欠番ver)'!C2 -> 西山字長谷堂9-9
A3: ='ポスター掲示場一覧メイン (15欠番ver)'!A3 -> 2 | B3: ='ポスター掲示場一覧メイン (15欠番ver)'!E3 -> 1 | C3: ='ポスター掲示場一覧メイン (15欠番ver)'!F3 -> 2 | D3: ='ポスター掲示場一覧メイン (15欠番ver)'!B3 -> そうま土地改良区道路側ブロック | E3: ='ポスター掲示場一覧メイン (15欠番ver)'!C3 -> 西山字表西山76
A4: ='ポスター掲示場一覧メイン (15欠番ver)'!A4 -> 3 | B4: ='ポスター掲示場一覧メイン (15欠番ver)'!E4 -> 1 | C4: ='ポスター掲示場一覧メイン (15欠番ver)'!F4 -> 3 | D4: ='ポスター掲示場一覧メイン (15欠番ver)'!B4 -> 清野宅西側県有地（県道相馬大内線沿） | E4: ='ポスター掲示場一覧メイン (15欠番ver)'!C4 -> 西山字水沢316-5（西側）
A5: ='ポスター掲示場一覧メイン (15欠番ver)'!A5 -> 4 | B5: ='ポスター掲示場一覧メイン (15欠番ver)'!E5 -> 1 | C5: ='ポスター掲示場一覧メイン (15欠番ver)'!F5 -> 4 | D5: ='ポスター掲示場一覧メイン (15欠番ver)'!B5 -> 防災倉庫跡地前 | E5: ='ポスター掲示場一覧メイン (15欠番ver)'!C5 -> 西山字表西山50-1
A6: ='ポスター掲示場一覧メイン (15欠番ver)'!A6 -> 5 | B6: ='ポスター掲示場一覧メイン (15欠番ver)'!E6 -> 1 | C6: ='ポスター掲示場一覧メイン (15欠番ver)'!F6 -> 5 | D6: ='ポスター掲示場一覧メイン (15欠番ver)'!B6 -> 相馬高等学校南側フェンス | E6: ='ポスター掲示場一覧メイン (15欠番ver)'!C6 -> 中村字大手先57-1
A7: ='ポスター掲示場一覧メイン (15欠番ver)'!A7 -> 6 | B7: ='ポスター掲示場一覧メイン (15欠番ver)'!E7 -> 1 | C7: ='ポスター掲示場一覧メイン (15欠番ver)'!F7 -> 6 | D7: ='ポスター掲示場一覧メイン (15欠番ver)'!B7 -> 保健センター前 | E7: ='ポスター掲示場一覧メイン (15欠番ver)'!C7 -> 中村字大手先44-3
A8: ='ポスター掲示場一覧メイン (15欠番ver)'!A8 -> 7 | B8: ='ポスター掲示場一覧メイン (15欠番ver)'!E8 -> 1 | C8: ='ポスター掲示場一覧メイン (15欠番ver)'!F8 -> 7 | D8: ='ポスター掲示場一覧メイン (15欠番ver)'!B8 -> 今野宅西側市道敷(空地） | E8: ='ポスター掲示場一覧メイン (15欠番ver)'!C8 -> 中村字本町108
A9: ='ポスター掲示場一覧メイン (15欠番ver)'!A9 -> 8 | B9: ='ポスター掲示場一覧メイン (15欠番ver)'!E9 -> 2 | C9: ='ポスター掲示場一覧メイン (15欠番ver)'!F9 -> 1 | D9: ='ポスター掲示場一覧メイン (15欠番ver)'!B9 -> 市役所西南側フェンス | E9: ='ポスター掲示場一覧メイン (15欠番ver)'!C9 -> 中村字北町63-3
A10: ='ポスター掲示場一覧メイン (15欠番ver)'!A10 -> 9 | B10: ='ポスター掲示場一覧メイン (15欠番ver)'!E10 -> 2 | C10: ='ポスター掲示場一覧メイン (15欠番ver)'!F10 -> 2 | D10: ='ポスター掲示場一覧メイン (15欠番ver)'!B10 -> 振興公社ビル駐車場南端フェンス | E10: ='ポスター掲示場一覧メイン (15欠番ver)'!C10 -> 中村字塚ノ町65-16
A11: ='ポスター掲示場一覧メイン (15欠番ver)'!A11 -> 10 | B11: ='ポスター掲示場一覧メイン (15欠番ver)'!E11 -> 2 | C11: ='ポスター掲示場一覧メイン (15欠番ver)'!F11 -> 3 | D11: ='ポスター掲示場一覧メイン (15欠番ver)'!B11 -> 東邦銀行相馬支店南側国道沿 | E11: ='ポスター掲示場一覧メイン (15欠番ver)'!C11 -> 中村字大町58-1
A12: ='ポスター掲示場一覧メイン (15欠番ver)'!A12 -> 11 | B12: ='ポスター掲示場一覧メイン (15欠番ver)'!E12 -> 2 | C12: ='ポスター掲示場一覧メイン (15欠番ver)'!F12 -> 4 | D12: ='ポスター掲示場一覧メイン (15欠番ver)'!B12 -> シーシャBAR＆カラオケ北側フェンス | E12: ='ポスター掲示場一覧メイン (15欠番ver)'!C12 -> 中村字新町10-1
A13: ='ポスター掲示場一覧メイン (15欠番ver)'!A13 -> 12 | B13: ='ポスター掲示場一覧メイン (15欠番ver)'!E13 -> 3 | C13: ='ポスター掲示場一覧メイン (15欠番ver)'!F13 -> 1 | D13: ='ポスター掲示場一覧メイン (15欠番ver)'!B13 -> 前沢目公園東側フェンス | E13: ='ポスター掲示場一覧メイン (15欠番ver)'!C13 -> 中村字泉町3
... A149: ='ポスター掲示場一覧メイン (15欠番ver)'!A149 -> 0 | B149: ='ポスター掲示場一覧メイン (15欠番ver)'!E149 -> 0 | C149: ='ポスター掲示場一覧メイン (15欠番ver)'!F149 -> 0 | D149: ='ポスター掲示場一覧メイン (15欠番ver)'!B149 -> 0 | E149: ='ポスター掲示場一覧メイン (15欠番ver)'!C149 -> 0

Sheet ポスター掲示場一覧メイン (15欠番ver)
A1: 設置№ | B1: 掲示場名 | C1: 所在地 （住宅地図対応） | D1: 掲示場住所（公図） | E1: 投票区 | F1: 区毎 番号 | G1: 所有者等氏名 | H1: 郵便番号 | I1: 住所 | J1: 電話番号 | K1: 依頼文 別文書あり | L1: 依頼文 あらかじめ（承諾書あり文書） | M1: 依頼文 肩書_差込用 | N1: 依頼文 相馬市（庁内）あて | O1: 依頼文 なし | P1: 依頼文 文書箱に入れる | Q1: （謝礼） 宅急便 | R1: （謝礼） 文書箱or手渡し | S1: 変更等の履歴 | T1: 業者へ指示事項 | W1: 謝礼確認 | X1: 依頼文（承諾書あり文書） テンプレ03
A2: 1 | B2: 市営長谷堂住宅入口 | C2: 西山字長谷堂9-9 | D2: 西山字長谷堂9-9 | E2: 1 | F2: 1 | G2: 相馬市（建築課） | N2: 1 | P2: 1
A3: 2 | B3: そうま土地改良区道路側ブロック | C3: 西山字表西山76 | D3: 西山字表西山76 | E3: 1 | F3: 2 | G3: 相馬地方広域水道企業団 | H3: 976-0001 | I3: 相馬市大野台二丁目3-5 | J3: 35-1020？ 35-6800 | L3: 1 | M3: 貴職 | P3: 1 | S3: H23.2.21現地確認により所在地変更
A4: 3 | B4: 清野宅西側県有地（県道相馬大内線沿） | C4: 西山字水沢316-5（西側） | D4: 西山字水沢316-9 | E4: 1 | F4: 3 | G4: （県有地：公衆用道路で登記） | K4: 1 | S4: H28.3掲示場名修正 R01より道路占用申請書提出
A5: 4 | B5: 防災倉庫跡地前 | C5: 西山字表西山50-1 | D5: 西山字表西山50-1 | E5: 1 | F5: 4 | G5: 相馬市（地域防災対策室） | N5: 1 | P5: 1 | S5: R05.5.11掲示場名称変更、所在地を公図上の地番に修正 防災倉庫前（旧農協倉庫前）西山字表西山62-2（南側）→（防災倉庫跡地前）西山字表西山50-1
A6: 5 | B6: 相馬高等学校南側フェンス | C6: 中村字大手先57-1 | D6: 中村字大手先57-1 | E6: 1 | F6: 5 | G6: 福島県立相馬高等学校長 | H6: 976-0042 | I6: 相馬市中村字大手先57-1 | J6: 36-1331 | K6: 1 | S6: R03.11行政財産許可申請書を提出すること（相高室井様） H27.8.26設置場所名修正
A7: 6 | B7: 保健センター前 | C7: 中村字大手先44-3 | D7: 中村字大手先44-3 | E7: 1 | F7: 6 | G7: 相馬市（保健センター） | N7: 1 | P7: 1 | S7: H28.2現地確認。現状維持
A8: 7 | B8: 今野宅西側市道敷(空地） | C8: 中村字本町108 | D8: 中村字本町108-1前 | E8: 1 | F8: 7 | G8: 相馬市（都市整備課） | N8: 1 | P8: 1 | S8: H22.10.17訂正 R5.5.11掲示場名修正 （今野齊宅西側市道敷（空地）→今野宅西側市道敷（空地）） 公図上の地番誤りのため修正（相馬市中村字本町108→相馬市中村字本町108-1前）
A9: 8 | B9: 市役所西南側フェンス | C9: 中村字北町63-3 | D9: 中村字北町63-3 | E9: 2 | F9: 1 | G9: 相馬市（財政課） | N9: 1 | P9: 1 | S9: H29.11現地確認。新庁舎南西側に変更
A10: 9 | B10: 振興公社ビル駐車場南端フェンス | C10: 中村字塚ノ町65-16 | D10: 中村字塚ノ町65-16 | E10: 2 | F10: 2 | G10: ㈱相馬市振興公社 | H10: 976-0042 | I10: 相馬市中村字塚ノ町65-16 | J10: 35-5544 | L10: 1 | M10: 貴職 | S10: 謝礼不要と申し出があり、H25.12市長選時より送付しないこととした H28.2現地確認。現状維持（南側）。
A11: 10 | B11: 東邦銀行相馬支店南側国道沿 | C11: 中村字大町58-1 | D11: 中村字大町58-1 | E11: 2 | F11: 3 | G11: ㈱東邦銀行相馬支店長 | H11: 976-0042 | I11: 相馬市中村字大町58-1 | J11: 36-3131 | L11: 1 | M11: 貴職 | R11: 1 | S11: お礼手渡し | W11: ③ 謝礼品の送付のために個人情報（住所、氏名、電話番号）を使用すること。
A12: 11 | B12: シーシャBAR＆カラオケ北側フェンス | C12: 中村字新町10-1 | D12: 中村字新町10-5 | E12: 2 | F12: 4 | G12: 勇建設株式会社 代表取締役 松岡 勇太 | H12: 976-0007 | I12: 相馬市大坪字馬見塚112番地 | J12: 26-5558（法人代表）、09075294088 | L12: 1 | M12: あなた様 | Q12: 1 | S12: R040519送付先変更 R040421地震の罹災状況確認。設置可能。 R031011所有者変更→市長選より送付先変更（相馬市成田字船橋15番地の1勇建設） Ｒ030901店舗名称変更R6から新町緑地へ移動したい（管理者都市整備課）→次回以降検討事項とする。 | W12: ③ 謝礼品の送付のために個人情報（住所、氏名、電話番号）を使用すること。
A13: 12 | B13: 前沢目公園東側フェンス | C13: 中村字泉町3 | D13: 中村字泉町3 | E13: 3 | F13: 1 | G13: 相馬市（都市整備課） | N13: 1 | P13: 1
A14: 13 | B14: 高池前公園南側フェンス | C14: 中村字高池前44 | D14: 中村字高池前44 | E14: 3 | F14: 2 | G14: 相馬市（都市整備課） | N14: 1 | P14: 1 | S14: R05.5.11所在地を公図上の地番に修正 中村字高池前43→中村字高池前44
A15: 14 | B15: 相馬市民プール向フェンス | C15: 中村字桜ヶ丘54-2（南側） | D15: 中村字桜ヶ丘54-2（南側） | E15: 3 | F15: 3 | G15: （市有地） | O15: 1 | S15: R5.5.15所在地等を公図上の地番に修正 （中村字桜ヶ丘54-4→中村字桜ヶ丘54-2）
A16: 15 | B16: 桜ヶ丘公園北側フェンス | C16: 中村字桜ヶ丘154 | D16: 中村字桜ヶ丘154 | E16: 3 | F16: 4 | G16: 相馬市（都市整備課） | N16: 1 | P16: 1 | S16: H27.8.28場所変更 R05.5.8所在地を公図上の地番に修正 中村字桜ケ丘149-2（南側）→中村字桜ケ丘154
A17: 16 | B17: はまなす商店街看板北側 | C17: 中村字塚田62、72 | D17: 中村字塚田62、72 | E17: 3 | F17: 5 | G17: 相馬市（商工観光課） | N17: 1 | P17: 1 | S17: R04.05遠藤ハル子さん死亡。孫（光紀）に所有者・送付先変更。 H23.2.21現地確認により所在地変更。 R6から塚田仮設店舗へ移動したい（管理者商工観光課） | W17: ③ 謝礼品の送付のために個人情報（住所、氏名、電話番号）を使用すること。
A18: 17 | B18: 福祉センターはまなす館（北西側） | C18: 小泉字高池357 | D18: 小泉字高池357 | E18: 3 | F18: 6 | G18: 相馬市（高齢福祉課） | N18: 1 | P18: 1 | S18: H28.7参院選より変更
A19: 18 | B19: 和料理みはらし道路向のフェンス | C19: 中野字寺前1-2（北側） | D19: 中野字寺前1-2（北側） | E19: 4 | F19: 1 | G19: （市有地） | O19: 1 | S19: H28.2現地確認。現状維持 R5.5.11所在地を公図上の地番から見た地番に修正 中野字寺前35→中野字寺前1-2北側
A20: 19 | B20: 福島トヨペット㈱相馬店（南側） | C20: 中野字寺前340 | D20: 中野字寺前340 | E20: 4 | F20: 2 | G20: 福島トヨペット株式会社相馬店店長 | H20: 976-0037 | I20: 相馬市中野字寺前335 | J20: 36-5121 | L20: 1 | M20: 貴職 | Q20: 1 | S20: R04.6店長変更（→鈴木百合子）。削除した。 Ｈ30.8場所変更 | W20: ③ 謝礼品の送付のために個人情報（住所、氏名、電話番号）を使用すること。
A21: 20 | B21: 向陽中学校敷地北側（ネットフェンス前） | C21: 中野字桜町76 | D21: 中野字桜町76 | E21: 4 | F21: 3 | G21: 向陽中学校長 | H21: 976-0037 | I21: 相馬市中野字桜町76 | J21: 35-2348 | L21: 1 | M21: 貴職 | N21: 1 | P21: 1 | S21: 依頼文２箇所（相馬市教育長（総務課）へも出す） | T21: R4.4場所移動。北側ネットフェンス前へ移動。 | U21: 向陽中学校敷地北側（フェンス前） | V21: ←R4.4元に戻した。
A22: 21 | B22: 市営黒木田住宅前 | C22: 中野字黒木田152-1 | D22: 中野字黒木田152-1 | E22: 5 | F22: 1 | G22: 相馬市（建築課） | N22: 1 | P22: 1
A23: 22 | B23: 愛育園南側フェンス | C23: 中野字清水172-2 | D23: 中野字清水172-2 | E23: 5 | F23: 2 | G23: 相馬市（こども家庭課） | N23: 1 | P23: 1 | S23: H28.2現地確認。現状維持
A24: 23 | B24: 高玉宅前南側の西より宇多川土手 | C24: 北飯渕三丁目1-1向 | D24: 北飯渕三丁目1-1向 | E24: 6 | F24: 1 | G24: （市有地） | O24: 1 | S24: R05.5.11掲示場名修正。 （高玉清宅前南側の西より宇多川土手→高玉宅前南側の西より宇多川土手）
A25: 24 | B25: レオパレスファミーユⅠ前南側歩道の花壇 | C25: 北飯渕二丁目6-6前 | D25: 北飯渕二丁目6-6前 | E25: 6 | F25: 2 | G25: （市有地） | O25: 1 | S25: H21.7.30場所確認。歩道の花壇に立てているため、所有者なし。
A26: 25 | B26: ㈱南東北クボタ相馬営業所東側 | C26: 沖ノ内三丁目10-25 | D26: 沖ノ内三丁目10-25 | E26: 6 | F26: 3 | G26: ㈱南東北クボタ相馬営業所長 | H26: 976-0016 | I26: 相馬市沖ノ内三丁目10-25 | J26: 35-3517 | L26: 1 | M26: 貴職 | Q26: 1 | S26: 近辺で代替地を探したが適地がなく、とりあえず現状維持。次期市議選までに要再検討 R6からみんなの家 フェンスへ移動したい（管理者都市整備課）→R6次回以降の検討事項とする。 | W26: ③ 謝礼品の送付のために個人情報（住所、氏名、電話番号）を使用すること。
A27: 26 | B27: 沖ノ内公園北側フェンス | C27: 沖ノ内二丁目6-1 | D27: 沖ノ内二丁目6-1 | E27: 6 | F27: 4 | G27: 相馬市（都市整備課） | N27: 1 | P27: 1 | S27: R05.5.8所在地修正（沖ノ内二丁目6（北側）→沖ノ内二丁目6-1）
A28: 27 | B28: 松崎（門馬）宅ブロック前 | C28: 小泉字根岸120-2 | D28: 小泉字根岸120-2 | E28: 7 | F28: 1 | G28: 松崎 充枝 | H28: 976-0013 | I28: 相馬市小泉字根岸120-2 | J28: 090-7528-0408 36-5870 | L28: 1 | M28: あなた様 | Q28: 1 | S28: H28.7参院選より変更。H28.5～新築工事のため自宅解体予定。R3.9所有者名義変更（門馬福枝→松崎充枝） | W28: ③ 謝礼品の送付のために個人情報（住所、氏名、電話番号）を使用すること。
A29: 28 | B29: 中村幼稚園入口、警察官舎前 | C29: 新沼字坪ヶ迫1-1 | D29: 新沼字坪ヶ迫1-1 | E29: 7 | F29: 2 | G29: 相馬市（建築課） | N29: 1 | P29: 1 | S29: 武内 洋子 976-0011 相馬市新沼字坪ヶ迫1-11 36-2992 | W29: ③ 謝礼品の送付のために個人情報（住所、氏名、電話番号）を使用すること。
A30: 29 | B30: 公立相馬総合病院西側出入口 | C30: 新沼字坪ヶ迫98 | D30: 新沼字坪ヶ迫98（西側） | E30: 7 | F30: 3 | G30: 相馬方部衛生組合 | H30: 976-0042 | I30: 相馬市中村字北町63-3 | J30: 35-4124 | L30: 1 | M30: 貴職 | P30: 1 | S30: Ｈ30.8.10承諾書が未達だった為ＴＥＬ．阿部照男さん（新沼坪ヶ迫579）は今回限り了承とのこと。しかし次回からは場所を変更してほしいと要望有。Ｈ30.8.28局長現場確認し公立相馬総合病院敷地内に設置したい旨、公立へ確認快諾してもらう。市有地につき財政確認。方部衛生組合へ貸している為そちらへ通知文出してほしいとのこと。R01.6相馬市（財政課）宛不要。 | T30: H25.6.11位置変更 ブロック側へ H30.9.14位置変更 公立病院へ
A31: 30 | B31: 鹿島神社入口 | C31: 新沼字鹿島前383 | D31: 新沼字鹿島前383 | E31: 7 | F31: 4 | G31: 中村中部１区区長 高玉 義則 | H31: 976-0011 | I31: 相馬市新沼字大森112 | J31: 38-8796 | L31: 1 | M31: あなた様 | R31: 1 | S31: H28.4区長変更 | W31: ③ 謝礼品の送付のために個人情報（住所、氏名、電話番号）を使用すること。
A32: 31 | B32: 中村第二小学校前土手 | C32: 尾浜字細田1 | D32: 尾浜字細田1 | E32: 8 | F32: 1 | G32: 中村第二小学校長 | H32: 976-0022 | I32: 相馬市尾浜字細田1 | J32: 38-8104 | L32: 1 | M32: 貴職 | N32: 1 | P32: 1 | S32: 依頼文２箇所（相馬市教育長（総務課）へも出す） R01.7.21場所変更。
A33: 32 | B33: 市営細田東住宅団地道路向、松田宅入口（電柱の北側） | C33: 尾浜字細田406-9（東側） | D33: 尾浜字細田389-1 | E33: 8 | F33: 2 | G33: 松田 里子 | H33: 976-0022 | I33: 相馬市尾浜字細田389-1 | J33: 38-6084 | L33: 1 | M33: あなた様 | Q33: 1 | S33: H28.7参院選より変更。 R6から細田井戸端長屋東側フェンスへ移動したい（管理者建築課）→フェンスの強度が足りないため不可。 | T33: H28.3場所変更。カーブミラーと電柱の間はワラビが出るので避けて、電柱より北側に設置すること | W33: ③ 謝礼品の送付のために個人情報（住所、氏名、電話番号）を使用すること。
A34: 33 | B34: 下り松停留所（相馬港方面） | C34: 原釜字札ノ沢89（北側） | D34: 原釜字札ノ沢 | E34: 8 | F34: 3 | G34: （市有地） | O34: 1
A35: 34 | B35: トミ美容室東側 | C35: 尾浜字原42-1 | D35: 尾浜字原 | E35: 8 | F35: 4 | G35: 山崎 昌利 | H35: 976-0021 | I35: 相馬市原釜字北高野7-23 市営北高野団地40号棟 | J35: 38-8727 080-2824-8449 | L35: 1 | M35: あなた様 | Q35: 1 | S35: R6から東側県道花壇へ移動したい（所有者福島県 管理 早川区長）→次回以降の検討事項とする。 | W35: ③ 謝礼品の送付のために個人情報（住所、氏名、電話番号）を使用すること。
A36: 35 | B36: 東部公民館入口（元水源地）ガードフェンス | C36: 原釜字北高野56（東側） | D36: 原釜字由沼 | E36: 9 | F36: 1 | G36: （市有地） | O36: 1
A37: 36 | B37: 阿部宅ブロック塀 | C37: 原釜字大津9-1 （南側） | D37: 原釜字大津10 | E37: 9 | F37: 2 | G37: 阿部 三夫 | H37: 976-0021 | I37: 相馬市原釜字大津9-1 | J37: 38-8010 | L37: 1 | M37: あなた様 | Q37: 1 | S37: H28.2.15現地確認。ブロックにより市議選看板は設置が困難な状況。原釜防災集合所を含め近辺の適切な場所を探したがないため、当面現状維持。現在修理している道路が完成したら、そこへ移転することも含め再度要検討。 | W37: ③ 謝礼品の送付のために個人情報（住所、氏名、電話番号）を使用すること。
A38: 37 | B38: 株式会社ナガホリ管理地 | C38: 尾浜字高塚280-1 | D38: 尾浜字高塚280-1 | E38: 10 | F38: 1 | G38: ソマ株式会社 | H38: 979-2512 | I38: 相馬市柚木字一の坪86 | J38: 36-3502 | L38: 1 | M38: 貴職 | Q38: 1 | S38: R2.5次回選挙より変更 株式会社ナガホリが所有。ソマ株式会社 工場長 オオツキ氏対応 | T38: Ｒ2.5場所変更 | W38: ③ 謝礼品の送付のために個人情報（住所、氏名、電話番号）を使用すること。
A39: 38 | B39: 高平児童公園南東側 | C39: 尾浜字高塚217 | D39: 尾浜字高塚217 | E39: 10 | F39: 2 | G39: 相馬市（都市整備課） | N39: 1 | P39: 1 | S39: Ｈ28.7参院選より変更 R5.5.11掲示場名・所在地を公図上の地番に修正 高平児童公園東側：尾浜字平前4-15（西側）→高平児童公園南東側：尾浜字高塚217
A40: 39 | B40: 尾浜こども公園東側駐車場 | C40: 尾浜字北ノ入140 | D40: 尾浜字北ノ入140付近 | E40: 10 | F40: 3 | G40: 相馬市（都市整備課） | N40: 1 | P40: 1 | S40: R4.4.21地震の罹災状況確認。設置可能。 Ｈ29.10衆院選より娘へ依頼変更。旧電話番号・024-842-4353 R5.7.20土地売買予定のため貸せない旨、八越智恵子氏（〒234-0051神奈川県横浜市港南区日野7-3-46）より連絡（TEL045-842-4353）あり。 設置場所を尾浜字平前103から尾浜字牛鼻毛67-2に変更。 R99衆院選より早川宅西側から尾浜こども公園駐車場東側に変更。 旧：早川武（早川武見） 相馬市尾浜字牛鼻毛67－2 | W40: ③ 謝礼品の送付のために個人情報（住所、氏名、電話番号）を使用すること。
A41: 40 | B41: ホテルみなとや前緑地、南端 | C41: 尾浜字追川137 | D41: 尾浜字追川137 | E41: 10 | F41: 4 | G41: 福島県相馬港湾建設事務所長 | H41: 976-0021 | I41: 相馬市原釜字大津183 | J41: 26-8768 | K41: 1 | S41: 依頼文ではなく漁港施設内における協議書を提出する | T41: ホテルの出入口の邪魔にならないように
A42: 41 | B42: 光陽パークゴルフ場入口 | C42: 光陽四丁目2-5 | D42: 光陽四丁目2-5 | E42: 11 | F42: 1 | G42: 相馬市教育長（生涯学習課） | N42: 1 | P42: 1 | S42: H30.9県議補選より、道路拡幅工事のため変更。変更前は石上字南蛯沢628 公立病院駐車場北側空地
A43: 42 | B43: 渡部綱記翁頌徳碑の東隣 | C43: 石上字中曽根40 （南側） | D43: 石上字中曽根 | E43: 11 | F43: 2 | G43: 渡部 敏綱 | H43: 976-0006 | I43: 相馬市石上字中曽根40 | J43: 35-5919 | L43: 1 | M43: あなた様 | Q43: 1 | S43: H23.2.21現地確認により変更 | W43: ③ 謝礼品の送付のために個人情報（住所、氏名、電話番号）を使用すること。
A44: 43 | B44: 旧ＪＡそうま大野支店前 | C44: 石上字前田1-1 | D44: 石上字前田1-1 | E44: 11 | F44: 3 | G44: ＪＡふくしま未来相馬中村総合支店長 | H44: 976-0042 | I44: 相馬市中村一丁目15-5 | J44: 36-2101 | L44: 1 | M44: 貴職 | S44: Ｈ28.3.1ＪＡ合併により所有者名変更 令和5年市議選の時から謝礼辞退
A45: 44 | B45: 山崎宅前（土手） | C45: 塚部字山崎8-1 | D45: 塚部字山崎8-1 | E45: 11 | F45: 4 | G45: 山崎 幸生 | H45: 976-0003 | I45: 相馬市塚部字山崎8-1 | J45: 36-3059、090-8255-2889 | L45: 1 | M45: あなた様 | Q45: 1 | S45: R3.9.9電話あり。長生が施設に入所したため、今後は息子の幸生（ユキオ）さんへ送付。 | W45: ③ 謝礼品の送付のために個人情報（住所、氏名、電話番号）を使用すること。
A46: 45 | B46: 塚部集会所西側空地 | C46: 塚部字貴布根前146 （西側） | D46: 塚部字貴布根前147 | E46: 11 | F46: 5 | G46: 吉田 守 | H46: 976-0003 | I46: 相馬市塚部字内城3 | J46: 36-0702 | L46: 1 | M46: あなた様 | Q46: 1 | S46: H28.07参院選より変更：塚部字貴布根前147は佐藤要助所有だが行方不明で、吉田守氏が管理しているとのこと。 なお吉田守氏の住民票は小野字薬師堂334-10→R1.9より内城3へ変更。旧電話番号・36-4663 | W46: ③ 謝礼品の送付のために個人情報（住所、氏名、電話番号）を使用すること。
A47: 46 | B47: 菊地宅向（畑） | C47: 塚部字聖50 （北側） | D47: 塚部字聖 | E47: 11 | F47: 6 | G47: 菊地 成人 | H47: 976-0003 | I47: 相馬市塚部字聖50 | J47: 36-0727 | L47: 1 | M47: あなた様 | Q47: 1 | W47: ③ 謝礼品の送付のために個人情報（住所、氏名、電話番号）を使用すること。
A48: 47 | B48: 大坪公会堂前 | C48: 大坪字前迫146-1 | D48: 大坪字前迫146-1 | E48: 12 | F48: 1 | G48: 大野４区区長 佐藤 吉典 | H48: 976-0007 | I48: 相馬市大坪字西畑131-1 | J48: 090-5230-2834 | L48: 1 | M48: あなた様 | R48: 1 | S48: R6.4.区長変更 | W48: ③ 謝礼品の送付のために個人情報（住所、氏名、電話番号）を使用すること。
A49: 48 | B49: 大坪橋北三差路（フェンス） | C49: 大坪字清水前72-1（南側） | D49: 大坪字清水前53-4 | E49: 12 | F49: 2 | G49: （県有地） | O49: 1
A50: 49 | B50: 西工業団地入口停留所 | C50: 大坪字山神前153 （南側） | D50: 大坪字山神前 | E50: 12 | F50: 3 | G50: 和田山 文孝 | H50: 976-0007 | I50: 相馬市大坪字山神前153 | J50: 36-0794 | L50: 1 | M50: あなた様 | Q50: 1 | W50: ③ 謝礼品の送付のために個人情報（住所、氏名、電話番号）を使用すること。
A51: 50 | B51: 田村宅西側、椎木入口停留所 | C51: 椎木字伊賀屋敷36-6 | D51: 椎木字伊賀屋敷36-6 | E51: 12 | F51: 4 | G51: 田村 広忠 | H51: 976-0002 | I51: 相馬市椎木字伊賀屋敷36-6 | J51: 36-0868 | L51: 1 | M51: あなた様 | Q51: 1 | W51: ③ 謝礼品の送付のために個人情報（住所、氏名、電話番号）を使用すること。
A52: 51 | B52: 猪狩宅前の畑の東端 | C52: 椎木字北原55 （南側） | D52: 椎木字北原 | E52: 12 | F52: 5 | G52: 猪狩 嘉隆 | H52: 976-0002 | I52: 相馬市椎木字北原55 | J52: 36-0760 (猪狩義雄） | L52: 1 | M52: あなた様 | Q52: 1 | W52: ③ 謝礼品の送付のために個人情報（住所、氏名、電話番号）を使用すること。
A53: 52 | B53: 森宅東側空地（自動販売機の東） | C53: 塚部字新城下42-2 （東側） | D53: 塚部字新城下42-8 | E53: 12 | F53: 6 | G53: 森 佳英 | H53: 976-0003 | I53: 相馬市塚部字新城下42-2 | J53: 36-4471 | L53: 1 | M53: あなた様 | Q53: 1 | S53: H28.7参院選より変更 | T53: 自動販売機の東に設置すること | W53: ③ 謝礼品の送付のために個人情報（住所、氏名、電話番号）を使用すること。
A54: 53 | B54: 吉田宅西側信号機前 | C54: 初野字初野町30（西側100ｍ） | D54: 初野字西原102-1 | E54: 13 | F54: 1 | G54: 吉田 チヱ | H54: 976-0051 | I54: 相馬市初野字初野町30 | J54: 36-0594 090-1662-4363 | L54: 1 | M54: あなた様 | Q54: 1 | S54: Ｈ29.10衆院選より変更 | W54: ③ 謝礼品の送付のために個人情報（住所、氏名、電話番号）を使用すること。
A55: 54 | B55: 大野公民館前（フェンス） | C55: 石上字鵃沢326-1 | D55: 石上字鵃沢326-1 | E55: 13 | F55: 2 | G55: 相馬市教育長（中央公民館） | N55: 1 | P55: 1
A56: 55 | B56: セブンイレブン相馬黒木店向の田(西側) | C56: 黒木字勝善100-1 （南側） | D56: 黒木字勝善117-1 | E56: 13 | F56: 3 | G56: 佐藤 敏夫 | H56: 976-0052 | I56: 相馬市黒木字舘前3-2 | J56: 36-4563 | L56: 1 | M56: あなた様 | Q56: 1 | S56: H26.10県知事選より変更 | W56: ③ 謝礼品の送付のために個人情報（住所、氏名、電話番号）を使用すること。
A57: 56 | B57: 黒木郵便局(西側フェンス) | C57: 黒木字御門98-1付近 | D57: 黒木字御門98-1付近 | E57: 13 | F57: 4 | G57: （県有地：県道228号線） | H57: 976-0052 | K57: 1 | S57: Ｒ2.5設置場所変更。道路占用申請書提出
A58: 57 | B58: 西部子ども公民館西側 | C58: 黒木字町67-1 | D58: 黒木字町67-1 | E58: 13 | F58: 5 | G58: 相馬市（こども家庭課） | N58: 1 | P58: 1 | S58: Ｈ29.10衆院より変更
A59: 58 | B59: 旧雇用促進住宅第２宿舎入口、南側 | C59: 黒木字榎下352-1（南側） | D59: 黒木字榎下356 | E59: 13 | F59: 6 | G59: 半谷 陽子 | H59: 976-0052 | I59: 相馬市黒木字榎下326 | J59: 080-9628-5543 | L59: 1 | M59: あなた様 | R59: 1 | S59: R05所有者住所変更 （黒木字榎下315→黒木字榎下326） R6から榎下５４へ移動したい（効果を上げるため） | W59: ③ 謝礼品の送付のために個人情報（住所、氏名、電話番号）を使用すること。
A60: 59 | B60: 旧大野稚蚕飼育所前 | C60: 黒木字北台131-8 （北側） | D60: 黒木字北台136-13 | E60: 13 | F60: 7 | G60: 小関 和弘 | H60: 976-0052 | I60: 相馬市黒木字町14番地 | J60: 36-4558 090-8927-2585 | L60: 1 | M60: あなた様 | Q60: 1 | S60: H21.12.20市議選においてポスター掲示場借用依頼をしたところ、杉森さんより議会の渡辺局長経由で今はその土地については分からないとの申立て有り。現地で聞き取り調査の結果、共有等あるが小関貞一さんに依頼することにした。 H23.8.6小関貞一さん死亡により所有者名変更。（小関和弘さん） | W60: ③ 謝礼品の送付のために個人情報（住所、氏名、電話番号）を使用すること。
A61: 60 | B61: 諏訪神社入口右手 | C61: 黒木字薬師堂143-2 （北側） | D61: 黒木字薬師堂140 | E61: 13 | F61: 8 | G61: 桃井 利昌 | H61: 976-0052 | I61: 相馬市黒木字薬師堂87 | J61: 36-0584 | L61: 1 | M61: あなた様 | Q61: 1 | W61: ③ 謝礼品の送付のために個人情報（住所、氏名、電話番号）を使用すること。
A62: 61 | B62: 初野多目的集会所前 | C62: 初野字栗原9-4 | D62: 初野字栗原9-4 | E62: 13 | F62: 9 | G62: 大野５区区長 佐 成 | H62: 976-0051 | I62: 相馬市初野字金谷内268 | J62: 35-5746 090-1931-5746 | L62: 1 | M62: あなた様 | R62: 1 | W62: ③ 謝礼品の送付のために個人情報（住所、氏名、電話番号）を使用すること。
A63: 62 | B63: 小野多目的集会所前 | C63: 小野字薬師堂35 | D63: 小野字薬師堂35 | E63: 13 | F63: 10 | G63: 大野７区区長 菊地 利宗 | H63: 976-0053 | I63: 相馬市小野字薬師堂158 | J63: 36-0495 090-4881-7171 | L63: 1 | M63: あなた様 | R63: 1 | S63: R02.4区長変更 | W63: ③ 謝礼品の送付のために個人情報（住所、氏名、電話番号）を使用すること。
A64: 63 | B64: 飯豊小学校西側フェンス | C64: 大曲字天神前42 | D64: 大曲字天神前42 | E64: 14 | F64: 1 | G64: 飯豊小学校長 | H64: 976-0032 | I64: 相馬市大曲字天神前42 | J64: 35-3209 | L64: 1 | M64: 貴職 | N64: 1 | P64: 1 | S64: 依頼文２箇所（相馬市教育長（総務課）へも出す） R3.9場所変更。体育館横の金網フェンスへ移動。 | T64: R3.9場所変更。体育館横の金網フェンスへ移動。
A65: 64 | B65: 程田明神前住宅団地前（東端） | C65: 程田字明神前257-52（南側） | D65: 程田字明神前257-52 | E65: 14 | F65: 2 | G65: 相馬市（建築課） | N65: 1 | P65: 1 | S65: R3.9.2建築課より、災害公営住宅払い下げのため、個人所有となった。東端のごみステーションわきに変更。 | T65: ごみステーションわきに設置。地下の防火水槽に注意して設置してください。
A66: 65 | B66: 荒宅向の畑、交通安全立看板の東 | C66: 柏崎字中台2 （北側） | D66: 柏崎字中台2（北側） | E66: 14 | F66: 3 | G66: 荒 信 | H66: 976-0034 | I66: 相馬市柏崎字中台2 | J66: 36-7976 | L66: 1 | M66: あなた様 | Q66: 1 | T66: 交通安全立看板の東（西の畑は所有者が違うので注意） | W66: ③ 謝礼品の送付のために個人情報（住所、氏名、電話番号）を使用すること。
A67: 66 | B67: 太田宅前の畑 | C67: 柏崎字西台63 （東側） | D67: 柏崎字西台63（東側） | E67: 14 | F67: 4 | G67: 太田 榮子 | H67: 976-0034 | I67: 相馬市柏崎字西台63 | J67: 36-0174 | L67: 1 | M67: あなた様 | Q67: 1 | W67: ③ 謝礼品の送付のために個人情報（住所、氏名、電話番号）を使用すること。
A68: 67 | B68: 草野建設倉庫東側歩道ガードフェンス | C68: 程田字形部田26（倉庫東側歩道） | D68: 程田字形部田85-14 | E68: 14 | F68: 5 | G68: （市有地） | O68: 1 | S68: R4参院選より市道上へ変更 | T68: R4設置箇所市道へ変更
A69: 68 | B69: 佐伯宅前の畑 | C69: 岩子字北稲田154-1 （南側） | D69: 岩子字稲田10-1 | E69: 14 | F69: 6 | G69: 遠藤 友幸 | H69: 976-0025 | I69: 相馬市岩子字北稲田150 | J69: 35-2982 090-4889-0845 | L69: 1 | M69: あなた様 | Q69: 1 | S69: H27.1場所変更 R3.10.12所有者変更息子へ | W69: ③ 謝礼品の送付のために個人情報（住所、氏名、電話番号）を使用すること。
A70: 69 | B70: 岩子防災集合所向の畑 | C70: 岩子字数馬206-3 （北側） | D70: 岩子字数馬198-1 | E70: 14 | F70: 7 | G70: 岡本 俶享 | H70: 976-0025 | I70: 相馬市岩子字数馬22 | J70: 35-2459、090-5239-7133 | L70: 1 | M70: あなた様 | Q70: 1 | W70: ③ 謝礼品の送付のために個人情報（住所、氏名、電話番号）を使用すること。
A71: 70 | B71: 松川浦スポーツセンターゴミステーション東側 | C71: 岩子字長谷地10-1 | D71: 岩子字長谷地10-1 | E71: 14 | F71: 8 | G71: 相馬市教育長（生涯学習課） | N71: 1 | P71: 1 | S71: R6から投票所統合により北側ゴミステーション隣へ移動
A72: 71 | B72: 佐藤宅北側 | C72: 南飯渕字木関無102 | D72: 南飯渕字木関無102 | E72: 16 | F72: 1 | G72: 佐藤 清一 | H72: 976-0026 | I72: 相馬市南飯渕字木関無102 | J72: 36-2415 35-5698 | L72: 1 | M72: あなた様 | Q72: 1 | W72: ③ 謝礼品の送付のために個人情報（住所、氏名、電話番号）を使用すること。
A73: 72 | B73: 横山宅後（裏） | C73: 南飯渕字明神6 | D73: 南飯渕字明神6 | E73: 16 | F73: 2 | G73: 横山 弘 | H73: 976-0026 | I73: 相馬市南飯渕字明神6 | J73: 35-3996 | L73: 1 | M73: あなた様 | Q73: 1 | W73: ③ 謝礼品の送付のために個人情報（住所、氏名、電話番号）を使用すること。
A74: 73 | B74: 水澤宅向の畑 | C74: 大曲字大毛内202 （南側） | D74: 大曲字大毛内 | E74: 16 | F74: 3 | G74: 水澤 孝行 | H74: 976-0032 | I74: 相馬市大曲字大毛内202 | J74: 35-5854 | L74: 1 | M74: あなた様 | Q74: 1 | W74: ③ 謝礼品の送付のために個人情報（住所、氏名、電話番号）を使用すること。
A75: 74 | B75: 馬場野多目的集会所前 | C75: 馬場野字宝田1 | D75: 馬場野字宝田1 | E75: 16 | F75: 4 | G75: 飯豊７区区長 寺島 眞一 | H75: 976-0036 | I75: 相馬市馬場野字鹿島前67 | J75: 35-2898 | L75: 1 | M75: あなた様 | R75: 1 | S75: R03小字修正 | W75: ③ 謝礼品の送付のために個人情報（住所、氏名、電話番号）を使用すること。
A76: 75 | B76: ABCマツモト相馬店駐車場 | C76: 馬場野字雨田29-1 （南側） | D76: 馬場野字雨田29-1 | E76: 16 | F76: 5 | G76: 株式会社まつもと 代表取締役社長 松本 京子 | H76: 976-0036 | I76: 相馬市馬場野字雨田35-1 | J76: 35-1515 | L76: 1 | M76: あなた様 | Q76: 1 | S76: R3.9掲示場名称申出により変更。 | T76: Ｈ30．8所有者と設置場所（馬場野字雨田２９－１）について確認済み。 | U76: 澤田宅前（旧小池理容店東）の畑 | W76: ③ 謝礼品の送付のために個人情報（住所、氏名、電話番号）を使用すること。
A77: 76 | B77: 杉﨑宅ブロック塀 | C77: 馬場野字福迫57 | D77: 馬場野字福迫57 | E77: 16 | F77: 6 | G77: 杉崎 隆 | H77: 350-1304 | I77: 埼玉県狭山市狭山台1-4-9狭山台ハイコーポA604 | J77: 04-2958-7967 | L77: 1 | M77: あなた様 | Q77: 1 | S77: R4.4.21地震の罹災状況確認。設置可能。 R3.9.15芳子さん施設入所のため、今後は弟の隆さんへ送付する。 H28.3現地確認。フェンスは新しいがアルミ製で強度に少し問題あり。近辺で適切な設置場所が見つからず、取りあえず現状維持。次期市議選までには要再検討。 | W77: ③ 謝礼品の送付のために個人情報（住所、氏名、電話番号）を使用すること。
A78: 77 | B78: 馬場野住宅団地入口 | C78: 馬場野字山田83-61（東側） | D78: 馬場野字山田111-3 | E78: 16 | F78: 7 | G78: （市有地） | O78: 1
A79: 78 | B79: 福島県農業総合センター 浜地域研究所南側 | C79: 成田字五郎右エ門橋100 | D79: 成田字五郎右エ門橋100 | E79: 17 | F79: 1 | G79: 福島県農業総合センター 浜地域研究所 所長 | H79: 979-2542 | I79: 相馬市成田字五郎右エ門橋100 | J79: 35-2633 | L79: 1 | M79: 貴職 | S79: R5.8.1 設置場所の変更 提出期限を過ぎても返送がなく、電話もつながらないため、別の場所に設置することとした。 旧：蓮沼宅ブロック塀 成田字大作116 蓮沼 淳子 〒979-2542 相馬市成田字大作116 35-5557 新 成田字五郎右ェ門橋100 R4追記。謝礼受取は夜間指定にする R4.4.21地震の罹災状況確認。塀破損あり。 H24.12衆院選より変更 | T79: H24.12.8～位置変更
A80: 79 | B80: 横山宅南側市道敷 | C80: 成田字天王前226-2（南側） | D80: 成田字天王前228南側 | E80: 17 | F80: 2 | G80: 相馬市（都市整備課） | N80: 1 | P80: 1 | S80: R06.09 ㈱小野中村より提案場所に設置場所移動 旧設置場所：成田字岡本60 佐藤宅前、岡本停留所付近 佐藤辰雄 | W80: ③ 謝礼品の送付のために個人情報（住所、氏名、電話番号）を使用すること。
A81: 80 | B81: 旧八幡駐在所前 | C81: 坪田字涼ヶ岡39-1 （南側） | D81: 坪田字涼ヶ岡40 | E81: 17 | F81: 3 | G81: 涼ケ岡共有地会会長 後藤 建一 | H81: 979-2533 | I81: 相馬市坪田字八幡西196-2 | J81: 36-7221 | L81: 1 | M81: あなた様 | Q81: 1 | S81: H28.3現地確認。現状維持。 | W81: ③ 謝礼品の送付のために個人情報（住所、氏名、電話番号）を使用すること。
A82: 81 | B82: 天野利記念碑前 | C82: 坪田字下高松5（北側） | D82: 坪田字高松 | E82: 17 | F82: 4 | G82: 八幡３区区長 佐藤 進 | H82: 979-2533 | I82: 相馬市坪田字駒場157 | J82: 36-7641 090-7326-9482 | L82: 1 | M82: あなた様 | R82: 1 | S82: R02.4区長変更 | W82: ③ 謝礼品の送付のために個人情報（住所、氏名、電話番号）を使用すること。
A83: 82 | B83: 今田研修所前（八坂神社前） | C83: 今田字久保前211-2 | D83: 今田字久保前211-2 | E83: 17 | F83: 5 | G83: 八幡１区区長 佐藤 雄一 | H83: 979-2541 | I83: 相馬市今田字山野85 | J83: 36-7503 090-2604-4528 | L83: 1 | M83: あなた様 | R83: 1 | S83: H22.5.31総務課へ確認済。R02.4区長変更 | W83: ③ 謝礼品の送付のために個人情報（住所、氏名、電話番号）を使用すること。
A84: 83 | B84: 佐藤宅前の畑 | C84: 今田字藤堂林143 | D84: 今田字藤堂林143 | E84: 17 | F84: 6 | G84: 佐藤 功 | H84: 979-2541 | I84: 相馬市今田字藤堂林143 | J84: 36-7476 | L84: 1 | M84: あなた様 | Q84: 1 | W84: ③ 謝礼品の送付のために個人情報（住所、氏名、電話番号）を使用すること。
A85: 84 | B85: 八幡公民館前 | C85: 坪田字北田68 | D85: 坪田字北田68 | E85: 17 | F85: 7 | G85: 相馬市教育長（中央公民館） | N85: 1 | P85: 1
A86: 85 | B86: 髙橋宅南側の畑 | C86: 坪田字台町145-4 （南側） | D86: 坪田字台町147-1 | E86: 17 | F86: 8 | G86: 横山 晃一 | H86: 979-2533 | I86: 相馬市坪田字平林125 | J86: 36-7773 （横山 陽子） | L86: 1 | M86: あなた様 | Q86: 1 | S86: H28.7参院選より変更 横山晃一氏（R2.4.11死亡） | W86: ③ 謝礼品の送付のために個人情報（住所、氏名、電話番号）を使用すること。 | X86: 1
A87: 86 | B87: 中城宅北側の畑 | C87: 坪田字牛安沢105-1 （北側） | D87: 坪田字牛安沢105-2 | E87: 17 | F87: 9 | G87: 池田 忠正 | H87: 979-2533 | I87: 相馬市坪田字台町102 | J87: 36-7809 | L87: 1 | M87: あなた様 | Q87: 1 | S87: H28.7参院選より変更 | T87: 番線を切りっぱなしにしない | W87: ③ 謝礼品の送付のために個人情報（住所、氏名、電話番号）を使用すること。
A88: 87 | B88: 松道坂頂上 | C88: 富沢字松道 （松道バス停の南300ｍ） | D88: 富沢字松道334-2 | E88: 18 | F88: 1 | G88: （県有地） | K88: 1 | S88: R01より道路占用申請書提出
A89: 88 | B89: 旧但野宅前の田 | C89: 富沢字松道155 （西側） | D89: 富沢字松道148-1 | E89: 18 | F89: 2 | G89: 大橋 一照 | H89: 976-0037 | I89: 相馬市中野字向陽71 | J89: 36-2864 | L89: 1 | M89: あなた様 | Q89: 1 | W89: ③ 謝礼品の送付のために個人情報（住所、氏名、電話番号）を使用すること。
A90: 89 | B90: 佐藤宅前の畑 | C90: 富沢字北目19 | D90: 富沢字北目19 | E90: 18 | F90: 3 | G90: 佐藤 忠好 | H90: 979-2532 | I90: 相馬市富沢字北目19 | J90: 36-7730 （佐藤 久司） | L90: 1 | M90: あなた様 | Q90: 1 | S90: 佐藤忠好氏（R1.7.22死亡） R6.10.5（土地所有者）佐藤久司氏より承諾条件要望ありTELで設置条件確認済 「錠口から車が出る際に県道通行車両確認に支障があるため、ポスター掲示板は、錠口よりできるだけ南側に離して、県道沿いから西側敷地内に下げて設置」 | W90: ③ 謝礼品の送付のために個人情報（住所、氏名、電話番号）を使用すること。 | X90: 1
A91: 90 | B91: 富沢公会堂向（ゴミステーション付近） | C91: 富沢字ぬかり2 | D91: 富沢字ぬかり2 | E91: 18 | F91: 4 | G91: 相馬市（地域防災対策室） | H91: 976-0042 | I91: 相馬市中村北町63-3 | N91: 1 | P91: 1 | S91: R010610ポスター台帳がJAになっていたが、JAからの指摘により調査した結果、市有地（防災所有。H14.6.25JAより寄付受）であることが判明 富沢字原田372 （東側） | T91: ゴミステーション付近
A92: 91 | B92: 冨田宅前の畑 | C92: 富沢字水神109 | D92: 富沢字水神109 | E92: 18 | F92: 5 | G92: 冨田 博 | H92: 979-2532 | I92: 相馬市富沢字水神107-1 | J92: 36-7662 090-1828-9617 | L92: 1 | M92: あなた様 | Q92: 1 | S92: R05所有者住所変更 （富沢字水神109→富沢字水神107-1） | W92: ③ 謝礼品の送付のために個人情報（住所、氏名、電話番号）を使用すること。
A93: 92 | B93: 国道115号線バイパス交差点西、橋本宅の畑 | C93: 粟津字粟津91-1 | D93: 粟津字粟津91-1 | E93: 19 | F93: 1 | G93: 橋本 義衛 | H93: 976-0152 | I93: 相馬市粟津字粟津91-1 | J93: 36-7409 | L93: 1 | M93: あなた様 | Q93: 1 | S93: R05.5.12掲示場名を修正（国道115号線バイパス交差点西、橋本義衛宅の畑→国道115号線バイパス交差点西、橋本宅の畑） | W93: ③ 謝礼品の送付のために個人情報（住所、氏名、電話番号）を使用すること。
A94: 93 | B94: 旧広瀬停留所 | C94: 山上字山岸21（南側） | D94: 山上字山岸24 | E94: 19 | F94: 2 | G94: （県有地） | K94: 1 | S94: R01より道路占用申請書提出 R05.5.29バス停留所がなくなったため、名称を旧広瀬停留所とした。
A95: 94 | B95: 山岸停留所西側 | C95: 山上字明神53 | D95: 山上字明神53 | E95: 19 | F95: 3 | G95: 髙玉 厚生 | H95: 976-0151 | I95: 相馬市山上字明神63-2 | J95: 36-7575 | L95: 1 | M95: あなた様 | Q95: 1 | S95: R3.9元の場所の所有者変更。設置場所変更。 | T95: R3.9場所変更。 | W95: ③ 謝礼品の送付のために個人情報（住所、氏名、電話番号）を使用すること。
A96: 95 | B96: 今田入口停留所 | C96: 山上字堀坂8-3（東側100ｍ） | D96: 山上字堀坂8－3地先 | E96: 19 | F96: 4 | G96: （県有地） | K96: 1 | S96: R01より道路占用申請書提出
A97: 96 | B97: 山上公民館前 | C97: 山上字上ノ台1-1 | D97: 山上字上ノ台1-1 | E97: 19 | F97: 5 | G97: 相馬市教育長（中央公民館） | N97: 1 | P97: 1
A98: 97 | B98: 横川公会堂（ゴミステーション南） | C98: 山上字入南田137-1 | D98: 山上字入南田137-1 | E98: 19 | F98: 6 | G98: 山上４区区長 佐藤 忠人 | H98: 976-0151 | I98: 相馬市山上字横川227 | J98: 32-5164 | L98: 1 | M98: あなた様 | R98: 1 | S98: H28.7参院選より変更 Ｈ30.4区長変更 | W98: ③ 謝礼品の送付のために個人情報（住所、氏名、電話番号）を使用すること。
A99: 98 | B99: 老人憩の家の北側の土手 | C99: 山上字尖森14-2（北側） | D99: 山上字尖森37-3地先 | E99: 19 | F99: 7 | G99: （県有地） | K99: 1 | S99: R01より道路占用申請書提出 R5.5.11公図上の地番を道路占用申請書で使用している地番に修正（山上字尖森27-1→山上字尖森37-3先） | T99: 立てる時に、老人憩の家に声をかけて場所を確認してください。
A100: 99 | B100: 円渕停留所（西側フェンス） | C100: 山上字円渕10 | D100: 山上字円渕10地先 | E100: 19 | F100: 8 | G100: （県有地） | K100: 1 | S100: R01より道路占用申請書提出
...

Sheet 一覧_庁内借用先_差込用 (15欠番ver)
A1: 設置№ | B1: 管理者 | C1: 担当課 | D1: 設置場所_1 | E1: 住所_1_公図 | F1: 設置場所_2 | G1: 住所_2_公図 | H1: 設置場所_3 | I1: 住所_3_公図 | J1: 設置場所_4 | K1: 住所_4_公図 | L1: 設置場所_5 | M1: 住所_5_公図 | N1: 設置場所_6 | O1: 住所_6_公図 | P1: 設置場所_7 | Q1: 住所_7_公図 | R1: 設置場所_8 | S1: 住所_8_公図 | T1: 設置場所_9 | U1: 住所_9_公図 | V1: 設置場所_10 | W1: 住所_10_公図 | X1: 設置場所_11 | Y1: 住所_11_公図 | Z1: 設置場所_1２ | AA1: 住所_1２_公図 | AB1: 備考
A2: 8 | B2: 相馬市長 | C2: 財政課長 | D2: ='ポスター掲示場一覧メイン (15欠番ver)'!$B$9 -> 市役所西南側フェンス | E2: ='ポスター掲示場一覧メイン (15欠番ver)'!$D$9 -> 中村字北町63-3
A3: 4、90 | B3: 相馬市長 | C3: 地域防災対策室長 | D3: ='ポスター掲示場一覧メイン (15欠番ver)'!$B$5 -> 防災倉庫跡地前 | E3: ='ポスター掲示場一覧メイン (15欠番ver)'!$D$5 -> 西山字表西山50-1 | F3: ='ポスター掲示場一覧メイン (15欠番ver)'!$B$91 -> 富沢公会堂向（ゴミステーション付近） | G3: ='ポスター掲示場一覧メイン (15欠番ver)'!$D$91 -> 富沢字ぬかり2
A4: 22、57 | B4: 相馬市長 | C4: こども家庭課長 | D4: ='ポスター掲示場一覧メイン (15欠番ver)'!$B$23 -> 愛育園南側フェンス | E4: ='ポスター掲示場一覧メイン (15欠番ver)'!$D$23 -> 中野字清水172-2 | F4: ='ポスター掲示場一覧メイン (15欠番ver)'!$B$58 -> 西部子ども公民館西側 | G4: ='ポスター掲示場一覧メイン (15欠番ver)'!$D$58 -> 黒木字町67-1
A5: 17 | B5: 相馬市長 | C5: 高齢福祉課長 | D5: ='ポスター掲示場一覧メイン (15欠番ver)'!$B$18 -> 福祉センターはまなす館（北西側） | E5: ='ポスター掲示場一覧メイン (15欠番ver)'!$D$18 -> 小泉字高池357
A6: 6 | B6: 相馬市長 | C6: 保健センター所長 | D6: ='ポスター掲示場一覧メイン (15欠番ver)'!$B$7 -> 保健センター前 | E6: ='ポスター掲示場一覧メイン (15欠番ver)'!$D$7 -> 中村字大手先44-3
A7: 7、12、13、15、26、38、39、79、118、130、139 | B7: 相馬市長 | C7: 都市整備課長 | D7: ='ポスター掲示場一覧メイン (15欠番ver)'!$B$8 -> 今野宅西側市道敷(空地） | E7: ='ポスター掲示場一覧メイン (15欠番ver)'!$D$8 -> 中村字本町108-1前 | F7: ='ポスター掲示場一覧メイン (15欠番ver)'!$B$13 -> 前沢目公園東側フェンス | G7: ='ポスター掲示場一覧メイン (15欠番ver)'!$D$13 -> 中村字泉町3 | H7: ='ポスター掲示場一覧メイン (15欠番ver)'!$B$14 -> 高池前公園南側フェンス | I7: ='ポスター掲示場一覧メイン (15欠番ver)'!$D$14 -> 中村字高池前44 | J7: ='ポスター掲示場一覧メイン (15欠番ver)'!$B$16 -> 桜ヶ丘公園北側フェンス | K7: ='ポスター掲示場一覧メイン (15欠番ver)'!$D$16 -> 中村字桜ヶ丘154 | L7: ='ポスター掲示場一覧メイン (15欠番ver)'!$B$27 -> 沖ノ内公園北側フェンス | M7: ='ポスター掲示場一覧メイン (15欠番ver)'!$D$27 -> 沖ノ内二丁目6-1 | N7: ='ポスター掲示場一覧メイン (15欠番ver)'!$B$39 -> 高平児童公園南東側 | O7: ='ポスター掲示場一覧メイン (15欠番ver)'!$D$39 -> 尾浜字高塚217 | P7: ='ポスター掲示場一覧メイン (15欠番ver)'!$B$40 -> 尾浜こども公園東側駐車場 | Q7: ='ポスター掲示場一覧メイン (15欠番ver)'!$D$40 -> 尾浜字北ノ入140付近 | R7: ='ポスター掲示場一覧メイン (15欠番ver)'!$B$80 -> 横山宅南側市道敷 | S7: ='ポスター掲示場一覧メイン (15欠番ver)'!$D$80 -> 成田字天王前228南側 | T7: ='ポスター掲示場一覧メイン (15欠番ver)'!$B$119 -> 柚木遊歩道階段東側市道敷 | U7: ='ポスター掲示場一覧メイン (15欠番ver)'!$D$119 -> 柚木字一ノ坪105-12 | V7: ='ポスター掲示場一覧メイン (15欠番ver)'!$B$131 -> 玉野橋停留所南側 | W7: ='ポスター掲示場一覧メイン (15欠番ver)'!$D$131 -> 玉野字孫左エ門沢84-1地先 | X7: ='ポスター掲示場一覧メイン (15欠番ver)'!$B$140 -> 中島ストア東側緑地 | Y7: ='ポスター掲示場一覧メイン (15欠番ver)'!$D$140 -> 新沼字刈敷田21-34
A8: 1、21、28、64 | B8: 相馬市長 | C8: 建築課長 | D8: ='ポスター掲示場一覧メイン (15欠番ver)'!$B$2 -> 市営長谷堂住宅入口 | E8: ='ポスター掲示場一覧メイン (15欠番ver)'!$D$2 -> 西山字長谷堂9-9 | F8: ='ポスター掲示場一覧メイン (15欠番ver)'!$B$22 -> 市営黒木田住宅前 | G8: ='ポスター掲示場一覧メイン (15欠番ver)'!$D$22 -> 中野字黒木田152-1 | H8: ='ポスター掲示場一覧メイン (15欠番ver)'!$B$29 -> 中村幼稚園入口、警察官舎前 | I8: ='ポスター掲示場一覧メイン (15欠番ver)'!$D$29 -> 新沼字坪ヶ迫1-1 | J8: ='ポスター掲示場一覧メイン (15欠番ver)'!$B$65 -> 程田明神前住宅団地前（東端） | K8: ='ポスター掲示場一覧メイン (15欠番ver)'!$D$65 -> 程田字明神前257-52
A9: 16、 111 | B9: 相馬市長 | C9: 商工観光課長 | D9: ='ポスター掲示場一覧メイン (15欠番ver)'!$B$17 -> はまなす商店街看板北側 | E9: ='ポスター掲示場一覧メイン (15欠番ver)'!$D$17 -> 中村字塚田62、72 | F9: ='ポスター掲示場一覧メイン (15欠番ver)'!$B$112 -> 道の駅そうま体験実習館前（国道側） | G9: ='ポスター掲示場一覧メイン (15欠番ver)'!$D$112 -> 立谷字立谷467
A10: 20、31、63、121、122 | B10: 相馬市教育長 | C10: 総務課長 | D10: ='ポスター掲示場一覧メイン (15欠番ver)'!$B$21 -> 向陽中学校敷地北側（ネットフェンス前） | E10: ='ポスター掲示場一覧メイン (15欠番ver)'!$D$21 -> 中野字桜町76 | F10: ='ポスター掲示場一覧メイン (15欠番ver)'!$B$32 -> 中村第二小学校前土手 | G10: ='ポスター掲示場一覧メイン (15欠番ver)'!$D$32 -> 尾浜字細田1 | H10: ='ポスター掲示場一覧メイン (15欠番ver)'!$B$64 -> 飯豊小学校西側フェンス | I10: ='ポスター掲示場一覧メイン (15欠番ver)'!$D$64 -> 大曲字天神前42 | J10: ='ポスター掲示場一覧メイン (15欠番ver)'!B122 -> 磯部小学校西側（フェンス） | K10: ='ポスター掲示場一覧メイン (15欠番ver)'!C122 -> 磯部字上ノ台467-2 | L10: ='ポスター掲示場一覧メイン (15欠番ver)'!$B$123 -> 磯部中学校北側 | M10: ='ポスター掲示場一覧メイン (15欠番ver)'!$D$123 -> 磯部字狐穴647
A11: 41、70、145 | B11: 相馬市教育長 | C11: 生涯学習課長 | D11: ='ポスター掲示場一覧メイン (15欠番ver)'!$B$42 -> 光陽パークゴルフ場入口 | E11: ='ポスター掲示場一覧メイン (15欠番ver)'!$D$42 -> 光陽四丁目2-5 | F11: ='ポスター掲示場一覧メイン (15欠番ver)'!$B$71 -> 松川浦スポーツセンターゴミステーション東側 | G11: ='ポスター掲示場一覧メイン (15欠番ver)'!$D$71 -> 岩子字長谷地10-1 | H11: ='ポスター掲示場一覧メイン (15欠番ver)'!$B$146 -> 光陽サッカー場正面入口（東側） | I11: ='ポスター掲示場一覧メイン (15欠番ver)'!$D$146 -> 光陽三丁目3-1
A12: 54、84、96、108 | B12: 相馬市教育長 | C12: 中央公民館長 | D12: ='ポスター掲示場一覧メイン (15欠番ver)'!$B$55 -> 大野公民館前（フェンス） | E12: ='ポスター掲示場一覧メイン (15欠番ver)'!$D$55 -> 石上字鵃沢326-1 | F12: ='ポスター掲示場一覧メイン (15欠番ver)'!$B$85 -> 八幡公民館前 | G12: ='ポスター掲示場一覧メイン (15欠番ver)'!$D$85 -> 坪田字北田68 | H12: ='ポスター掲示場一覧メイン (15欠番ver)'!$B$97 -> 山上公民館前 | I12: ='ポスター掲示場一覧メイン (15欠番ver)'!$D$97 -> 山上字上ノ台1-1 | J12: ='ポスター掲示場一覧メイン (15欠番ver)'!$B$109 -> 日立木公民館前 | K12: ='ポスター掲示場一覧メイン (15欠番ver)'!$D$109 -> 日下石字高根沢31
B14: 「依頼文_相馬市あて」と一致 | C14: =SUM(D14:Z14) -> 36 | D14: =COUNTA(D2:D12) -> 11 | F14: =COUNTA(F2:F12) -> 8 | H14: =COUNTA(H2:H12) -> 5 | J14: =COUNTA(J2:J12) -> 4 | L14: =COUNTA(L2:L12) -> 2 | N14: =COUNTA(N2:N12) -> 1 | P14: =COUNTA(P2:P12) -> 1 | R14: =COUNTA(R2:R12) -> 1 | T14: =COUNTA(T2:T12) -> 1 | V14: =COUNTA(V2:V12) -> 1 | X14: =COUNTA(X2:X12) -> 1 | Z14: =COUNTA(Z2:Z12) -> 0
C15: =C14=#REF! -> #REF!

Sheet 一覧_謝礼送付用 (15欠番ver)
A1: 設置№ | B1: 掲示場名 | C1: 所在地 （住宅地図対応） | D1: 掲示場住所（公図） | E1: 投票区 | F1: 区毎 番号 | G1: 所有者等氏名 | H1: 郵便番号 | I1: 住所 | J1: 電話番号 | K1: 依頼文 別文書あり | L1: 依頼文 あらかじめ文書 | M1: 依頼文 肩書_差込用 | N1: 依頼文 相馬市あて | O1: 依頼文 なし | P1: 依頼文 文書箱 | Q1: （謝礼） 宅急便 | R1: （謝礼） 文書箱 | S1: 備考 | T1: 業者へ指示事項 | U1: 謝礼確認 | V1: ←謝礼確認の1を抽出する。
A2: 1 | B2: ='ポスター掲示場一覧メイン (15欠番ver)'!B2 -> 市営長谷堂住宅入口 | C2: ='ポスター掲示場一覧メイン (15欠番ver)'!C2 -> 西山字長谷堂9-9 | D2: ='ポスター掲示場一覧メイン (15欠番ver)'!D2 -> 西山字長谷堂9-9 | E2: ='ポスター掲示場一覧メイン (15欠番ver)'!E2 -> 1 | F2: ='ポスター掲示場一覧メイン (15欠番ver)'!F2 -> 1 | G2: ='ポスター掲示場一覧メイン (15欠番ver)'!G2 -> 相馬市（建築課） | H2: ='ポスター掲示場一覧メイン (15欠番ver)'!H2 | I2: ='ポスター掲示場一覧メイン (15欠番ver)'!I2 | ... T2: ='ポスター掲示場一覧メイン (15欠番ver)'!T2 -> 0 | U2: =Q2+R2 -> 0
A3: 2 | B3: ='ポスター掲示場一覧メイン (15欠番ver)'!B3 -> そうま土地改良区道路側ブロック | C3: ='ポスター掲示場一覧メイン (15欠番ver)'!C3 -> 西山字表西山76 | D3: ='ポスター掲示場一覧メイン (15欠番ver)'!D3 -> 西山字表西山76 | E3: ='ポスター掲示場一覧メイン (15欠番ver)'!E3 -> 1 | F3: ='ポスター掲示場一覧メイン (15欠番ver)'!F3 -> 2 | G3: ='ポスター掲示場一覧メイン (15欠番ver)'!G3 -> 相馬地方広域水道企業団 | H3: ='ポスター掲示場一覧メイン (15欠番ver)'!H3 -> 976-0001 | I3: ='ポスター掲示場一覧メイン (15欠番ver)'!I3 -> 相馬市大野台二丁目3-5 | ... T3: ='ポスター掲示場一覧メイン (15欠番ver)'!T3 -> 0 | U3: =Q3+R3 -> 0
A4: 3 | B4: ='ポスター掲示場一覧メイン (15欠番ver)'!B4 -> 清野宅西側県有地（県道相馬大内線沿） | C4: ='ポスター掲示場一覧メイン (15欠番ver)'!C4 -> 西山字水沢316-5（西側） | D4: ='ポスター掲示場一覧メイン (15欠番ver)'!D4 -> 西山字水沢316-9 | E4: ='ポスター掲示場一覧メイン (15欠番ver)'!E4 -> 1 | F4: ='ポスター掲示場一覧メイン (15欠番ver)'!F4 -> 3 | G4: ='ポスター掲示場一覧メイン (15欠番ver)'!G4 -> （県有地：公衆用道路で登記） | H4: ='ポスター掲示場一覧メイン (15欠番ver)'!H4 -> 0 | I4: ='ポスター掲示場一覧メイン (15欠番ver)'!I4 -> 0 | ... T4: ='ポスター掲示場一覧メイン (15欠番ver)'!T4 -> 0 | U4: =Q4+R4 -> 0
A5: 4 | B5: ='ポスター掲示場一覧メイン (15欠番ver)'!B5 -> 防災倉庫跡地前 | C5: ='ポスター掲示場一覧メイン (15欠番ver)'!C5 -> 西山字表西山50-1 | D5: ='ポスター掲示場一覧メイン (15欠番ver)'!D5 -> 西山字表西山50-1 | E5: ='ポスター掲示場一覧メイン (15欠番ver)'!E5 -> 1 | F5: ='ポスター掲示場一覧メイン (15欠番ver)'!F5 -> 4 | G5: ='ポスター掲示場一覧メイン (15欠番ver)'!G5 -> 相馬市（地域防災対策室） | H5: ='ポスター掲示場一覧メイン (15欠番ver)'!H5 | I5: ='ポスター掲示場一覧メイン (15欠番ver)'!I5 -> 0 | ... T5: ='ポスター掲示場一覧メイン (15欠番ver)'!T5 -> 0 | U5: =Q5+R5 -> 0
A6: 5 | B6: ='ポスター掲示場一覧メイン (15欠番ver)'!B6 -> 相馬高等学校南側フェンス | C6: ='ポスター掲示場一覧メイン (15欠番ver)'!C6 -> 中村字大手先57-1 | D6: ='ポスター掲示場一覧メイン (15欠番ver)'!D6 -> 中村字大手先57-1 | E6: ='ポスター掲示場一覧メイン (15欠番ver)'!E6 -> 1 | F6: ='ポスター掲示場一覧メイン (15欠番ver)'!F6 -> 5 | G6: ='ポスター掲示場一覧メイン (15欠番ver)'!G6 -> 福島県立相馬高等学校長 | H6: ='ポスター掲示場一覧メイン (15欠番ver)'!H6 -> 976-0042 | I6: ='ポスター掲示場一覧メイン (15欠番ver)'!I6 -> 相馬市中村字大手先57-1 | ... T6: ='ポスター掲示場一覧メイン (15欠番ver)'!T6 -> 0 | U6: =Q6+R6 -> 0
A7: 6 | B7: ='ポスター掲示場一覧メイン (15欠番ver)'!B7 -> 保健センター前 | C7: ='ポスター掲示場一覧メイン (15欠番ver)'!C7 -> 中村字大手先44-3 | D7: ='ポスター掲示場一覧メイン (15欠番ver)'!D7 -> 中村字大手先44-3 | E7: ='ポスター掲示場一覧メイン (15欠番ver)'!E7 -> 1 | F7: ='ポスター掲示場一覧メイン (15欠番ver)'!F7 -> 6 | G7: ='ポスター掲示場一覧メイン (15欠番ver)'!G7 -> 相馬市（保健センター） | H7: ='ポスター掲示場一覧メイン (15欠番ver)'!H7 | I7: ='ポスター掲示場一覧メイン (15欠番ver)'!I7 | ... T7: ='ポスター掲示場一覧メイン (15欠番ver)'!T7 -> 0 | U7: =Q7+R7 -> 0
A8: 7 | B8: ='ポスター掲示場一覧メイン (15欠番ver)'!B8 -> 今野宅西側市道敷(空地） | C8: ='ポスター掲示場一覧メイン (15欠番ver)'!C8 -> 中村字本町108 | D8: ='ポスター掲示場一覧メイン (15欠番ver)'!D8 -> 中村字本町108-1前 | E8: ='ポスター掲示場一覧メイン (15欠番ver)'!E8 -> 1 | F8: ='ポスター掲示場一覧メイン (15欠番ver)'!F8 -> 7 | G8: ='ポスター掲示場一覧メイン (15欠番ver)'!G8 -> 相馬市（都市整備課） | H8: ='ポスター掲示場一覧メイン (15欠番ver)'!H8 | I8: ='ポスター掲示場一覧メイン (15欠番ver)'!I8 -> 0 | ... T8: ='ポスター掲示場一覧メイン (15欠番ver)'!T8 -> 0 | U8: =Q8+R8 -> 0
A9: 8 | B9: ='ポスター掲示場一覧メイン (15欠番ver)'!B9 -> 市役所西南側フェンス | C9: ='ポスター掲示場一覧メイン (15欠番ver)'!C9 -> 中村字北町63-3 | D9: ='ポスター掲示場一覧メイン (15欠番ver)'!D9 -> 中村字北町63-3 | E9: ='ポスター掲示場一覧メイン (15欠番ver)'!E9 -> 2 | F9: ='ポスター掲示場一覧メイン (15欠番ver)'!F9 -> 1 | G9: ='ポスター掲示場一覧メイン (15欠番ver)'!G9 -> 相馬市（財政課） | H9: ='ポスター掲示場一覧メイン (15欠番ver)'!H9 | I9: ='ポスター掲示場一覧メイン (15欠番ver)'!I9 -> 0 | ... T9: ='ポスター掲示場一覧メイン (15欠番ver)'!T9 -> 0 | U9: =Q9+R9 -> 0
A10: 9 | B10: ='ポスター掲示場一覧メイン (15欠番ver)'!B10 -> 振興公社ビル駐車場南端フェンス | C10: ='ポスター掲示場一覧メイン (15欠番ver)'!C10 -> 中村字塚ノ町65-16 | D10: ='ポスター掲示場一覧メイン (15欠番ver)'!D10 -> 中村字塚ノ町65-16 | E10: ='ポスター掲示場一覧メイン (15欠番ver)'!E10 -> 2 | F10: ='ポスター掲示場一覧メイン (15欠番ver)'!F10 -> 2 | G10: ='ポスター掲示場一覧メイン (15欠番ver)'!G10 -> ㈱相馬市振興公社 | H10: ='ポスター掲示場一覧メイン (15欠番ver)'!H10 -> 976-0042 | I10: ='ポスター掲示場一覧メイン (15欠番ver)'!I10 -> 相馬市中村字塚ノ町65-16 | ... T10: ='ポスター掲示場一覧メイン (15欠番ver)'!T10 -> 0 | U10: =Q10+R10 -> 0
A11: 10 | B11: ='ポスター掲示場一覧メイン (15欠番ver)'!B11 -> 東邦銀行相馬支店南側国道沿 | C11: ='ポスター掲示場一覧メイン (15欠番ver)'!C11 -> 中村字大町58-1 | D11: ='ポスター掲示場一覧メイン (15欠番ver)'!D11 -> 中村字大町58-1 | E11: ='ポスター掲示場一覧メイン (15欠番ver)'!E11 -> 2 | F11: ='ポスター掲示場一覧メイン (15欠番ver)'!F11 -> 3 | G11: ='ポスター掲示場一覧メイン (15欠番ver)'!G11 -> ㈱東邦銀行相馬支店長 | H11: ='ポスター掲示場一覧メイン (15欠番ver)'!H11 -> 976-0042 | I11: ='ポスター掲示場一覧メイン (15欠番ver)'!I11 -> 相馬市中村字大町58-1 | ... T11: ='ポスター掲示場一覧メイン (15欠番ver)'!T11 -> 0 | U11: =Q11+R11 -> 1
A12: 11 | B12: ='ポスター掲示場一覧メイン (15欠番ver)'!B12 -> シーシャBAR＆カラオケ北側フェンス | C12: ='ポスター掲示場一覧メイン (15欠番ver)'!C12 -> 中村字新町10-1 | D12: ='ポスター掲示場一覧メイン (15欠番ver)'!D12 -> 中村字新町10-5 | E12: ='ポスター掲示場一覧メイン (15欠番ver)'!E12 -> 2 | F12: ='ポスター掲示場一覧メイン (15欠番ver)'!F12 -> 4 | G12: ='ポスター掲示場一覧メイン (15欠番ver)'!G12 -> 勇建設株式会社 代表取締役 松岡 勇太 | H12: ='ポスター掲示場一覧メイン (15欠番ver)'!H12 -> 976-0007 | I12: ='ポスター掲示場一覧メイン (15欠番ver)'!I12 -> 相馬市大坪字馬見塚112番地 | ... T12: ='ポスター掲示場一覧メイン (15欠番ver)'!T12 -> 0 | U12: =Q12+R12 -> 1
A13: 12 | B13: ='ポスター掲示場一覧メイン (15欠番ver)'!B13 -> 前沢目公園東側フェンス | C13: ='ポスター掲示場一覧メイン (15欠番ver)'!C13 -> 中村字泉町3 | D13: ='ポスター掲示場一覧メイン (15欠番ver)'!D13 -> 中村字泉町3 | E13: ='ポスター掲示場一覧メイン (15欠番ver)'!E13 -> 3 | F13: ='ポスター掲示場一覧メイン (15欠番ver)'!F13 -> 1 | G13: ='ポスター掲示場一覧メイン (15欠番ver)'!G13 -> 相馬市（都市整備課） | H13: ='ポスター掲示場一覧メイン (15欠番ver)'!H13 | I13: ='ポスター掲示場一覧メイン (15欠番ver)'!I13 | ... T13: ='ポスター掲示場一覧メイン (15欠番ver)'!T13 -> 0 | U13: =Q13+R13 -> 0
... A65: 64 | B65: ='ポスター掲示場一覧メイン (15欠番ver)'!B65 -> 程田明神前住宅団地前（東端） | C65: ='ポスター掲示場一覧メイン (15欠番ver)'!C65 -> 程田字明神前257-52（南側） | D65: ='ポスター掲示場一覧メイン (15欠番ver)'!D65 -> 程田字明神前257-52 | E65: ='ポスター掲示場一覧メイン (15欠番ver)'!E65 -> 14 | F65: ='ポスター掲示場一覧メイン (15欠番ver)'!F65 -> 2 | G65: ='ポスター掲示場一覧メイン (15欠番ver)'!G65 -> 相馬市（建築課） | H65: ='ポスター掲示場一覧メイン (15欠番ver)'!H65 | I65: ='ポスター掲示場一覧メイン (15欠番ver)'!I65 | ... T65: ='ポスター掲示場一覧メイン (15欠番ver)'!T65 -> ごみステーションわきに設置。地下の防火水槽に注意して設置してください。 | U65: =Q65+R65 -> 0
A66: 65 | B66: ='ポスター掲示場一覧メイン (15欠番ver)'!B66 -> 荒宅向の畑、交通安全立看板の東 | C66: =#REF! -> #REF! | D66: =#REF! -> #REF! | E66: =#REF! -> #REF! | F66: =#REF! -> #REF! | G66: ='ポスター掲示場一覧メイン (15欠番ver)'!G66 -> 荒 信 | H66: ='ポスター掲示場一覧メイン (15欠番ver)'!H66 -> 976-0034 | I66: ='ポスター掲示場一覧メイン (15欠番ver)'!I66 -> 相馬市柏崎字中台2 | J66: ='ポスター掲示場一覧メイン (15欠番ver)'!J66 -> 36-7976 | K66: =#REF! -> #REF! | L66: =#REF! -> #REF! | M66: =#REF! -> #REF! | N66: =#REF! -> #REF! | O66: =#REF! -> #REF! | P66: =#REF! -> #REF! | Q66: ='ポスター掲示場一覧メイン (15欠番ver)'!Q66 -> 1 | R66: ='ポスター掲示場一覧メイン (15欠番ver)'!R66 -> 0 | S66: ='ポスター掲示場一覧メイン (15欠番ver)'!S66 -> 0 | T66: ='ポスター掲示場一覧メイン (15欠番ver)'!T66 -> 交通安全立看板の東（西の畑は所有者が違うので注意） | U66: =Q66+R66 -> 1
A67: 66 | B67: ='ポスター掲示場一覧メイン (15欠番ver)'!B67 -> 太田宅前の畑 | C67: ='ポスター掲示場一覧メイン (15欠番ver)'!C66 -> 柏崎字中台2 （北側） | D67: ='ポスター掲示場一覧メイン (15欠番ver)'!D66 -> 柏崎字中台2（北側） | E67: ='ポスター掲示場一覧メイン (15欠番ver)'!E66 -> 14 | F67: ='ポスター掲示場一覧メイン (15欠番ver)'!F66 -> 3 | G67: ='ポスター掲示場一覧メイン (15欠番ver)'!G67 -> 太田 榮子 | H67: ='ポスター掲示場一覧メイン (15欠番ver)'!H67 -> 976-0034 | I67: ='ポスター掲示場一覧メイン (15欠番ver)'!I67 -> 相馬市柏崎字西台63 | J67: ='ポスター掲示場一覧メイン (15欠番ver)'!J67 -> 36-0174 | K67: ='ポスター掲示場一覧メイン (15欠番ver)'!K66 -> 0 | L67: ='ポスター掲示場一覧メイン (15欠番ver)'!L66 -> 1 | M67: ='ポスター掲示場一覧メイン (15欠番ver)'!M66 -> あなた様 | N67: ='ポスター掲示場一覧メイン (15欠番ver)'!N66 -> 0 | O67: ='ポスター掲示場一覧メイン (15欠番ver)'!O66 -> 0 | P67: ='ポスター掲示場一覧メイン (15欠番ver)'!P66 -> 0 | Q67: ='ポスター掲示場一覧メイン (15欠番ver)'!Q67 -> 1 | R67: ='ポスター掲示場一覧メイン (15欠番ver)'!R67 -> 0 | S67: ='ポスター掲示場一覧メイン (15欠番ver)'!S67 -> 0 | T67: ='ポスター掲示場一覧メイン (15欠番ver)'!T67 -> 0 | U67: =Q67+R67 -> 1
A68: 67 | B68: ='ポスター掲示場一覧メイン (15欠番ver)'!B68 -> 草野建設倉庫東側歩道ガードフェンス | C68: ='ポスター掲示場一覧メイン (15欠番ver)'!C67 -> 柏崎字西台63 （東側） | D68: ='ポスター掲示場一覧メイン (15欠番ver)'!D67 -> 柏崎字西台63（東側） | E68: ='ポスター掲示場一覧メイン (15欠番ver)'!E67 -> 14 | F68: ='ポスター掲示場一覧メイン (15欠番ver)'!F67 -> 4 | G68: ='ポスター掲示場一覧メイン (15欠番ver)'!G68 -> （市有地） | H68: ='ポスター掲示場一覧メイン (15欠番ver)'!H68 -> 0 | I68: ='ポスター掲示場一覧メイン (15欠番ver)'!I68 | J68: ='ポスター掲示場一覧メイン (15欠番ver)'!J68 -> 0 | K68: ='ポスター掲示場一覧メイン (15欠番ver)'!K67 -> 0 | L68: ='ポスター掲示場一覧メイン (15欠番ver)'!L67 -> 1 | M68: ='ポスター掲示場一覧メイン (15欠番ver)'!M67 -> あなた様 | N68: ='ポスター掲示場一覧メイン (15欠番ver)'!N67 -> 0 | O68: ='ポスター掲示場一覧メイン (15欠番ver)'!O67 -> 0 | P68: ='ポスター掲示場一覧メイン (15欠番ver)'!P67 -> 0 | Q68: ='ポスター掲示場一覧メイン (15欠番ver)'!Q68 -> 0 | R68: ='ポスター掲示場一覧メイン (15欠番ver)'!R68 -> 0 | S68: ='ポスター掲示場一覧メイン (15欠番ver)'!S68 -> R4参院選より市道上へ変更 | T68: ='ポスター掲示場一覧メイン (15欠番ver)'!T68 -> R4設置箇所市道へ変更 | U68: =Q68+R68 -> 0
A69: 68 | B69: ='ポスター掲示場一覧メイン (15欠番ver)'!B69 -> 佐伯宅前の畑 | C69: ='ポスター掲示場一覧メイン (15欠番ver)'!C68 -> 程田字形部田26（倉庫東側歩道） | D69: ='ポスター掲示場一覧メイン (15欠番ver)'!D68 -> 程田字形部田85-14 | E69: ='ポスター掲示場一覧メイン (15欠番ver)'!E68 -> 14 | F69: ='ポスター掲示場一覧メイン (15欠番ver)'!F68 -> 5 | G69: ='ポスター掲示場一覧メイン (15欠番ver)'!G69 -> 遠藤 友幸 | H69: ='ポスター掲示場一覧メイン (15欠番ver)'!H69 -> 976-0025 | I69: ='ポスター掲示場一覧メイン (15欠番ver)'!I69 -> 相馬市岩子字北稲田150 | J69: ='ポスター掲示場一覧メイン (15欠番ver)'!J69 -> 35-2982 090-4889-0845 | K69: ='ポスター掲示場一覧メイン (15欠番ver)'!K68 -> 0 | L69: ='ポスター掲示場一覧メイン (15欠番ver)'!L68 -> 0 | M69: ='ポスター掲示場一覧メイン (15欠番ver)'!M68 -> 0 | N69: ='ポスター掲示場一覧メイン (15欠番ver)'!N68 -> 0 | O69: ='ポスター掲示場一覧メイン (15欠番ver)'!O68 -> 1 | P69: ='ポスター掲示場一覧メイン (15欠番ver)'!P68 -> 0 | Q69: ='ポスター掲示場一覧メイン (15欠番ver)'!Q69 -> 1 | R69: ='ポスター掲示場一覧メイン (15欠番ver)'!R69 -> 0 | S69: ='ポスター掲示場一覧メイン (15欠番ver)'!S69 -> H27.1場所変更 R3.10.12所有者変更息子へ | T69: ='ポスター掲示場一覧メイン (15欠番ver)'!T69 -> 0 | U69: =Q69+R69 -> 1
A70: 69 | B70: ='ポスター掲示場一覧メイン (15欠番ver)'!B70 -> 岩子防災集合所向の畑 | C70: ='ポスター掲示場一覧メイン (15欠番ver)'!C69 -> 岩子字北稲田154-1 （南側） | D70: ='ポスター掲示場一覧メイン (15欠番ver)'!D69 -> 岩子字稲田10-1 | E70: ='ポスター掲示場一覧メイン (15欠番ver)'!E69 -> 14 | F70: ='ポスター掲示場一覧メイン (15欠番ver)'!F69 -> 6 | G70: ='ポスター掲示場一覧メイン (15欠番ver)'!G70 -> 岡本 俶享 | H70: ='ポスター掲示場一覧メイン (15欠番ver)'!H70 -> 976-0025 | I70: ='ポスター掲示場一覧メイン (15欠番ver)'!I70 -> 相馬市岩子字数馬22 | J70: ='ポスター掲示場一覧メイン (15欠番ver)'!J70 -> 35-2459、090-5239-7133 | K70: ='ポスター掲示場一覧メイン (15欠番ver)'!K69 -> 0 | L70: ='ポスター掲示場一覧メイン (15欠番ver)'!L69 -> 1 | M70: ='ポスター掲示場一覧メイン (15欠番ver)'!M69 -> あなた様 | N70: ='ポスター掲示場一覧メイン (15欠番ver)'!N69 -> 0 | O70: ='ポスター掲示場一覧メイン (15欠番ver)'!O69 -> 0 | P70: ='ポスター掲示場一覧メイン (15欠番ver)'!P69 -> 0 | Q70: ='ポスター掲示場一覧メイン (15欠番ver)'!Q70 -> 1 | R70: ='ポスター掲示場一覧メイン (15欠番ver)'!R70 -> 0 | S70: ='ポスター掲示場一覧メイン (15欠番ver)'!S70 -> 0 | T70: ='ポスター掲示場一覧メイン (15欠番ver)'!T70 -> 0 | U70: =Q70+R70 -> 1
A71: 70 | B71: ='ポスター掲示場一覧メイン (15欠番ver)'!B71 -> 松川浦スポーツセンターゴミステーション東側 | C71: ='ポスター掲示場一覧メイン (15欠番ver)'!C70 -> 岩子字数馬206-3 （北側） | D71: ='ポスター掲示場一覧メイン (15欠番ver)'!D70 -> 岩子字数馬198-1 | E71: ='ポスター掲示場一覧メイン (15欠番ver)'!E70 -> 14 | F71: ='ポスター掲示場一覧メイン (15欠番ver)'!F70 -> 7 | G71: ='ポスター掲示場一覧メイン (15欠番ver)'!G71 -> 相馬市教育長（生涯学習課） | H71: ='ポスター掲示場一覧メイン (15欠番ver)'!H71 -> 0 | I71: ='ポスター掲示場一覧メイン (15欠番ver)'!I71 -> 0 | J71: ='ポスター掲示場一覧メイン (15欠番ver)'!J71 -> 0 | K71: ='ポスター掲示場一覧メイン (15欠番ver)'!K70 -> 0 | L71: ='ポスター掲示場一覧メイン (15欠番ver)'!L70 -> 1 | M71: ='ポスター掲示場一覧メイン (15欠番ver)'!M70 -> あなた様 | N71: ='ポスター掲示場一覧メイン (15欠番ver)'!N70 -> 0 | O71: ='ポスター掲示場一覧メイン (15欠番ver)'!O70 -> 0 | P71: ='ポスター掲示場一覧メイン (15欠番ver)'!P70 -> 0 | Q71: ='ポスター掲示場一覧メイン (15欠番ver)'!Q71 -> 0 | R71: ='ポスター掲示場一覧メイン (15欠番ver)'!R71 -> 0 | S71: ='ポスター掲示場一覧メイン (15欠番ver)'!S71 -> R6から投票所統合により北側ゴミステーション隣へ移動 | T71: ='ポスター掲示場一覧メイン (15欠番ver)'!T71 -> 0 | U71: =Q71+R71 -> 0
A72: 71 | B72: ='ポスター掲示場一覧メイン (15欠番ver)'!B72 -> 佐藤宅北側 | C72: =#REF! -> #REF! | D72: =#REF! -> #REF! | E72: =#REF! -> #REF! | F72: =#REF! -> #REF! | G72: ='ポスター掲示場一覧メイン (15欠番ver)'!G72 -> 佐藤 清一 | H72: ='ポスター掲示場一覧メイン (15欠番ver)'!H72 -> 976-0026 | I72: ='ポスター掲示場一覧メイン (15欠番ver)'!I72 -> 相馬市南飯渕字木関無102 | J72: ='ポスター掲示場一覧メイン (15欠番ver)'!J72 -> 36-2415 35-5698 | K72: =#REF! -> #REF! | L72: =#REF! -> #REF! | M72: =#REF! -> #REF! | N72: =#REF! -> #REF! | O72: =#REF! -> #REF! | P72: =#REF! -> #REF! | Q72: ='ポスター掲示場一覧メイン (15欠番ver)'!Q72 -> 1 | R72: ='ポスター掲示場一覧メイン (15欠番ver)'!R72 -> 0 | S72: ='ポスター掲示場一覧メイン (15欠番ver)'!S72 -> 0 | T72: ='ポスター掲示場一覧メイン (15欠番ver)'!T72 -> 0 | U72: =Q72+R72 -> 1
A73: 72 | B73: ='ポスター掲示場一覧メイン (15欠番ver)'!B73 -> 横山宅後（裏） | C73: =#REF! -> #REF! | D73: =#REF! -> #REF! | E73: =#REF! -> #REF! | F73: =#REF! -> #REF! | G73: ='ポスター掲示場一覧メイン (15欠番ver)'!G73 -> 横山 弘 | H73: ='ポスター掲示場一覧メイン (15欠番ver)'!H73 -> 976-0026 | I73: ='ポスター掲示場一覧メイン (15欠番ver)'!I73 -> 相馬市南飯渕字明神6 | J73: ='ポスター掲示場一覧メイン (15欠番ver)'!J73 -> 35-3996 | K73: =#REF! -> #REF! | L73: =#REF! -> #REF! | M73: =#REF! -> #REF! | N73: =#REF! -> #REF! | O73: =#REF! -> #REF! | P73: =#REF! -> #REF! | Q73: ='ポスター掲示場一覧メイン (15欠番ver)'!Q73 -> 1 | R73: ='ポスター掲示場一覧メイン (15欠番ver)'!R73 -> 0 | S73: ='ポスター掲示場一覧メイン (15欠番ver)'!S73 -> 0 | T73: ='ポスター掲示場一覧メイン (15欠番ver)'!T73 -> 0 | U73: =Q73+R73 -> 1
A74: 73 | B74: ='ポスター掲示場一覧メイン (15欠番ver)'!B74 -> 水澤宅向の畑 | C74: ='ポスター掲示場一覧メイン (15欠番ver)'!C71 -> 岩子字長谷地10-1 | D74: ='ポスター掲示場一覧メイン (15欠番ver)'!D71 -> 岩子字長谷地10-1 | E74: ='ポスター掲示場一覧メイン (15欠番ver)'!E71 -> 14 | F74: ='ポスター掲示場一覧メイン (15欠番ver)'!F71 -> 8 | G74: ='ポスター掲示場一覧メイン (15欠番ver)'!G74 -> 水澤 孝行 | H74: ='ポスター掲示場一覧メイン (15欠番ver)'!H74 -> 976-0032 | I74: ='ポスター掲示場一覧メイン (15欠番ver)'!I74 -> 相馬市大曲字大毛内202 | J74: ='ポスター掲示場一覧メイン (15欠番ver)'!J74 -> 35-5854 | K74: ='ポスター掲示場一覧メイン (15欠番ver)'!K71 -> 0 | L74: ='ポスター掲示場一覧メイン (15欠番ver)'!L71 -> 0 | M74: ='ポスター掲示場一覧メイン (15欠番ver)'!M71 -> 0 | N74: ='ポスター掲示場一覧メイン (15欠番ver)'!N71 -> 1 | O74: ='ポスター掲示場一覧メイン (15欠番ver)'!O71 -> 0 | P74: ='ポスター掲示場一覧メイン (15欠番ver)'!P71 -> 1 | Q74: ='ポスター掲示場一覧メイン (15欠番ver)'!Q74 -> 1 | R74: ='ポスター掲示場一覧メイン (15欠番ver)'!R74 -> 0 | S74: ='ポスター掲示場一覧メイン (15欠番ver)'!S74 -> 0 | T74: ='ポスター掲示場一覧メイン (15欠番ver)'!T74 -> 0 | U74: =Q74+R74 -> 1
A75: 74 | B75: ='ポスター掲示場一覧メイン (15欠番ver)'!B75 -> 馬場野多目的集会所前 | C75: ='ポスター掲示場一覧メイン (15欠番ver)'!C72 -> 南飯渕字木関無102 | D75: ='ポスター掲示場一覧メイン (15欠番ver)'!D72 -> 南飯渕字木関無102 | E75: ='ポスター掲示場一覧メイン (15欠番ver)'!E72 -> 16 | F75: ='ポスター掲示場一覧メイン (15欠番ver)'!F72 -> 1 | G75: ='ポスター掲示場一覧メイン (15欠番ver)'!G75 -> 飯豊７区区長 寺島 眞一 | H75: ='ポスター掲示場一覧メイン (15欠番ver)'!H75 -> 976-0036 | I75: ='ポスター掲示場一覧メイン (15欠番ver)'!I75 -> 相馬市馬場野字鹿島前67 | J75: ='ポスター掲示場一覧メイン (15欠番ver)'!J75 -> 35-2898 | K75: ='ポスター掲示場一覧メイン (15欠番ver)'!K72 -> 0 | L75: ='ポスター掲示場一覧メイン (15欠番ver)'!L72 -> 1 | M75: ='ポスター掲示場一覧メイン (15欠番ver)'!M72 -> あなた様 | N75: ='ポスター掲示場一覧メイン (15欠番ver)'!N72 -> 0 | O75: ='ポスター掲示場一覧メイン (15欠番ver)'!O72 -> 0 | P75: ='ポスター掲示場一覧メイン (15欠番ver)'!P72 -> 0 | Q75: ='ポスター掲示場一覧メイン (15欠番ver)'!Q75 -> 0 | R75: ='ポスター掲示場一覧メイン (15欠番ver)'!R75 -> 1 | S75: ='ポスター掲示場一覧メイン (15欠番ver)'!S75 -> R03小字修正 | T75: ='ポスター掲示場一覧メイン (15欠番ver)'!T75 -> 0 | U75: =Q75+R75 -> 1
A76: 75 | B76: ='ポスター掲示場一覧メイン (15欠番ver)'!B76 -> ABCマツモト相馬店駐車場 | C76: ='ポスター掲示場一覧メイン (15欠番ver)'!C73 -> 南飯渕字明神6 | D76: ='ポスター掲示場一覧メイン (15欠番ver)'!D73 -> 南飯渕字明神6 | E76: ='ポスター掲示場一覧メイン (15欠番ver)'!E73 -> 16 | F76: ='ポスター掲示場一覧メイン (15欠番ver)'!F73 -> 2 | G76: ='ポスター掲示場一覧メイン (15欠番ver)'!G76 -> 株式会社まつもと 代表取締役社長 松本 京子 | H76: ='ポスター掲示場一覧メイン (15欠番ver)'!H76 -> 976-0036 | I76: ='ポスター掲示場一覧メイン (15欠番ver)'!I76 -> 相馬市馬場野字雨田35-1 | J76: ='ポスター掲示場一覧メイン (15欠番ver)'!J76 -> 35-1515 | K76: ='ポスター掲示場一覧メイン (15欠番ver)'!K73 -> 0 | L76: ='ポスター掲示場一覧メイン (15欠番ver)'!L73 -> 1 | M76: ='ポスター掲示場一覧メイン (15欠番ver)'!M73 -> あなた様 | N76: ='ポスター掲示場一覧メイン (15欠番ver)'!N73 -> 0 | O76: ='ポスター掲示場一覧メイン (15欠番ver)'!O73 -> 0 | P76: ='ポスター掲示場一覧メイン (15欠番ver)'!P73 -> 0 | Q76: ='ポスター掲示場一覧メイン (15欠番ver)'!Q76 -> 1 | R76: ='ポスター掲示場一覧メイン (15欠番ver)'!R76 -> 0 | S76: ='ポスター掲示場一覧メイン (15欠番ver)'!S76 -> R3.9掲示場名称申出により変更。 | T76: ='ポスター掲示場一覧メイン (15欠番ver)'!T76 -> Ｈ30．8所有者と設置場所（馬場野字雨田２９－１）について確認済み。 | U76: =Q76+R76 -> 1
A77: 76 | B77: ='ポスター掲示場一覧メイン (15欠番ver)'!B77 -> 杉﨑宅ブロック塀 | C77: ='ポスター掲示場一覧メイン (15欠番ver)'!C74 -> 大曲字大毛内202 （南側） | D77: ='ポスター掲示場一覧メイン (15欠番ver)'!D74 -> 大曲字大毛内 | E77: ='ポスター掲示場一覧メイン (15欠番ver)'!E74 -> 16 | F77: ='ポスター掲示場一覧メイン (15欠番ver)'!F74 -> 3 | G77: ='ポスター掲示場一覧メイン (15欠番ver)'!G77 -> 杉崎 隆 | H77: ='ポスター掲示場一覧メイン (15欠番ver)'!H77 -> 350-1304 | I77: ='ポスター掲示場一覧メイン (15欠番ver)'!I77 -> 埼玉県狭山市狭山台1-4-9狭山台ハイコーポA604 | J77: ='ポスター掲示場一覧メイン (15欠番ver)'!J77 -> 04-2958-7967 | K77: ='ポスター掲示場一覧メイン (15欠番ver)'!K74 -> 0 | L77: ='ポスター掲示場一覧メイン (15欠番ver)'!L74 -> 1 | M77: ='ポスター掲示場一覧メイン (15欠番ver)'!M74 -> あなた様 | N77: ='ポスター掲示場一覧メイン (15欠番ver)'!N74 -> 0 | O77: ='ポスター掲示場一覧メイン (15欠番ver)'!O74 -> 0 | P77: ='ポスター掲示場一覧メイン (15欠番ver)'!P74 -> 0 | Q77: ='ポスター掲示場一覧メイン (15欠番ver)'!Q77 -> 1 | R77: ='ポスター掲示場一覧メイン (15欠番ver)'!R77 -> 0 | S77: ='ポスター掲示場一覧メイン (15欠番ver)'!S77 -> R4.4.21地震の罹災状況確認。設置可能。 R3.9.15芳子さん施設入所のため、今後は弟の隆さんへ送付する。 H28.3現地確認。フェンスは新しいがアルミ製で強度に少し問題あり。近辺で適切な設置場所が見つからず、取りあえず現状維持。次期市議選までには要再検討。 | T77: ='ポスター掲示場一覧メイン (15欠番ver)'!T77 -> 0 | U77: =Q77+R77 -> 1
A78: 77 | B78: ='ポスター掲示場一覧メイン (15欠番ver)'!B78 -> 馬場野住宅団地入口 | C78: ='ポスター掲示場一覧メイン (15欠番ver)'!C75 -> 馬場野字宝田1 | D78: ='ポスター掲示場一覧メイン (15欠番ver)'!D75 -> 馬場野字宝田1 | E78: ='ポスター掲示場一覧メイン (15欠番ver)'!E75 -> 16 | F78: ='ポスター掲示場一覧メイン (15欠番ver)'!F75 -> 4 | G78: ='ポスター掲示場一覧メイン (15欠番ver)'!G78 -> （市有地） | H78: ='ポスター掲示場一覧メイン (15欠番ver)'!H78 -> 0 | I78: ='ポスター掲示場一覧メイン (15欠番ver)'!I78 -> 0 | J78: ='ポスター掲示場一覧メイン (15欠番ver)'!J78 -> 0 | K78: ='ポスター掲示場一覧メイン (15欠番ver)'!K75 -> 0 | L78: ='ポスター掲示場一覧メイン (15欠番ver)'!L75 -> 1 | M78: ='ポスター掲示場一覧メイン (15欠番ver)'!M75 -> あなた様 | N78: ='ポスター掲示場一覧メイン (15欠番ver)'!N75 -> 0 | O78: ='ポスター掲示場一覧メイン (15欠番ver)'!O75 -> 0 | P78: ='ポスター掲示場一覧メイン (15欠番ver)'!P75 -> 0 | Q78: ='ポスター掲示場一覧メイン (15欠番ver)'!Q78 -> 0 | R78: ='ポスター掲示場一覧メイン (15欠番ver)'!R78 -> 0 | S78: ='ポスター掲示場一覧メイン (15欠番ver)'!S78 -> 0 | T78: ='ポスター掲示場一覧メイン (15欠番ver)'!T78 -> 0 | U78: =Q78+R78 -> 0
A79: 78 | B79: ='ポスター掲示場一覧メイン (15欠番ver)'!B79 -> 福島県農業総合センター 浜地域研究所南側 | C79: ='ポスター掲示場一覧メイン (15欠番ver)'!C76 -> 馬場野字雨田29-1 （南側） | D79: ='ポスター掲示場一覧メイン (15欠番ver)'!D76 -> 馬場野字雨田29-1 | E79: ='ポスター掲示場一覧メイン (15欠番ver)'!E76 -> 16 | F79: ='ポスター掲示場一覧メイン (15欠番ver)'!F76 -> 5 | G79: ='ポスター掲示場一覧メイン (15欠番ver)'!G79 -> 福島県農業総合センター 浜地域研究所 所長 | H79: ='ポスター掲示場一覧メイン (15欠番ver)'!H79 -> 979-2542 | I79: ='ポスター掲示場一覧メイン (15欠番ver)'!I79 -> 相馬市成田字五郎右エ門橋100 | J79: ='ポスター掲示場一覧メイン (15欠番ver)'!J79 -> 35-2633 | K79: ='ポスター掲示場一覧メイン (15欠番ver)'!K76 -> 0 | L79: ='ポスター掲示場一覧メイン (15欠番ver)'!L76 -> 1 | M79: ='ポスター掲示場一覧メイン (15欠番ver)'!M76 -> あなた様 | N79: ='ポスター掲示場一覧メイン (15欠番ver)'!N76 -> 0 | O79: ='ポスター掲示場一覧メイン (15欠番ver)'!O76 -> 0 | P79: ='ポスター掲示場一覧メイン (15欠番ver)'!P76 -> 0 | Q79: ='ポスター掲示場一覧メイン (15欠番ver)'!Q79 -> 0 | R79: ='ポスター掲示場一覧メイン (15欠番ver)'!R79 -> 0 | S79: ='ポスター掲示場一覧メイン (15欠番ver)'!S79 -> R5.8.1 設置場所の変更 提出期限を過ぎても返送がなく、電話もつながらないため、別の場所に設置することとした。 旧：蓮沼宅ブロック塀 成田字大作116 蓮沼 淳子 〒979-2542 相馬市成田字大作116 35-5557 新 成田字五郎右ェ門橋100 R4追記。謝礼受取は夜間指定にする R4.4.21地震の罹災状況確認。塀破損あり。 H24.12衆院選より変更 | T79: ='ポスター掲示場一覧メイン (15欠番ver)'!T79 -> H24.12.8～位置変更 | U79: =Q79+R79 -> 0
A80: 79 | B80: ='ポスター掲示場一覧メイン (15欠番ver)'!B80 -> 横山宅南側市道敷 | C80: ='ポスター掲示場一覧メイン (15欠番ver)'!C77 -> 馬場野字福迫57 | D80: ='ポスター掲示場一覧メイン (15欠番ver)'!D77 -> 馬場野字福迫57 | E80: ='ポスター掲示場一覧メイン (15欠番ver)'!E77 -> 16 | F80: ='ポスター掲示場一覧メイン (15欠番ver)'!F77 -> 6 | G80: ='ポスター掲示場一覧メイン (15欠番ver)'!G80 -> 相馬市（都市整備課） | H80: ='ポスター掲示場一覧メイン (15欠番ver)'!H80 -> 0 | I80: ='ポスター掲示場一覧メイン (15欠番ver)'!I80 -> 0 | J80: ='ポスター掲示場一覧メイン (15欠番ver)'!J80 -> 0 | K80: ='ポスター掲示場一覧メイン (15欠番ver)'!K77 -> 0 | L80: ='ポスター掲示場一覧メイン (15欠番ver)'!L77 -> 1 | M80: ='ポスター掲示場一覧メイン (15欠番ver)'!M77 -> あなた様 | N80: ='ポスター掲示場一覧メイン (15欠番ver)'!N77 -> 0 | O80: ='ポスター掲示場一覧メイン (15欠番ver)'!O77 -> 0 | P80: ='ポスター掲示場一覧メイン (15欠番ver)'!P77 -> 0 | Q80: ='ポスター掲示場一覧メイン (15欠番ver)'!Q80 -> 0 | R80: ='ポスター掲示場一覧メイン (15欠番ver)'!R80 -> 0 | S80: ='ポスター掲示場一覧メイン (15欠番ver)'!S80 -> R06.09 ㈱小野中村より提案場所に設置場所移動 旧設置場所：成田字岡本60 佐藤宅前、岡本停留所付近 佐藤辰雄 | T80: ='ポスター掲示場一覧メイン (15欠番ver)'!T80 -> 0 | U80: =Q80+R80 -> 0
A81: 80 | B81: ='ポスター掲示場一覧メイン (15欠番ver)'!B81 -> 旧八幡駐在所前 | C81: ='ポスター掲示場一覧メイン (15欠番ver)'!C78 -> 馬場野字山田83-61（東側） | D81: ='ポスター掲示場一覧メイン (15欠番ver)'!D78 -> 馬場野字山田111-3 | E81: ='ポスター掲示場一覧メイン (15欠番ver)'!E78 -> 16 | F81: ='ポスター掲示場一覧メイン (15欠番ver)'!F78 -> 7 | G81: ='ポスター掲示場一覧メイン (15欠番ver)'!G81 -> 涼ケ岡共有地会会長 後藤 建一 | H81: ='ポスター掲示場一覧メイン (15欠番ver)'!H81 -> 979-2533 | I81: ='ポスター掲示場一覧メイン (15欠番ver)'!I81 -> 相馬市坪田字八幡西196-2 | J81: ='ポスター掲示場一覧メイン (15欠番ver)'!J81 -> 36-7221 | K81: ='ポスター掲示場一覧メイン (15欠番ver)'!K78 -> 0 | L81: ='ポスター掲示場一覧メイン (15欠番ver)'!L78 -> 0 | M81: ='ポスター掲示場一覧メイン (15欠番ver)'!M78 -> 0 | N81: ='ポスター掲示場一覧メイン (15欠番ver)'!N78 -> 0 | O81: ='ポスター掲示場一覧メイン (15欠番ver)'!O78 -> 1 | P81: ='ポスター掲示場一覧メイン (15欠番ver)'!P78 -> 0 | Q81: ='ポスター掲示場一覧メイン (15欠番ver)'!Q81 -> 1 | R81: ='ポスター掲示場一覧メイン (15欠番ver)'!R81 -> 0 | S81: ='ポスター掲示場一覧メイン (15欠番ver)'!S81 -> H28.3現地確認。現状維持。 | T81: ='ポスター掲示場一覧メイン (15欠番ver)'!T81 -> 0 | U81: =Q81+R81 -> 1
A82: 81 | B82: ='ポスター掲示場一覧メイン (15欠番ver)'!B82 -> 天野利記念碑前 | C82: ='ポスター掲示場一覧メイン (15欠番ver)'!C79 -> 成田字五郎右エ門橋100 | D82: ='ポスター掲示場一覧メイン (15欠番ver)'!D79 -> 成田字五郎右エ門橋100 | E82: ='ポスター掲示場一覧メイン (15欠番ver)'!E79 -> 17 | F82: ='ポスター掲示場一覧メイン (15欠番ver)'!F79 -> 1 | G82: ='ポスター掲示場一覧メイン (15欠番ver)'!G82 -> 八幡３区区長 佐藤 進 | H82: ='ポスター掲示場一覧メイン (15欠番ver)'!H82 -> 979-2533 | I82: ='ポスター掲示場一覧メイン (15欠番ver)'!I82 -> 相馬市坪田字駒場157 | J82: ='ポスター掲示場一覧メイン (15欠番ver)'!J82 -> 36-7641 090-7326-9482 | K82: ='ポスター掲示場一覧メイン (15欠番ver)'!K79 -> 0 | L82: ='ポスター掲示場一覧メイン (15欠番ver)'!L79 -> 1 | M82: ='ポスター掲示場一覧メイン (15欠番ver)'!M79 -> 貴職 | N82: ='ポスター掲示場一覧メイン (15欠番ver)'!N79 -> 0 | O82: ='ポスター掲示場一覧メイン (15欠番ver)'!O79 -> 0 | P82: ='ポスター掲示場一覧メイン (15欠番ver)'!P79 -> 0 | Q82: ='ポスター掲示場一覧メイン (15欠番ver)'!Q82 -> 0 | R82: ='ポスター掲示場一覧メイン (15欠番ver)'!R82 -> 1 | S82: ='ポスター掲示場一覧メイン (15欠番ver)'!S82 -> R02.4区長変更 | T82: ='ポスター掲示場一覧メイン (15欠番ver)'!T82 -> 0 | U82: =Q82+R82 -> 1
A83: 82 | B83: ='ポスター掲示場一覧メイン (15欠番ver)'!B83 -> 今田研修所前（八坂神社前） | C83: ='ポスター掲示場一覧メイン (15欠番ver)'!C80 -> 成田字天王前226-2（南側） | D83: ='ポスター掲示場一覧メイン (15欠番ver)'!D80 -> 成田字天王前228南側 | E83: ='ポスター掲示場一覧メイン (15欠番ver)'!E80 -> 17 | F83: ='ポスター掲示場一覧メイン (15欠番ver)'!F80 -> 2 | G83: ='ポスター掲示場一覧メイン (15欠番ver)'!G83 -> 八幡１区区長 佐藤 雄一 | H83: ='ポスター掲示場一覧メイン (15欠番ver)'!H83 -> 979-2541 | I83: ='ポスター掲示場一覧メイン (15欠番ver)'!I83 -> 相馬市今田字山野85 | J83: ='ポスター掲示場一覧メイン (15欠番ver)'!J83 -> 36-7503 090-2604-4528 | K83: ='ポスター掲示場一覧メイン (15欠番ver)'!K80 -> 0 | L83: ='ポスター掲示場一覧メイン (15欠番ver)'!L80 -> 0 | M83: ='ポスター掲示場一覧メイン (15欠番ver)'!M80 -> 0 | N83: ='ポスター掲示場一覧メイン (15欠番ver)'!N80 -> 1 | O83: ='ポスター掲示場一覧メイン (15欠番ver)'!O80 -> 0 | P83: ='ポスター掲示場一覧メイン (15欠番ver)'!P80 -> 1 | Q83: ='ポスター掲示場一覧メイン (15欠番ver)'!Q83 -> 0 | R83: ='ポスター掲示場一覧メイン (15欠番ver)'!R83 -> 1 | S83: ='ポスター掲示場一覧メイン (15欠番ver)'!S83 -> H22.5.31総務課へ確認済。R02.4区長変更 | T83: ='ポスター掲示場一覧メイン (15欠番ver)'!T83 -> 0 | U83: =Q83+R83 -> 1
A84: 83 | B84: ='ポスター掲示場一覧メイン (15欠番ver)'!B84 -> 佐藤宅前の畑 | C84: ='ポスター掲示場一覧メイン (15欠番ver)'!C81 -> 坪田字涼ヶ岡39-1 （南側） | D84: ='ポスター掲示場一覧メイン (15欠番ver)'!D81 -> 坪田字涼ヶ岡40 | E84: ='ポスター掲示場一覧メイン (15欠番ver)'!E81 -> 17 | F84: ='ポスター掲示場一覧メイン (15欠番ver)'!F81 -> 3 | G84: ='ポスター掲示場一覧メイン (15欠番ver)'!G84 -> 佐藤 功 | H84: ='ポスター掲示場一覧メイン (15欠番ver)'!H84 -> 979-2541 | I84: ='ポスター掲示場一覧メイン (15欠番ver)'!I84 -> 相馬市今田字藤堂林143 | J84: ='ポスター掲示場一覧メイン (15欠番ver)'!J84 -> 36-7476 | K84: ='ポスター掲示場一覧メイン (15欠番ver)'!K81 -> 0 | L84: ='ポスター掲示場一覧メイン (15欠番ver)'!L81 -> 1 | M84: ='ポスター掲示場一覧メイン (15欠番ver)'!M81 -> あなた様 | N84: ='ポスター掲示場一覧メイン (15欠番ver)'!N81 -> 0 | O84: ='ポスター掲示場一覧メイン (15欠番ver)'!O81 -> 0 | P84: ='ポスター掲示場一覧メイン (15欠番ver)'!P81 -> 0 | Q84: ='ポスター掲示場一覧メイン (15欠番ver)'!Q84 -> 1 | R84: ='ポスター掲示場一覧メイン (15欠番ver)'!R84 -> 0 | S84: ='ポスター掲示場一覧メイン (15欠番ver)'!S84 -> 0 | T84: ='ポスター掲示場一覧メイン (15欠番ver)'!T84 -> 0 | U84: =Q84+R84 -> 1
A85: 84 | B85: ='ポスター掲示場一覧メイン (15欠番ver)'!B85 -> 八幡公民館前 | C85: ='ポスター掲示場一覧メイン (15欠番ver)'!C82 -> 坪田字下高松5（北側） | D85: ='ポスター掲示場一覧メイン (15欠番ver)'!D82 -> 坪田字高松 | E85: ='ポスター掲示場一覧メイン (15欠番ver)'!E82 -> 17 | F85: ='ポスター掲示場一覧メイン (15欠番ver)'!F82 -> 4 | G85: ='ポスター掲示場一覧メイン (15欠番ver)'!G85 -> 相馬市教育長（中央公民館） | H85: ='ポスター掲示場一覧メイン (15欠番ver)'!H85 | I85: ='ポスター掲示場一覧メイン (15欠番ver)'!I85 | J85: ='ポスター掲示場一覧メイン (15欠番ver)'!J85 -> 0 | K85: ='ポスター掲示場一覧メイン (15欠番ver)'!K82 -> 0 | L85: ='ポスター掲示場一覧メイン (15欠番ver)'!L82 -> 1 | M85: ='ポスター掲示場一覧メイン (15欠番ver)'!M82 -> あなた様 | N85: ='ポスター掲示場一覧メイン (15欠番ver)'!N82 -> 0 | O85: ='ポスター掲示場一覧メイン (15欠番ver)'!O82 -> 0 | P85: ='ポスター掲示場一覧メイン (15欠番ver)'!P82 -> 0 | Q85: ='ポスター掲示場一覧メイン (15欠番ver)'!Q85 -> 0 | R85: ='ポスター掲示場一覧メイン (15欠番ver)'!R85 -> 0 | S85: ='ポスター掲示場一覧メイン (15欠番ver)'!S85 -> 0 | T85: ='ポスター掲示場一覧メイン (15欠番ver)'!T85 -> 0 | U85: =Q85+R85 -> 0
... A146: 145 | B146: ='ポスター掲示場一覧メイン (15欠番ver)'!B146 -> 光陽サッカー場正面入口（東側） | C146: ='ポスター掲示場一覧メイン (15欠番ver)'!C143 -> 小泉字山田432-1 （北側） | D146: ='ポスター掲示場一覧メイン (15欠番ver)'!D143 -> 小泉字山田436-4 | E146: ='ポスター掲示場一覧メイン (15欠番ver)'!E143 -> 27 | F146: ='ポスター掲示場一覧メイン (15欠番ver)'!F143 -> 4 | G146: ='ポスター掲示場一覧メイン (15欠番ver)'!G146 -> 相馬市教育長（生涯学習課） | H146: ='ポスター掲示場一覧メイン (15欠番ver)'!H146 -> 976-0022 | I146: ='ポスター掲示場一覧メイン (15欠番ver)'!I146 -> 0 | J146: ='ポスター掲示場一覧メイン (15欠番ver)'!J146 -> 0 | K146: ='ポスター掲示場一覧メイン (15欠番ver)'!K143 -> 1 | L146: ='ポスター掲示場一覧メイン (15欠番ver)'!L143 -> 0 | M146: ='ポスター掲示場一覧メイン (15欠番ver)'!M143 -> 0 | N146: ='ポスター掲示場一覧メイン (15欠番ver)'!N143 -> 0 | O146: ='ポスター掲示場一覧メイン (15欠番ver)'!O143 -> 0 | P146: ='ポスター掲示場一覧メイン (15欠番ver)'!P143 -> 0 | Q146: ='ポスター掲示場一覧メイン (15欠番ver)'!Q146 -> 0 | R146: ='ポスター掲示場一覧メイン (15欠番ver)'!R146 -> 0 | S146: ='ポスター掲示場一覧メイン (15欠番ver)'!S146 -> Ｈ30.8場所変更 | T146: ='ポスター掲示場一覧メイン (15欠番ver)'!T146 -> 0 | U146: =Q146+R146 -> 0
K147: =SUM(K2:K146) -> #REF! | L147: =SUM(L2:L146) -> #REF! | N147: =SUM(N2:N146) -> #REF! | O147: =SUM(O2:O146) -> #REF! | P147: =SUM(P2:P146) -> #REF! | Q147: =SUM(Q2:Q146) -> 60 | R147: =SUM(R2:T146) -> 17 | S147: =SUM(S2:S146) -> 0 | T147: =SUM(T2:T146) -> 0 | U147: =SUM(U2:U146) -> 77

Sheet 法定設置数と実数確認【県報告用数値】 (15欠番ver)
A1: 投票区 | B1: 選挙人名簿登録者数 | C1: 面積 | D1: 法定数 | E1: 箇所数 | F1: 増減 | G1: →抽出→→ | I1: 投票区 | J1: 1000人未満抽出 | K1: 2㎢未満 | L1: 2㎢以上4㎢未満 | M1: 4㎢以上8㎢未満 | N1: 8㎢以上 | O1: 箇所数抽出 | P1: 面積 | Q1: 投票区 | R1: 1000人以上抽出 | S1: 4㎢未満 | T1: 4㎢以上 8㎢未満 | U1: 8㎢以上 | V1: 箇所数抽出 | W1: →集計→→ | Y1: 選挙人名簿登録者数 | Z1: 面積 | AA1: 投票所の数 | AB1: ポスター掲示場の数
A2: 1 | B2: 1663 | C2: 1.96 | D2: =IF(AND(B2<1000,C2<2),5,IF(AND(B2<1000,C2<4),6,IF(AND(B2<1000,C2<8),7,IF(AND(B2<1000,C2>8),8,IF(AND(B2<5000,C2<4),7,IF(AND(B2<5000,C2<8),8,9)))))) -> 7 | E2: =COUNTIF('ポスター掲示場一覧メイン (15欠番ver)'!E:E,A2) -> 7 | F2: =E2-D2 -> 0 | I2: 1 | J2: =IF($B2>1000,"",$B2) | K2: =IF($J2="","",IF($C2>$P$2,"",$C2)) | L2: =IF($J2="","",IF(AND($C2>=$P$2,$C2<$P$3),$C2,"")) | M2: =IF($J2="","",IF(AND($C2>=$P$3,$C2<$P$4),$C2,"")) | N2: =IF($J2="","",IF(AND($C2>=$P$4,$C2<$P$5),$C2,"")) | O2: =IF($B2>1000,"",$E2) | P2: 2 | Q2: 1 | R2: =IF($B2>=1000,$B2,"") -> 1663 | S2: =IF($R2="","",IF($C2>$P$3,"",$C2)) -> 1.96 | T2: =IF($R2="","",IF(AND($C2>=$P$3,$C2<$P$4),$C2,"")) | U2: =IF($R2="","",IF(AND($C2>=$P$4,$C2<$P$5),$C2,"")) | V2: =IF($B2>1000,$E2,"") -> 7 | Y2: 1,000人未満 | Z2: 2㎢未満 | AA2: =K29 -> 4 | AB2: =K30 -> 13
A3: 2 | B3: 1918 | C3: 1.35 | D3: =IF(AND(B3<1000,C3<2),5,IF(AND(B3<1000,C3<4),6,IF(AND(B3<1000,C3<8),7,IF(AND(B3<1000,C3>8),8,IF(AND(B3<5000,C3<4),7,IF(AND(B3<5000,C3<8),8,9)))))) -> 7 | E3: =COUNTIF('ポスター掲示場一覧メイン (15欠番ver)'!E:E,A3) -> 4 | F3: =E3-D3 -> -3 | I3: 2 | J3: =IF($B3>1000,"",$B3) | K3: =IF($J3="","",IF($C3>$P$2,"",$C3)) | L3: =IF($J3="","",IF(AND($C3>=$P$2,$C3<$P$3),$C3,"")) | M3: =IF($J3="","",IF(AND($C3>=$P$3,$C3<$P$4),$C3,"")) | N3: =IF($J3="","",IF(AND($C3>=$P$4,$C3<$P$5),$C3,"")) | O3: =IF($B3>1000,"",$E3) | P3: 4 | Q3: 2 | R3: =IF($B3>=1000,$B3,"") -> 1918 | S3: =IF($R3="","",IF($C3>$P$3,"",$C3)) -> 1.35 | T3: =IF($R3="","",IF(AND($C3>=$P$3,$C3<$P$4),$C3,"")) | U3: =IF($R3="","",IF(AND($C3>=$P$4,$C3<$P$5),$C3,"")) | V3: =IF($B3>1000,$E3,"") -> 4 | Z3: 2㎢以上 4㎢未満 | AA3: =L29 -> 2 | AB3: =L30 -> 8
A4: 3 | B4: 2888 | C4: 1.63 | D4: =IF(AND(B4<1000,C4<2),5,IF(AND(B4<1000,C4<4),6,IF(AND(B4<1000,C4<8),7,IF(AND(B4<1000,C4>8),8,IF(AND(B4<5000,C4<4),7,IF(AND(B4<5000,C4<8),8,9)))))) -> 7 | E4: =COUNTIF('ポスター掲示場一覧メイン (15欠番ver)'!E:E,A4) -> 6 | F4: =E4-D4 -> -1 | I4: 3 | J4: =IF($B4>1000,"",$B4) | K4: =IF($J4="","",IF($C4>$P$2,"",$C4)) | L4: =IF($J4="","",IF(AND($C4>=$P$2,$C4<$P$3),$C4,"")) | M4: =IF($J4="","",IF(AND($C4>=$P$3,$C4<$P$4),$C4,"")) | N4: =IF($J4="","",IF(AND($C4>=$P$4,$C4<$P$5),$C4,"")) | O4: =IF($B4>1000,"",$E4) | P4: 8 | Q4: 3 | R4: =IF($B4>=1000,$B4,"") -> 2888 | S4: =IF($R4="","",IF($C4>$P$3,"",$C4)) -> 1.63 | T4: =IF($R4="","",IF(AND($C4>=$P$3,$C4<$P$4),$C4,"")) | U4: =IF($R4="","",IF(AND($C4>=$P$4,$C4<$P$5),$C4,"")) | V4: =IF($B4>1000,$E4,"") -> 6 | Z4: 4㎢以上 8㎢未満 | AA4: =M29 -> 3 | AB4: =M30 -> 15
A5: 4 | B5: 846 | C5: 1.24 | D5: =IF(AND(B5<1000,C5<2),5,IF(AND(B5<1000,C5<4),6,IF(AND(B5<1000,C5<8),7,IF(AND(B5<1000,C5>8),8,IF(AND(B5<5000,C5<4),7,IF(AND(B5<5000,C5<8),8,9)))))) -> 5 | E5: =COUNTIF('ポスター掲示場一覧メイン (15欠番ver)'!E:E,A5) -> 3 | F5: =E5-D5 -> -2 | I5: 4 | J5: =IF($B5>1000,"",$B5) -> 846 | K5: =IF($J5="","",IF($C5>$P$2,"",$C5)) -> 1.24 | L5: =IF($J5="","",IF(AND($C5>=$P$2,$C5<$P$3),$C5,"")) | M5: =IF($J5="","",IF(AND($C5>=$P$3,$C5<$P$4),$C5,"")) | N5: =IF($J5="","",IF(AND($C5>=$P$4,$C5<$P$5),$C5,"")) | O5: =IF($B5>1000,"",$E5) -> 3 | P5: 1000 | Q5: 4 | R5: =IF($B5>=1000,$B5,"") | S5: =IF($R5="","",IF($C5>$P$3,"",$C5)) | T5: =IF($R5="","",IF(AND($C5>=$P$3,$C5<$P$4),$C5,"")) | U5: =IF($R5="","",IF(AND($C5>=$P$4,$C5<$P$5),$C5,"")) | V5: =IF($B5>1000,$E5,"") | Z5: 8㎢以上 | AA5: =N29 -> 6 | AB5: =N30 -> 35
A6: 5 | B6: 545 | C6: 0.62 | D6: =IF(AND(B6<1000,C6<2),5,IF(AND(B6<1000,C6<4),6,IF(AND(B6<1000,C6<8),7,IF(AND(B6<1000,C6>8),8,IF(AND(B6<5000,C6<4),7,IF(AND(B6<5000,C6<8),8,9)))))) -> 5 | E6: =COUNTIF('ポスター掲示場一覧メイン (15欠番ver)'!E:E,A6) -> 2 | F6: =E6-D6 -> -3 | I6: 5 | J6: =IF($B6>1000,"",$B6) -> 545 | K6: =IF($J6="","",IF($C6>$P$2,"",$C6)) -> 0.62 | L6: =IF($J6="","",IF(AND($C6>=$P$2,$C6<$P$3),$C6,"")) | M6: =IF($J6="","",IF(AND($C6>=$P$3,$C6<$P$4),$C6,"")) | N6: =IF($J6="","",IF(AND($C6>=$P$4,$C6<$P$5),$C6,"")) | O6: =IF($B6>1000,"",$E6) -> 2 | Q6: 5 | R6: =IF($B6>=1000,$B6,"") | S6: =IF($R6="","",IF($C6>$P$3,"",$C6)) | T6: =IF($R6="","",IF(AND($C6>=$P$3,$C6<$P$4),$C6,"")) | U6: =IF($R6="","",IF(AND($C6>=$P$4,$C6<$P$5),$C6,"")) | V6: =IF($B6>1000,$E6,"") | Y6: 1,000人以上5,000人未満 | Z6: 4㎢未満 | AA6: =S29 -> 6 | AB6: =S30 -> 32
A7: 6 | B7: 1553 | C7: 1.21 | D7: =IF(AND(B7<1000,C7<2),5,IF(AND(B7<1000,C7<4),6,IF(AND(B7<1000,C7<8),7,IF(AND(B7<1000,C7>8),8,IF(AND(B7<5000,C7<4),7,IF(AND(B7<5000,C7<8),8,9)))))) -> 7 | E7: =COUNTIF('ポスター掲示場一覧メイン (15欠番ver)'!E:E,A7) -> 4 | F7: =E7-D7 -> -3 | I7: 6 | J7: =IF($B7>1000,"",$B7) | K7: =IF($J7="","",IF($C7>$P$2,"",$C7)) | L7: =IF($J7="","",IF(AND($C7>=$P$2,$C7<$P$3),$C7,"")) | M7: =IF($J7="","",IF(AND($C7>=$P$3,$C7<$P$4),$C7,"")) | N7: =IF($J7="","",IF(AND($C7>=$P$4,$C7<$P$5),$C7,"")) | O7: =IF($B7>1000,"",$E7) | Q7: 6 | R7: =IF($B7>=1000,$B7,"") -> 1553 | S7: =IF($R7="","",IF($C7>$P$3,"",$C7)) -> 1.21 | T7: =IF($R7="","",IF(AND($C7>=$P$3,$C7<$P$4),$C7,"")) | U7: =IF($R7="","",IF(AND($C7>=$P$4,$C7<$P$5),$C7,"")) | V7: =IF($B7>1000,$E7,"") -> 4 | Z7: 4㎢以上 8㎢未満 | AA7: =T29 -> 1 | AB7: =T30 -> 7
A8: 7 | B8: 725 | C8: 1.25 | D8: =IF(AND(B8<1000,C8<2),5,IF(AND(B8<1000,C8<4),6,IF(AND(B8<1000,C8<8),7,IF(AND(B8<1000,C8>8),8,IF(AND(B8<5000,C8<4),7,IF(AND(B8<5000,C8<8),8,9)))))) -> 5 | E8: =COUNTIF('ポスター掲示場一覧メイン (15欠番ver)'!E:E,A8) -> 4 | F8: =E8-D8 -> -1 | I8: 7 | J8: =IF($B8>1000,"",$B8) -> 725 | K8: =IF($J8="","",IF($C8>$P$2,"",$C8)) -> 1.25 | L8: =IF($J8="","",IF(AND($C8>=$P$2,$C8<$P$3),$C8,"")) | M8: =IF($J8="","",IF(AND($C8>=$P$3,$C8<$P$4),$C8,"")) | N8: =IF($J8="","",IF(AND($C8>=$P$4,$C8<$P$5),$C8,"")) | O8: =IF($B8>1000,"",$E8) -> 4 | Q8: 7 | R8: =IF($B8>=1000,$B8,"") | S8: =IF($R8="","",IF($C8>$P$3,"",$C8)) | T8: =IF($R8="","",IF(AND($C8>=$P$3,$C8<$P$4),$C8,"")) | U8: =IF($R8="","",IF(AND($C8>=$P$4,$C8<$P$5),$C8,"")) | V8: =IF($B8>1000,$E8,"") | Z8: 8㎢以上 | AA8: =U29 -> 4 | AB8: =U30 -> 35
A9: 8 | B9: 1405 | C9: 3.02 | D9: =IF(AND(B9<1000,C9<2),5,IF(AND(B9<1000,C9<4),6,IF(AND(B9<1000,C9<8),7,IF(AND(B9<1000,C9>8),8,IF(AND(B9<5000,C9<4),7,IF(AND(B9<5000,C9<8),8,9)))))) -> 7 | E9: =COUNTIF('ポスター掲示場一覧メイン (15欠番ver)'!E:E,A9) -> 4 | F9: =E9-D9 -> -3 | I9: 8 | J9: =IF($B9>1000,"",$B9) | K9: =IF($J9="","",IF($C9>$P$2,"",$C9)) | L9: =IF($J9="","",IF(AND($C9>=$P$2,$C9<$P$3),$C9,"")) | M9: =IF($J9="","",IF(AND($C9>=$P$3,$C9<$P$4),$C9,"")) | N9: =IF($J9="","",IF(AND($C9>=$P$4,$C9<$P$5),$C9,"")) | O9: =IF($B9>1000,"",$E9) | Q9: 8 | R9: =IF($B9>=1000,$B9,"") -> 1405 | S9: =IF($R9="","",IF($C9>$P$3,"",$C9)) -> 3.02 | T9: =IF($R9="","",IF(AND($C9>=$P$3,$C9<$P$4),$C9,"")) | U9: =IF($R9="","",IF(AND($C9>=$P$4,$C9<$P$5),$C9,"")) | V9: =IF($B9>1000,$E9,"") -> 4 | Y9: 5,000人以上10,000人未満 | Z9: 4㎢未満 | AA9: 0 | AB9: 0
A10: 9 | B10: 563 | C10: 2.07 | D10: =IF(AND(B10<1000,C10<2),5,IF(AND(B10<1000,C10<4),6,IF(AND(B10<1000,C10<8),7,IF(AND(B10<1000,C10>8),8,IF(AND(B10<5000,C10<4),7,IF(AND(B10<5000,C10<8),8,9)))))) -> 6 | E10: =COUNTIF('ポスター掲示場一覧メイン (15欠番ver)'!E:E,A10) -> 2 | F10: =E10-D10 -> -4 | I10: 9 | J10: =IF($B10>1000,"",$B10) -> 563 | K10: =IF($J10="","",IF($C10>$P$2,"",$C10)) | L10: =IF($J10="","",IF(AND($C10>=$P$2,$C10<$P$3),$C10,"")) -> 2.07 | M10: =IF($J10="","",IF(AND($C10>=$P$3,$C10<$P$4),$C10,"")) | N10: =IF($J10="","",IF(AND($C10>=$P$4,$C10<$P$5),$C10,"")) | O10: =IF($B10>1000,"",$E10) -> 2 | Q10: 9 | R10: =IF($B10>=1000,$B10,"") | S10: =IF($R10="","",IF($C10>$P$3,"",$C10)) | T10: =IF($R10="","",IF(AND($C10>=$P$3,$C10<$P$4),$C10,"")) | U10: =IF($R10="","",IF(AND($C10>=$P$4,$C10<$P$5),$C10,"")) | V10: =IF($B10>1000,$E10,"") | Z10: 4㎢以上 | AA10: 0 | AB10: 0
A11: 10 | B11: 886 | C11: 1.23 | D11: =IF(AND(B11<1000,C11<2),5,IF(AND(B11<1000,C11<4),6,IF(AND(B11<1000,C11<8),7,IF(AND(B11<1000,C11>8),8,IF(AND(B11<5000,C11<4),7,IF(AND(B11<5000,C11<8),8,9)))))) -> 5 | E11: =COUNTIF('ポスター掲示場一覧メイン (15欠番ver)'!E:E,A11) -> 4 | F11: =E11-D11 -> -1 | I11: 10 | J11: =IF($B11>1000,"",$B11) -> 886 | K11: =IF($J11="","",IF($C11>$P$2,"",$C11)) -> 1.23 | L11: =IF($J11="","",IF(AND($C11>=$P$2,$C11<$P$3),$C11,"")) | M11: =IF($J11="","",IF(AND($C11>=$P$3,$C11<$P$4),$C11,"")) | N11: =IF($J11="","",IF(AND($C11>=$P$4,$C11<$P$5),$C11,"")) | O11: =IF($B11>1000,"",$E11) -> 4 | Q11: 10 | R11: =IF($B11>=1000,$B11,"") | S11: =IF($R11="","",IF($C11>$P$3,"",$C11)) | T11: =IF($R11="","",IF(AND($C11>=$P$3,$C11<$P$4),$C11,"")) | U11: =IF($R11="","",IF(AND($C11>=$P$4,$C11<$P$5),$C11,"")) | V11: =IF($B11>1000,$E11,"") | Y11: 10,000人以上 | Z11: 4㎢未満 | AA11: 0 | AB11: 0
A12: 11 | B12: 851 | C12: 5.56 | D12: =IF(AND(B12<1000,C12<2),5,IF(AND(B12<1000,C12<4),6,IF(AND(B12<1000,C12<8),7,IF(AND(B12<1000,C12>8),8,IF(AND(B12<5000,C12<4),7,IF(AND(B12<5000,C12<8),8,9)))))) -> 7 | E12: =COUNTIF('ポスター掲示場一覧メイン (15欠番ver)'!E:E,A12) -> 6 | F12: =E12-D12 -> -1 | I12: 11 | J12: =IF($B12>1000,"",$B12) -> 851 | K12: =IF($J12="","",IF($C12>$P$2,"",$C12)) | L12: =IF($J12="","",IF(AND($C12>=$P$2,$C12<$P$3),$C12,"")) | M12: =IF($J12="","",IF(AND($C12>=$P$3,$C12<$P$4),$C12,"")) -> 5.56 | N12: =IF($J12="","",IF(AND($C12>=$P$4,$C12<$P$5),$C12,"")) | O12: =IF($B12>1000,"",$E12) -> 6 | Q12: 11 | R12: =IF($B12>=1000,$B12,"") | S12: =IF($R12="","",IF($C12>$P$3,"",$C12)) | T12: =IF($R12="","",IF(AND($C12>=$P$3,$C12<$P$4),$C12,"")) | U12: =IF($R12="","",IF(AND($C12>=$P$4,$C12<$P$5),$C12,"")) | V12: =IF($B12>1000,$E12,"") | Z12: 4㎢以上 | AA12: 0 | AB12: 0
A13: 12 | B13: 920 | C13: 8.36 | D13: =IF(AND(B13<1000,C13<2),5,IF(AND(B13<1000,C13<4),6,IF(AND(B13<1000,C13<8),7,IF(AND(B13<1000,C13>8),8,IF(AND(B13<5000,C13<4),7,IF(AND(B13<5000,C13<8),8,9)))))) -> 8 | E13: =COUNTIF('ポスター掲示場一覧メイン (15欠番ver)'!E:E,A13) -> 6 | F13: =E13-D13 -> -2 | I13: 12 | J13: =IF($B13>1000,"",$B13) -> 920 | K13: =IF($J13="","",IF($C13>$P$2,"",$C13)) | L13: =IF($J13="","",IF(AND($C13>=$P$2,$C13<$P$3),$C13,"")) | M13: =IF($J13="","",IF(AND($C13>=$P$3,$C13<$P$4),$C13,"")) | N13: =IF($J13="","",IF(AND($C13>=$P$4,$C13<$P$5),$C13,"")) -> 8.36 | O13: =IF($B13>1000,"",$E13) -> 6 | Q13: 12 | R13: =IF($B13>=1000,$B13,"") | S13: =IF($R13="","",IF($C13>$P$3,"",$C13)) | T13: =IF($R13="","",IF(AND($C13>=$P$3,$C13<$P$4),$C13,"")) | U13: =IF($R13="","",IF(AND($C13>=$P$4,$C13<$P$5),$C13,"")) | V13: =IF($B13>1000,$E13,"") | AA13: =SUM(AA2:AA12) -> 26 | AB13: =SUM(AB2:AB12) -> 145
A14: 13 | B14: 2336 | C14: 18.28 | D14: =IF(AND(B14<1000,C14<2),5,IF(AND(B14<1000,C14<4),6,IF(AND(B14<1000,C14<8),7,IF(AND(B14<1000,C14>8),8,IF(AND(B14<5000,C14<4),7,IF(AND(B14<5000,C14<8),8,9)))))) -> 9 | E14: =COUNTIF('ポスター掲示場一覧メイン (15欠番ver)'!E:E,A14) -> 10 | F14: =E14-D14 -> 1 | I14: 13 | J14: =IF($B14>1000,"",$B14) | K14: =IF($J14="","",IF($C14>$P$2,"",$C14)) | L14: =IF($J14="","",IF(AND($C14>=$P$2,$C14<$P$3),$C14,"")) | M14: =IF($J14="","",IF(AND($C14>=$P$3,$C14<$P$4),$C14,"")) | N14: =IF($J14="","",IF(AND($C14>=$P$4,$C14<$P$5),$C14,"")) | O14: =IF($B14>1000,"",$E14) | Q14: 13 | R14: =IF($B14>=1000,$B14,"") -> 2336 | S14: =IF($R14="","",IF($C14>$P$3,"",$C14)) | T14: =IF($R14="","",IF(AND($C14>=$P$3,$C14<$P$4),$C14,"")) | U14: =IF($R14="","",IF(AND($C14>=$P$4,$C14<$P$5),$C14,"")) -> 18.28 | V14: =IF($B14>1000,$E14,"") -> 10
A15: 14 | B15: 1670 | C15: =6.46+2.97 -> 9.43 | D15: =IF(AND(B15<1000,C15<2),5,IF(AND(B15<1000,C15<4),6,IF(AND(B15<1000,C15<8),7,IF(AND(B15<1000,C15>8),8,IF(AND(B15<5000,C15<4),7,IF(AND(B15<5000,C15<8),8,9)))))) -> 9 | E15: =COUNTIF('ポスター掲示場一覧メイン (15欠番ver)'!E:E,A15) -> 8 | F15: =E15-D15 -> -1 | I15: 14 | J15: =IF($B15>1000,"",$B15) | K15: =IF($J15="","",IF($C15>$P$2,"",$C15)) | L15: =IF($J15="","",IF(AND($C15>=$P$2,$C15<$P$3),$C15,"")) | M15: =IF($J15="","",IF(AND($C15>=$P$3,$C15<$P$4),$C15,"")) | N15: =IF($J15="","",IF(AND($C15>=$P$4,$C15<$P$5),$C15,"")) | O15: =IF($B15>1000,"",$E15) | Q15: 14 | R15: =IF($B15>=1000,$B15,"") -> 1670 | S15: =IF($R15="","",IF($C15>$P$3,"",$C15)) | T15: =IF($R15="","",IF(AND($C15>=$P$3,$C15<$P$4),$C15,"")) | U15: =IF($R15="","",IF(AND($C15>=$P$4,$C15<$P$5),$C15,"")) -> 9.43 | V15: =IF($B15>1000,$E15,"") -> 8
A16: 15 | I16: 15 | Q16: 15 | R16: =IF($B16>=1000,$B16,"") | S16: =IF($R16="","",IF($C16>$P$3,"",$C16)) | T16: =IF($R16="","",IF(AND($C16>=$P$3,$C16<$P$4),$C16,"")) | U16: =IF($R16="","",IF(AND($C16>=$P$4,$C16<$P$5),$C16,"")) | V16: =IF($B16>1000,$E16,"")
A17: 16 | B17: 1704 | C17: 3.94 | D17: =IF(AND(B17<1000,C17<2),5,IF(AND(B17<1000,C17<4),6,IF(AND(B17<1000,C17<8),7,IF(AND(B17<1000,C17>8),8,IF(AND(B17<5000,C17<4),7,IF(AND(B17<5000,C17<8),8,9)))))) -> 7 | E17: =COUNTIF('ポスター掲示場一覧メイン (15欠番ver)'!E:E,A17) -> 7 | F17: =E17-D17 -> 0 | I17: 16 | J17: =IF($B17>1000,"",$B17) | K17: =IF($J17="","",IF($C17>$P$2,"",$C17)) | L17: =IF($J17="","",IF(AND($C17>=$P$2,$C17<$P$3),$C17,"")) | M17: =IF($J17="","",IF(AND($C17>=$P$3,$C17<$P$4),$C17,"")) | N17: =IF($J17="","",IF(AND($C17>=$P$4,$C17<$P$5),$C17,"")) | O17: =IF($B17>1000,"",$E17) | Q17: 16 | R17: =IF($B17>=1000,$B17,"") -> 1704 | S17: =IF($R17="","",IF($C17>$P$3,"",$C17)) -> 3.94 | T17: =IF($R17="","",IF(AND($C17>=$P$3,$C17<$P$4),$C17,"")) | U17: =IF($R17="","",IF(AND($C17>=$P$4,$C17<$P$5),$C17,"")) | V17: =IF($B17>1000,$E17,"") -> 7
A18: 17 | B18: 1558 | C18: 13.38 | D18: =IF(AND(B18<1000,C18<2),5,IF(AND(B18<1000,C18<4),6,IF(AND(B18<1000,C18<8),7,IF(AND(B18<1000,C18>8),8,IF(AND(B18<5000,C18<4),7,IF(AND(B18<5000,C18<8),8,9)))))) -> 9 | E18: =COUNTIF('ポスター掲示場一覧メイン (15欠番ver)'!E:E,A18) -> 9 | F18: =E18-D18 -> 0 | I18: 17 | J18: =IF($B18>1000,"",$B18) | K18: =IF($J18="","",IF($C18>$P$2,"",$C18)) | L18: =IF($J18="","",IF(AND($C18>=$P$2,$C18<$P$3),$C18,"")) | M18: =IF($J18="","",IF(AND($C18>=$P$3,$C18<$P$4),$C18,"")) | N18: =IF($J18="","",IF(AND($C18>=$P$4,$C18<$P$5),$C18,"")) | O18: =IF($B18>1000,"",$E18) | Q18: 17 | R18: =IF($B18>=1000,$B18,"") -> 1558 | S18: =IF($R18="","",IF($C18>$P$3,"",$C18)) | T18: =IF($R18="","",IF(AND($C18>=$P$3,$C18<$P$4),$C18,"")) | U18: =IF($R18="","",IF(AND($C18>=$P$4,$C18<$P$5),$C18,"")) -> 13.38 | V18: =IF($B18>1000,$E18,"") -> 9
A19: 18 | B19: 211 | C19: 5.4 | D19: =IF(AND(B19<1000,C19<2),5,IF(AND(B19<1000,C19<4),6,IF(AND(B19<1000,C19<8),7,IF(AND(B19<1000,C19>8),8,IF(AND(B19<5000,C19<4),7,IF(AND(B19<5000,C19<8),8,9)))))) -> 7 | E19: =COUNTIF('ポスター掲示場一覧メイン (15欠番ver)'!E:E,A19) -> 5 | F19: =E19-D19 -> -2 | I19: 18 | J19: =IF($B19>1000,"",$B19) -> 211 | K19: =IF($J19="","",IF($C19>$P$2,"",$C19)) | L19: =IF($J19="","",IF(AND($C19>=$P$2,$C19<$P$3),$C19,"")) | M19: =IF($J19="","",IF(AND($C19>=$P$3,$C19<$P$4),$C19,"")) -> 5.4 | N19: =IF($J19="","",IF(AND($C19>=$P$4,$C19<$P$5),$C19,"")) | O19: =IF($B19>1000,"",$E19) -> 5 | Q19: 18 | R19: =IF($B19>=1000,$B19,"") | S19: =IF($R19="","",IF($C19>$P$3,"",$C19)) | T19: =IF($R19="","",IF(AND($C19>=$P$3,$C19<$P$4),$C19,"")) | U19: =IF($R19="","",IF(AND($C19>=$P$4,$C19<$P$5),$C19,"")) | V19: =IF($B19>1000,$E19,"")
A20: 19 | B20: 832 | C20: 21.86 | D20: =IF(AND(B20<1000,C20<2),5,IF(AND(B20<1000,C20<4),6,IF(AND(B20<1000,C20<8),7,IF(AND(B20<1000,C20>8),8,IF(AND(B20<5000,C20<4),7,IF(AND(B20<5000,C20<8),8,9)))))) -> 8 | E20: =COUNTIF('ポスター掲示場一覧メイン (15欠番ver)'!E:E,A20) -> 8 | F20: =E20-D20 -> 0 | I20: 19 | J20: =IF($B20>1000,"",$B20) -> 832 | K20: =IF($J20="","",IF($C20>$P$2,"",$C20)) | L20: =IF($J20="","",IF(AND($C20>=$P$2,$C20<$P$3),$C20,"")) | M20: =IF($J20="","",IF(AND($C20>=$P$3,$C20<$P$4),$C20,"")) | N20: =IF($J20="","",IF(AND($C20>=$P$4,$C20<$P$5),$C20,"")) -> 21.86 | O20: =IF($B20>1000,"",$E20) -> 8 | Q20: 19 | R20: =IF($B20>=1000,$B20,"") | S20: =IF($R20="","",IF($C20>$P$3,"",$C20)) | T20: =IF($R20="","",IF(AND($C20>=$P$3,$C20<$P$4),$C20,"")) | U20: =IF($R20="","",IF(AND($C20>=$P$4,$C20<$P$5),$C20,"")) | V20: =IF($B20>1000,$E20,"")
A21: 20 | B21: 157 | C21: 31.46 | D21: =IF(AND(B21<1000,C21<2),5,IF(AND(B21<1000,C21<4),6,IF(AND(B21<1000,C21<8),7,IF(AND(B21<1000,C21>8),8,IF(AND(B21<5000,C21<4),7,IF(AND(B21<5000,C21<8),8,9)))))) -> 8 | E21: =COUNTIF('ポスター掲示場一覧メイン (15欠番ver)'!E:E,A21) -> 5 | F21: =E21-D21 -> -3 | I21: 20 | J21: =IF($B21>1000,"",$B21) -> 157 | K21: =IF($J21="","",IF($C21>$P$2,"",$C21)) | L21: =IF($J21="","",IF(AND($C21>=$P$2,$C21<$P$3),$C21,"")) | M21: =IF($J21="","",IF(AND($C21>=$P$3,$C21<$P$4),$C21,"")) | N21: =IF($J21="","",IF(AND($C21>=$P$4,$C21<$P$5),$C21,"")) -> 31.46 | O21: =IF($B21>1000,"",$E21) -> 5 | Q21: 20 | R21: =IF($B21>=1000,$B21,"") | S21: =IF($R21="","",IF($C21>$P$3,"",$C21)) | T21: =IF($R21="","",IF(AND($C21>=$P$3,$C21<$P$4),$C21,"")) | U21: =IF($R21="","",IF(AND($C21>=$P$4,$C21<$P$5),$C21,"")) | V21: =IF($B21>1000,$E21,"")
A22: 21 | B22: 1235 | C22: 11.96 | D22: =IF(AND(B22<1000,C22<2),5,IF(AND(B22<1000,C22<4),6,IF(AND(B22<1000,C22<8),7,IF(AND(B22<1000,C22>8),8,IF(AND(B22<5000,C22<4),7,IF(AND(B22<5000,C22<8),8,9)))))) -> 9 | E22: =COUNTIF('ポスター掲示場一覧メイン (15欠番ver)'!E:E,A22) -> 8 | F22: =E22-D22 -> -1 | I22: 21 | J22: =IF($B22>1000,"",$B22) | K22: =IF($J22="","",IF($C22>$P$2,"",$C22)) | L22: =IF($J22="","",IF(AND($C22>=$P$2,$C22<$P$3),$C22,"")) | M22: =IF($J22="","",IF(AND($C22>=$P$3,$C22<$P$4),$C22,"")) | N22: =IF($J22="","",IF(AND($C22>=$P$4,$C22<$P$5),$C22,"")) | O22: =IF($B22>1000,"",$E22) | Q22: 21 | R22: =IF($B22>=1000,$B22,"") -> 1235 | S22: =IF($R22="","",IF($C22>$P$3,"",$C22)) | T22: =IF($R22="","",IF(AND($C22>=$P$3,$C22<$P$4),$C22,"")) | U22: =IF($R22="","",IF(AND($C22>=$P$4,$C22<$P$5),$C22,"")) -> 11.96 | V22: =IF($B22>1000,$E22,"") -> 8
A23: 22 | B23: 176 | C23: 3.44 | D23: =IF(AND(B23<1000,C23<2),5,IF(AND(B23<1000,C23<4),6,IF(AND(B23<1000,C23<8),7,IF(AND(B23<1000,C23>8),8,IF(AND(B23<5000,C23<4),7,IF(AND(B23<5000,C23<8),8,9)))))) -> 6 | E23: =COUNTIF('ポスター掲示場一覧メイン (15欠番ver)'!E:E,A23) -> 6 | F23: =E23-D23 -> 0 | I23: 22 | J23: =IF($B23>1000,"",$B23) -> 176 | K23: =IF($J23="","",IF($C23>$P$2,"",$C23)) | L23: =IF($J23="","",IF(AND($C23>=$P$2,$C23<$P$3),$C23,"")) -> 3.44 | M23: =IF($J23="","",IF(AND($C23>=$P$3,$C23<$P$4),$C23,"")) | N23: =IF($J23="","",IF(AND($C23>=$P$4,$C23<$P$5),$C23,"")) | O23: =IF($B23>1000,"",$E23) -> 6 | Q23: 22 | R23: =IF($B23>=1000,$B23,"") | S23: =IF($R23="","",IF($C23>$P$3,"",$C23)) | T23: =IF($R23="","",IF(AND($C23>=$P$3,$C23<$P$4),$C23,"")) | U23: =IF($R23="","",IF(AND($C23>=$P$4,$C23<$P$5),$C23,"")) | V23: =IF($B23>1000,$E23,"")
A24: 23 | B24: 575 | C24: 10.08 | D24: =IF(AND(B24<1000,C24<2),5,IF(AND(B24<1000,C24<4),6,IF(AND(B24<1000,C24<8),7,IF(AND(B24<1000,C24>8),8,IF(AND(B24<5000,C24<4),7,IF(AND(B24<5000,C24<8),8,9)))))) -> 8 | E24: =COUNTIF('ポスター掲示場一覧メイン (15欠番ver)'!E:E,A24) -> 5 | F24: =E24-D24 -> -3 | I24: 23 | J24: =IF($B24>1000,"",$B24) -> 575 | K24: =IF($J24="","",IF($C24>$P$2,"",$C24)) | L24: =IF($J24="","",IF(AND($C24>=$P$2,$C24<$P$3),$C24,"")) | M24: =IF($J24="","",IF(AND($C24>=$P$3,$C24<$P$4),$C24,"")) | N24: =IF($J24="","",IF(AND($C24>=$P$4,$C24<$P$5),$C24,"")) -> 10.08 | O24: =IF($B24>1000,"",$E24) -> 5 | Q24: 23 | R24: =IF($B24>=1000,$B24,"") | S24: =IF($R24="","",IF($C24>$P$3,"",$C24)) | T24: =IF($R24="","",IF(AND($C24>=$P$3,$C24<$P$4),$C24,"")) | U24: =IF($R24="","",IF(AND($C24>=$P$4,$C24<$P$5),$C24,"")) | V24: =IF($B24>1000,$E24,"")
A25: 24 | B25: 217 | C25: 5.35 | D25: =IF(AND(B25<1000,C25<2),5,IF(AND(B25<1000,C25<4),6,IF(AND(B25<1000,C25<8),7,IF(AND(B25<1000,C25>8),8,IF(AND(B25<5000,C25<4),7,IF(AND(B25<5000,C25<8),8,9)))))) -> 7 | E25: =COUNTIF('ポスター掲示場一覧メイン (15欠番ver)'!E:E,A25) -> 4 | F25: =E25-D25 -> -3 | I25: 24 | J25: =IF($B25>1000,"",$B25) -> 217 | K25: =IF($J25="","",IF($C25>$P$2,"",$C25)) | L25: =IF($J25="","",IF(AND($C25>=$P$2,$C25<$P$3),$C25,"")) | M25: =IF($J25="","",IF(AND($C25>=$P$3,$C25<$P$4),$C25,"")) -> 5.35 | N25: =IF($J25="","",IF(AND($C25>=$P$4,$C25<$P$5),$C25,"")) | O25: =IF($B25>1000,"",$E25) -> 4 | Q25: 24 | R25: =IF($B25>=1000,$B25,"") | S25: =IF($R25="","",IF($C25>$P$3,"",$C25)) | T25: =IF($R25="","",IF(AND($C25>=$P$3,$C25<$P$4),$C25,"")) | U25: =IF($R25="","",IF(AND($C25>=$P$4,$C25<$P$5),$C25,"")) | V25: =IF($B25>1000,$E25,"")
A26: 25 | B26: 148 | C26: 18.26 | D26: =IF(AND(B26<1000,C26<2),5,IF(AND(B26<1000,C26<4),6,IF(AND(B26<1000,C26<8),7,IF(AND(B26<1000,C26>8),8,IF(AND(B26<5000,C26<4),7,IF(AND(B26<5000,C26<8),8,9)))))) -> 8 | E26: =COUNTIF('ポスター掲示場一覧メイン (15欠番ver)'!E:E,A26) -> 5 | F26: =E26-D26 -> -3 | I26: 25 | J26: =IF($B26>1000,"",$B26) -> 148 | K26: =IF($J26="","",IF($C26>$P$2,"",$C26)) | L26: =IF($J26="","",IF(AND($C26>=$P$2,$C26<$P$3),$C26,"")) | M26: =IF($J26="","",IF(AND($C26>=$P$3,$C26<$P$4),$C26,"")) | N26: =IF($J26="","",IF(AND($C26>=$P$4,$C26<$P$5),$C26,"")) -> 18.26 | O26: =IF($B26>1000,"",$E26) -> 5 | Q26: 25 | R26: =IF($B26>=1000,$B26,"") | S26: =IF($R26="","",IF($C26>$P$3,"",$C26)) | T26: =IF($R26="","",IF(AND($C26>=$P$3,$C26<$P$4),$C26,"")) | U26: =IF($R26="","",IF(AND($C26>=$P$4,$C26<$P$5),$C26,"")) | V26: =IF($B26>1000,$E26,"")
A27: 26 | B27: 120 | C27: 11.13 | D27: =IF(AND(B27<1000,C27<2),5,IF(AND(B27<1000,C27<4),6,IF(AND(B27<1000,C27<8),7,IF(AND(B27<1000,C27>8),8,IF(AND(B27<5000,C27<4),7,IF(AND(B27<5000,C27<8),8,9)))))) -> 8 | E27: =COUNTIF('ポスター掲示場一覧メイン (15欠番ver)'!E:E,A27) -> 6 | F27: =E27-D27 -> -2 | I27: 26 | J27: =IF($B27>1000,"",$B27) -> 120 | K27: =IF($J27="","",IF($C27>$P$2,"",$C27)) | L27: =IF($J27="","",IF(AND($C27>=$P$2,$C27<$P$3),$C27,"")) | M27: =IF($J27="","",IF(AND($C27>=$P$3,$C27<$P$4),$C27,"")) | N27: =IF($J27="","",IF(AND($C27>=$P$4,$C27<$P$5),$C27,"")) -> 11.13 | O27: =IF($B27>1000,"",$E27) -> 6 | Q27: 26 | R27: =IF($B27>=1000,$B27,"") | S27: =IF($R27="","",IF($C27>$P$3,"",$C27)) | T27: =IF($R27="","",IF(AND($C27>=$P$3,$C27<$P$4),$C27,"")) | U27: =IF($R27="","",IF(AND($C27>=$P$4,$C27<$P$5),$C27,"")) | V27: =IF($B27>1000,$E27,"")
A28: 27 | B28: 2105 | C28: 4.32 | D28: =IF(AND(B28<1000,C28<2),5,IF(AND(B28<1000,C28<4),6,IF(AND(B28<1000,C28<8),7,IF(AND(B28<1000,C28>8),8,IF(AND(B28<5000,C28<4),7,IF(AND(B28<5000,C28<8),8,9)))))) -> 8 | E28: =COUNTIF('ポスター掲示場一覧メイン (15欠番ver)'!E:E,A28) -> 7 | F28: =E28-D28 -> -1 | I28: 27 | J28: =IF($B28>1000,"",$B28) | K28: =IF($J28="","",IF($C28>$P$2,"",$C28)) | L28: =IF($J28="","",IF(AND($C28>=$P$2,$C28<$P$3),$C28,"")) | M28: =IF($J28="","",IF(AND($C28>=$P$3,$C28<$P$4),$C28,"")) | N28: =IF($J28="","",IF(AND($C28>=$P$4,$C28<$P$5),$C28,"")) | O28: =IF($B28>1000,"",$E28) | Q28: 27 | R28: =IF($B28>=1000,$B28,"") -> 2105 | S28: =IF($R28="","",IF($C28>$P$3,"",$C28)) | T28: =IF($R28="","",IF(AND($C28>=$P$3,$C28<$P$4),$C28,"")) -> 4.32 | U28: =IF($R28="","",IF(AND($C28>=$P$4,$C28<$P$5),$C28,"")) | V28: =IF($B28>1000,$E28,"") -> 7
A29: 合計 | B29: =SUM(B2:B28) -> 27807 | C29: =SUM(C2:C28) -> 197.79 | D29: =SUM(D2:D28) -> 187 | E29: =SUM(E2:E28) -> 145 | F29: =SUM(F2:F28) -> -42 | I29: 投票所の数 | J29: =I28-COUNTIF($J$2:$J$28,"") -> 15 | K29: =COUNT(K2:K28) -> 4 | L29: =COUNT(L2:L28) -> 2 | M29: =COUNT(M2:M28) -> 3 | N29: =COUNT(N2:N28) -> 6 | Q29: 投票所の数 | R29: =Q28-COUNTIF($R$2:$R$28,"") -> 11 | S29: =COUNT(S2:S28) -> 6 | T29: =COUNT(T2:T28) -> 1 | U29: =COUNT(U2:U28) -> 4
I30: 掲示場の数 | K30: =SUMIF(K2:K28,">0.001",$O$2:$O$28) -> 13 | L30: =SUMIF(L2:L28,">0.001",$O$2:$O$28) -> 8 | M30: =SUMIF(M2:M28,">0.001",$O$2:$O$28) -> 15 | N30: =SUMIF(N2:N28,">0.001",$O$2:$O$28) -> 35 | O30: =SUM(O2:O28) -> 71 | Q30: 掲示場の数 | S30: =SUMIF(S2:S28,">0.001",$V$2:$V$28) -> 32 | T30: =SUMIF(T2:T28,">0.001",$V$2:$V$28) -> 7 | U30: =SUMIF(U2:U28,">0.001",$V$2:$V$28) -> 35 | V30: =SUM(V2:V28) -> 74

Sheet 一覧_設計書・業者・候補者渡し台帳用 (旧)
A1: 設置№ | B1: 投票区 | C1: 番号 | D1: 掲示場名 | E1: 所在地 （住宅地図対応）
A2: =#REF! -> #REF! | B2: =#REF! -> #REF! | C2: =#REF! -> #REF! | D2: =#REF! -> #REF! | E2: =#REF! -> #REF!
A3: =#REF! -> #REF! | B3: =#REF! -> #REF! | C3: =#REF! -> #REF! | D3: =#REF! -> #REF! | E3: =#REF! -> #REF!
A4: =#REF! -> #REF! | B4: =#REF! -> #REF! | C4: =#REF! -> #REF! | D4: =#REF! -> #REF! | E4: =#REF! -> #REF!
A5: =#REF! -> #REF! | B5: =#REF! -> #REF! | C5: =#REF! -> #REF! | D5: =#REF! -> #REF! | E5: =#REF! -> #REF!
A6: =#REF! -> #REF! | B6: =#REF! -> #REF! | C6: =#REF! -> #REF! | D6: =#REF! -> #REF! | E6: =#REF! -> #REF!
A7: =#REF! -> #REF! | B7: =#REF! -> #REF! | C7: =#REF! -> #REF! | D7: =#REF! -> #REF! | E7: =#REF! -> #REF!
A8: =#REF! -> #REF! | B8: =#REF! -> #REF! | C8: =#REF! -> #REF! | D8: =#REF! -> #REF! | E8: =#REF! -> #REF!
A9: =#REF! -> #REF! | B9: =#REF! -> #REF! | C9: =#REF! -> #REF! | D9: =#REF! -> #REF! | E9: =#REF! -> #REF!
A10: =#REF! -> #REF! | B10: =#REF! -> #REF! | C10: =#REF! -> #REF! | D10: =#REF! -> #REF! | E10: =#REF! -> #REF!
A11: =#REF! -> #REF! | B11: =#REF! -> #REF! | C11: =#REF! -> #REF! | D11: =#REF! -> #REF! | E11: =#REF! -> #REF!
A12: =#REF! -> #REF! | B12: =#REF! -> #REF! | C12: =#REF! -> #REF! | D12: =#REF! -> #REF! | E12: =#REF! -> #REF!
A13: =#REF! -> #REF! | B13: =#REF! -> #REF! | C13: =#REF! -> #REF! | D13: =#REF! -> #REF! | E13: =#REF! -> #REF!
... A149: =#REF! -> #REF! | B149: =#REF! -> #REF! | C149: =#REF! -> #REF! | D149: =#REF! -> #REF! | E149: =#REF! -> #REF!

Sheet ポスター掲示場一覧メイン (旧)
A1: 設置№ | B1: 掲示場名 | C1: 所在地 （住宅地図対応） | D1: 掲示場住所（公図） | E1: 投票区 | F1: 区毎 番号 | G1: 所有者等氏名 | H1: 郵便番号 | I1: 住所 | J1: 電話番号 | K1: 依頼文 別文書あり | L1: 依頼文 あらかじめ（承諾書あり文書） | M1: 依頼文 肩書_差込用 | N1: 依頼文 相馬市（庁内）あて | O1: 依頼文 なし | P1: 依頼文 文書箱に入れる | Q1: （謝礼） 宅急便 | R1: （謝礼） 文書箱or手渡し | S1: 変更等の履歴 | T1: 業者へ指示事項 | W1: 謝礼確認 | X1: 依頼文 （承諾書あり文書） テンプレ03
A2: 1 | B2: 市営長谷堂住宅入口 | C2: 西山字長谷堂9-9 | D2: 西山字長谷堂9-9 | E2: 1 | F2: 1 | G2: 相馬市（建築課） | N2: 1 | P2: 1
A3: 2 | B3: そうま土地改良区道路側ブロック | C3: 西山字表西山76 | D3: 西山字表西山76 | E3: 1 | F3: 2 | G3: 相馬地方広域水道企業団 | H3: 976-0001 | I3: 相馬市大野台二丁目3-5 | J3: 35-1020？ 35-6800 | L3: 1 | M3: 貴職 | P3: 1 | S3: H23.2.21現地確認により所在地変更
A4: 3 | B4: 清野宅西側県有地（県道相馬大内線沿） | C4: 西山字水沢316-5（西側） | D4: 西山字水沢316-9 | E4: 1 | F4: 3 | G4: （県有地：公衆用道路で登記） | K4: 1 | S4: H28.3掲示場名修正 R01より道路占用申請書提出
A5: 4 | B5: 防災倉庫跡地前 | C5: 西山字表西山50-1 | D5: 西山字表西山50-1 | E5: 1 | F5: 4 | G5: 相馬市（地域防災対策室） | N5: 1 | P5: 1 | S5: R05.5.11掲示場名称変更、所在地を公図上の地番に修正 防災倉庫前（旧農協倉庫前）西山字表西山62-2（南側）→（防災倉庫跡地前）西山字表西山50-1
A6: 5 | B6: 相馬高等学校南側フェンス | C6: 中村字大手先57-1 | D6: 中村字大手先57-1 | E6: 1 | F6: 5 | G6: 福島県立相馬高等学校長 | H6: 976-0042 | I6: 相馬市中村字大手先57-1 | J6: 36-1331 | K6: 1 | S6: R03.11行政財産許可申請書を提出すること（相高室井様） H27.8.26設置場所名修正
A7: 6 | B7: 保健センター前 | C7: 中村字大手先44-3 | D7: 中村字大手先44-3 | E7: 1 | F7: 6 | G7: 相馬市（保健センター） | N7: 1 | P7: 1 | S7: H28.2現地確認。現状維持
A8: 7 | B8: 今野宅西側市道敷(空地） | C8: 中村字本町108 | D8: 中村字本町108-1前 | E8: 1 | F8: 7 | G8: 相馬市（都市整備課） | N8: 1 | P8: 1 | S8: H22.10.17訂正 R5.5.11掲示場名修正 （今野齊宅西側市道敷（空地）→今野宅西側市道敷（空地）） 公図上の地番誤りのため修正（相馬市中村字本町108→相馬市中村字本町108-1前）
A9: 8 | B9: 市役所西南側フェンス | C9: 中村字北町63-3 | D9: 中村字北町63-3 | E9: 2 | F9: 1 | G9: 相馬市（財政課） | N9: 1 | P9: 1 | S9: H29.11現地確認。新庁舎南西側に変更
A10: 9 | B10: 振興公社ビル駐車場南端フェンス | C10: 中村字塚ノ町65-16 | D10: 中村字塚ノ町65-16 | E10: 2 | F10: 2 | G10: ㈱相馬市振興公社 | H10: 976-0042 | I10: 相馬市中村字塚ノ町65-16 | J10: 35-5544 | L10: 1 | M10: 貴職 | S10: 謝礼不要と申し出があり、H25.12市長選時より送付しないこととした H28.2現地確認。現状維持（南側）。
A11: 10 | B11: 東邦銀行相馬支店南側国道沿 | C11: 中村字大町58-1 | D11: 中村字大町58-1 | E11: 2 | F11: 3 | G11: ㈱東邦銀行相馬支店長 | H11: 976-0042 | I11: 相馬市中村字大町58-1 | J11: 36-3131 | L11: 1 | M11: 貴職 | R11: 1 | S11: お礼手渡し | W11: ③ 謝礼品の送付のために個人情報（住所、氏名、電話番号）を使用すること。
A12: 11 | B12: シーシャBAR＆カラオケ北側フェンス | C12: 中村字新町10-1 | D12: 中村字新町10-5 | E12: 2 | F12: 4 | G12: 勇建設株式会社 代表取締役 松岡 勇太 | H12: 976-0007 | I12: 相馬市大坪字馬見塚112番地 | J12: 26-5558（法人代表）、09075294088 | L12: 1 | M12: あなた様 | Q12: 1 | S12: R040519送付先変更 R040421地震の罹災状況確認。設置可能。 R031011所有者変更→市長選より送付先変更（相馬市成田字船橋15番地の1勇建設） Ｒ030901店舗名称変更R6から新町緑地へ移動したい（管理者都市整備課） | W12: ③ 謝礼品の送付のために個人情報（住所、氏名、電話番号）を使用すること。
A13: 12 | B13: 前沢目公園東側フェンス | C13: 中村字泉町3 | D13: 中村字泉町3 | E13: 3 | F13: 1 | G13: 相馬市（都市整備課） | N13: 1 | P13: 1
A14: 13 | B14: 高池前公園南側フェンス | C14: 中村字高池前44 | D14: 中村字高池前44 | E14: 3 | F14: 2 | G14: 相馬市（都市整備課） | N14: 1 | P14: 1 | S14: R05.5.11所在地を公図上の地番に修正 中村字高池前43→中村字高池前44
A15: 14 | B15: 相馬市民プール向フェンス | C15: 中村字桜ヶ丘54-2（南側） | D15: 中村字桜ヶ丘54-2（南側） | E15: 3 | F15: 3 | G15: （市有地） | O15: 1 | S15: R5.5.15所在地等を公図上の地番に修正 （中村字桜ヶ丘54-4→中村字桜ヶ丘54-2）
A16: 15 | B16: 桜ヶ丘公園北側フェンス | C16: 中村字桜ヶ丘154 | D16: 中村字桜ヶ丘154 | E16: 3 | F16: 4 | G16: 相馬市（都市整備課） | N16: 1 | P16: 1 | S16: H27.8.28場所変更 R05.5.8所在地を公図上の地番に修正 中村字桜ケ丘149-2（南側）→中村字桜ケ丘154
A17: 16 | B17: はまなす商店街東側 | C17: 中村字塚田62、72 | D17: 中村字塚田62、72 | E17: 3 | F17: 5 | G17: 相馬市（商工観光課） | N17: 1 | S17: R04.05遠藤ハル子さん死亡。孫（光紀）に所有者・送付先変更。 H23.2.21現地確認により所在地変更。 R6から塚田仮設店舗へ移動したい（管理者商工観光課） | W17: ③ 謝礼品の送付のために個人情報（住所、氏名、電話番号）を使用すること。
A18: 17 | B18: 福祉センターはまなす館（北西側） | C18: 小泉字高池357 | D18: 小泉字高池357 | E18: 3 | F18: 6 | G18: 相馬市（高齢福祉課） | N18: 1 | P18: 1 | S18: H28.7参院選より変更
A19: 18 | B19: 和料理みはらし道路向のフェンス | C19: 中野字寺前1-2（北側） | D19: 中野字寺前1-2（北側） | E19: 4 | F19: 1 | G19: （市有地） | O19: 1 | S19: H28.2現地確認。現状維持 R5.5.11所在地を公図上の地番から見た地番に修正 中野字寺前35→中野字寺前1-2北側
A20: 19 | B20: 福島トヨペット㈱相馬店（南側） | C20: 中野字寺前340 | D20: 中野字寺前340 | E20: 4 | F20: 2 | G20: 福島トヨペット株式会社相馬店店長 | H20: 976-0037 | I20: 相馬市中野字寺前335 | J20: 36-5121 | L20: 1 | M20: 貴職 | Q20: 1 | S20: R04.6店長変更（→鈴木百合子）。削除した。 Ｈ30.8場所変更 | W20: ③ 謝礼品の送付のために個人情報（住所、氏名、電話番号）を使用すること。
A21: 20 | B21: 向陽中学校敷地北側（ネットフェンス前） | C21: 中野字桜町76 | D21: 中野字桜町76 | E21: 4 | F21: 3 | G21: 向陽中学校長 | H21: 976-0037 | I21: 相馬市中野字桜町76 | J21: 35-2348 | L21: 1 | M21: 貴職 | N21: 1 | P21: 1 | S21: 依頼文２箇所（相馬市教育長（総務課）へも出す） | T21: R4.4場所移動。北側ネットフェンス前へ移動。 | U21: 向陽中学校敷地北側（フェンス前） | V21: ←R4.4元に戻した。
A22: 21 | B22: 市営黒木田住宅前 | C22: 中野字黒木田152-1 | D22: 中野字黒木田152-1 | E22: 5 | F22: 1 | G22: 相馬市（建築課） | N22: 1 | P22: 1
A23: 22 | B23: 愛育園南側フェンス | C23: 中野字清水172-2 | D23: 中野字清水172-2 | E23: 5 | F23: 2 | G23: 相馬市（愛育園） | N23: 1 | P23: 1 | S23: H28.2現地確認。現状維持
A24: 23 | B24: 高玉宅前南側の西より宇多川土手 | C24: 北飯渕三丁目1-1向 | D24: 北飯渕三丁目1-1向 | E24: 6 | F24: 1 | G24: （市有地） | O24: 1 | S24: R05.5.11掲示場名修正。 （高玉清宅前南側の西より宇多川土手→高玉宅前南側の西より宇多川土手）
A25: 24 | B25: レオパレスファミーユⅠ前南側歩道の花壇 | C25: 北飯渕二丁目6-6前 | D25: 北飯渕二丁目6-6前 | E25: 6 | F25: 2 | G25: （市有地） | O25: 1 | S25: H21.7.30場所確認。歩道の花壇に立てているため、所有者なし。
A26: 25 | B26: ㈱南東北クボタ相馬営業所東側 | C26: 沖ノ内三丁目10-25 | D26: 沖ノ内三丁目10-25 | E26: 6 | F26: 3 | G26: ㈱南東北クボタ相馬営業所長 | H26: 976-0016 | I26: 相馬市沖ノ内三丁目10-25 | J26: 35-3517 | L26: 1 | M26: 貴職 | Q26: 1 | S26: 近辺で代替地を探したが適地がなく、とりあえず現状維持。次期市議選までに要再検討 R6からみんなの家 フェンスへ移動したい（管理者都市整備課） | W26: ③ 謝礼品の送付のために個人情報（住所、氏名、電話番号）を使用すること。
A27: 26 | B27: 沖ノ内公園北側フェンス | C27: 沖ノ内二丁目6-1 | D27: 沖ノ内二丁目6-1 | E27: 6 | F27: 4 | G27: 相馬市（都市整備課） | N27: 1 | P27: 1 | S27: R05.5.8所在地修正（沖ノ内二丁目6（北側）→沖ノ内二丁目6-1）
A28: 27 | B28: 松崎（門馬）宅ブロック前 | C28: 小泉字根岸120-2 | D28: 小泉字根岸120-2 | E28: 7 | F28: 1 | G28: 松崎 充枝 | H28: 976-0013 | I28: 相馬市小泉字根岸120-2 | J28: 090-7528-0408 36-5870 | L28: 1 | M28: あなた様 | Q28: 1 | S28: H28.7参院選より変更。H28.5～新築工事のため自宅解体予定。R3.9所有者名義変更（門馬福枝→松崎充枝） | W28: ③ 謝礼品の送付のために個人情報（住所、氏名、電話番号）を使用すること。
A29: 28 | B29: 中村幼稚園入口、警察官舎前 | C29: 新沼字坪ヶ迫1-1 | D29: 新沼字坪ヶ迫1-1 | E29: 7 | F29: 2 | G29: 相馬市（建築課） | N29: 1 | P29: 1 | S29: 武内 洋子 976-0011 相馬市新沼字坪ヶ迫1-11 36-2992 | W29: ③ 謝礼品の送付のために個人情報（住所、氏名、電話番号）を使用すること。
A30: 29 | B30: 公立相馬総合病院西側出入口 | C30: 新沼字坪ヶ迫98 | D30: 新沼字坪ヶ迫98（西側） | E30: 7 | F30: 3 | G30: 相馬方部衛生組合 | H30: 976-0042 | I30: 相馬市中村字北町63-3 | J30: 35-4124 | L30: 1 | M30: 貴職 | P30: 1 | S30: Ｈ30.8.10承諾書が未達だった為ＴＥＬ．阿部照男さん（新沼坪ヶ迫579）は今回限り了承とのこと。しかし次回からは場所を変更してほしいと要望有。Ｈ30.8.28局長現場確認し公立相馬総合病院敷地内に設置したい旨、公立へ確認快諾してもらう。市有地につき財政確認。方部衛生組合へ貸している為そちらへ通知文出してほしいとのこと。R01.6相馬市（財政課）宛不要。 | T30: H25.6.11位置変更 ブロック側へ H30.9.14位置変更 公立病院へ
A31: 30 | B31: 鹿島神社入口 | C31: 新沼字鹿島前383 | D31: 新沼字鹿島前383 | E31: 7 | F31: 4 | G31: 中村中部１区区長 高玉 義則 | H31: 976-0011 | I31: 相馬市新沼字大森112 | J31: 38-8796 | L31: 1 | M31: あなた様 | R31: 1 | S31: H28.4区長変更 | W31: ③ 謝礼品の送付のために個人情報（住所、氏名、電話番号）を使用すること。
A32: 31 | B32: 中島ストア東側緑地 | C32: 新沼字刈敷田21-34 | D32: 新沼字刈敷田21-34 | E32: 8 | F32: 1 | G32: 相馬市（都市整備課） | N32: 1 | P32: 1 | S32: R05.5.12公図上の地番誤りのため地番を修正（新沼字刈敷田6→新沼字刈敷田21-34） 所在地を公図上の地番に修正（新沼字刈敷田21-9（北側）→新沼字刈敷田21-34）
A33: 32 | B33: 刈敷田集会所 | C33: 新沼字刈敷田14-13（東側） | D33: 新沼字刈敷田14-13 | E33: 8 | F33: 2 | G33: 中村中部７区区長 佐藤 茂 | H33: 976-0011 | I33: 相馬市新沼字刈敷田31-5 | J33: 35-6115、090-4882-5287 | L33: 1 | M33: あなた様 | R33: 1 | S33: R4.4区長変更 | W33: ③ 謝礼品の送付のために個人情報（住所、氏名、電話番号）を使用すること。
A34: 33 | B34: 美容室はなみずき道路向三差路 | C34: 新沼字観音前138-1 （南側） | D34: 新沼字観音前233-2 | E34: 8 | F34: 3 | G34: （市有地） | O34: 1 | S34: H21.8.30衆院選の時、今まで立っていたところは佐藤丞さん（新沼字観音前94-1）の所有との連絡があり調査したところ佐藤さんの所有であった。衆院選についてはこのまま使用させてもらうこととし、H21.12.20市長選より場所を道路向かい側に変更した（市有地）
A35: 34 | B35: 本笑停留所フェンス | C35: 小泉字山田432-1 （北側） | D35: 小泉字山田436-4 | E35: 8 | F35: 4 | G35: （県有地） | K35: 1 | S35: R01より道路占用申請書提出
A36: 35 | B36: プラシード前三差路 | C36: 本笑字前田21-1 （南側） | D36: 本笑字中江8-2 | E36: 8 | F36: 5 | G36: （市有地） | O36: 1 | S36: R5.5.17公図上の地番誤りのため、修正 本笑字中江8-1→本笑字中江8-2
A37: 36 | B37: 小泉山田停留所（電柱の東側） | C37: 小泉字山田316-1 （南側） | D37: 小泉字山田152-1 | E37: 8 | F37: 6 | G37: 橘 正 | H37: 976-0013 | I37: 相馬市小泉字山田316-1 | J37: 38-7754 | L37: 1 | M37: あなた様 | Q37: 1 | S37: R6から刈敷田住宅へ移動したい（管理 者 建築課）H26.10.2小野内工務店より土地の所有者から設置について許可していない、今回は良いが次回は設置しないでほしいといわれたとのこと。 土地所有者の奥さんにお詫びし、次回以降の設置についてお願いした。 | T37: 電柱の東側（松川浦寄り）に設置 | W37: ③ 謝礼品の送付のために個人情報（住所、氏名、電話番号）を使用すること。
A38: 37 | B38: 光陽サッカー場正面入口（東側） | C38: 光陽三丁目3-1 | D38: 光陽三丁目3-1 | E38: 8 | F38: 7 | G38: 相馬市教育長（生涯学習課） | H38: 976-0022 | N38: 1 | P38: 1 | S38: Ｈ30.8場所変更
A39: 38 | B39: 中村第二小学校前土手 | C39: 尾浜字細田1 | D39: 尾浜字細田1 | E39: 9 | F39: 1 | G39: 中村第二小学校長 | H39: 976-0022 | I39: 相馬市尾浜字細田1 | J39: 38-8104 | L39: 1 | M39: 貴職 | N39: 1 | P39: 1 | S39: 依頼文２箇所（相馬市教育長（総務課）へも出す） R01.7.21場所変更。
A40: 39 | B40: 市営細田東住宅団地道路向、松田宅入口（電柱の北側） | C40: 尾浜字細田406-9（東側） | D40: 尾浜字細田389-1 | E40: 9 | F40: 2 | G40: 松田 里子 | H40: 976-0022 | I40: 相馬市尾浜字細田389-1 | J40: 38-6084 | L40: 1 | M40: あなた様 | Q40: 1 | S40: H28.7参院選より変更。 R6から細田井戸端長屋東側フェンスへ移動したい（管理者建築課） | T40: H28.3場所変更。カーブミラーと電柱の間はワラビが出るので避けて、電柱より北側に設置すること | W40: ③ 謝礼品の送付のために個人情報（住所、氏名、電話番号）を使用すること。
A41: 40 | B41: 下り松停留所（相馬港方面） | C41: 原釜字札ノ沢89（北側） | D41: 原釜字札ノ沢 | E41: 9 | F41: 3 | G41: （市有地） | O41: 1
A42: 41 | B42: トミ美容室東側 | C42: 尾浜字原42-1 | D42: 尾浜字原 | E42: 9 | F42: 4 | G42: 山崎 昌利 | H42: 976-0021 | I42: 相馬市原釜字北高野7-23 市営北高野団地40号棟 | J42: 38-8727 080-2824-8449 | L42: 1 | M42: あなた様 | Q42: 1 | S42: R6から東側県道花壇へ移動したい（所有者福島県 管理 早川区長）→次回以降の検討事項とする。 | W42: ③ 謝礼品の送付のために個人情報（住所、氏名、電話番号）を使用すること。
A43: 42 | B43: 東部公民館入口（元水源地）ガードフェンス | C43: 原釜字北高野56（東側） | D43: 原釜字由沼 | E43: 10 | F43: 1 | G43: （市有地） | O43: 1
A44: 43 | B44: 阿部宅ブロック塀 | C44: 原釜字大津9-1 （南側） | D44: 原釜字大津10 | E44: 10 | F44: 2 | G44: 阿部 三夫 | H44: 976-0021 | I44: 相馬市原釜字大津9-1 | J44: 38-8010 | L44: 1 | M44: あなた様 | Q44: 1 | S44: H28.2.15現地確認。ブロックにより市議選看板は設置が困難な状況。原釜防災集合所を含め近辺の適切な場所を探したがないため、当面現状維持。現在修理している道路が完成したら、そこへ移転することも含め再度要検討。 | W44: ③ 謝礼品の送付のために個人情報（住所、氏名、電話番号）を使用すること。
A45: 44 | B45: 株式会社ナガホリ管理地 | C45: 尾浜字高塚280-1 | D45: 尾浜字高塚280-1 | E45: 11 | F45: 1 | G45: ソマ株式会社 | H45: 979-2512 | I45: 相馬市柚木字一の坪86 | J45: 36-3502 | L45: 1 | M45: 貴職 | Q45: 1 | S45: R2.5次回選挙より変更 株式会社ナガホリが所有。ソマ株式会社 工場長 オオツキ氏対応 | T45: Ｒ2.5場所変更 | W45: ③ 謝礼品の送付のために個人情報（住所、氏名、電話番号）を使用すること。
A46: 45 | B46: 高平児童公園南東側 | C46: 尾浜字高塚217 | D46: 尾浜字高塚217 | E46: 11 | F46: 2 | G46: 相馬市（都市整備課） | N46: 1 | P46: 1 | S46: Ｈ28.7参院選より変更 R5.5.11掲示場名・所在地を公図上の地番に修正 高平児童公園東側：尾浜字平前4-15（西側）→高平児童公園南東側：尾浜字高塚217
A47: 46 | B47: 尾浜こども公園駐車場東側 | C47: 尾浜字牛鼻毛67-2 | D47: 尾浜字須賀畑47-1、47-2、尾浜字寺前5 | E47: 11 | F47: 3 | G47: 相馬市（都市整備課） | N47: 1 | P47: 1 | S47: R4.4.21地震の罹災状況確認。設置可能。 Ｈ29.10衆院選より娘へ依頼変更。旧電話番号・024-842-4353 R5.7.20土地売買予定のため貸せない旨、八越智恵子氏（〒234-0051神奈川県横浜市港南区日野7-3-46）より連絡（TEL045-842-4353）あり。 設置場所を尾浜字平前103から尾浜字牛鼻毛67-2に変更。 R99衆院選より早川宅西側から尾浜こども公園駐車場東側に変更。 旧：早川武（早川武見） 相馬市尾浜字牛鼻毛67－2 | W47: ③ 謝礼品の送付のために個人情報（住所、氏名、電話番号）を使用すること。
A48: 47 | B48: ホテルみなとや前緑地、南端 | C48: 尾浜字追川137 | D48: 尾浜字追川137 | E48: 11 | F48: 4 | G48: 福島県相馬港湾建設事務所長 | H48: 976-0021 | I48: 相馬市原釜字大津183 | J48: 26-8768 | K48: 1 | S48: 依頼文ではなく漁港施設内における協議書を提出する | T48: ホテルの出入口の邪魔にならないようにすること。 看板設置時に強風時の倒壊防止対策を行うこと。
A49: 48 | B49: 光陽パークゴルフ場入口 | C49: 光陽四丁目2-5 | D49: 光陽四丁目2-5 | E49: 12 | F49: 1 | G49: 相馬市教育長（生涯学習課） | N49: 1 | P49: 1 | S49: H30.9県議補選より、道路拡幅工事のため変更。変更前は石上字南蛯沢628 公立病院駐車場北側空地
A50: 49 | B50: 渡部綱記翁頌徳碑の東隣 | C50: 石上字中曽根40 （南側） | D50: 石上字中曽根 | E50: 12 | F50: 2 | G50: 渡部 敏綱 | H50: 976-0006 | I50: 相馬市石上字中曽根40 | J50: 35-5919 | L50: 1 | M50: あなた様 | Q50: 1 | S50: H23.2.21現地確認により変更 | W50: ③ 謝礼品の送付のために個人情報（住所、氏名、電話番号）を使用すること。
A51: 50 | B51: 旧ＪＡそうま大野支店前 | C51: 石上字前田1-1 | D51: 石上字前田1-1 | E51: 12 | F51: 3 | G51: ＪＡふくしま未来相馬中村総合支店長 | H51: 976-0042 | I51: 相馬市中村一丁目15-5 | J51: 36-2101 | L51: 1 | M51: 貴職 | S51: Ｈ28.3.1ＪＡ合併により所有者名変更 令和5年市議選の時から謝礼辞退
A52: 51 | B52: 山崎宅前（土手） | C52: 塚部字山崎8-1 | D52: 塚部字山崎8-1 | E52: 12 | F52: 4 | G52: 山崎 幸生 | H52: 976-0003 | I52: 相馬市塚部字山崎8-1 | J52: 36-3059、090-8255-2889 | L52: 1 | M52: あなた様 | Q52: 1 | S52: R3.9.9電話あり。長生が施設に入所したため、今後は息子の幸生（ユキオ）さんへ送付。 | W52: ③ 謝礼品の送付のために個人情報（住所、氏名、電話番号）を使用すること。
A53: 52 | B53: 塚部集会所西側空地 | C53: 塚部字貴布根前146 （西側） | D53: 塚部字貴布根前147 | E53: 12 | F53: 5 | G53: 吉田 守 | H53: 976-0003 | I53: 相馬市塚部字内城3 | J53: 36-0702 | L53: 1 | M53: あなた様 | Q53: 1 | S53: H28.07参院選より変更：塚部字貴布根前147は佐藤要助所有だが行方不明で、吉田守氏が管理しているとのこと。 なお吉田守氏の住民票は小野字薬師堂334-10→R1.9より内城3へ変更。旧電話番号・36-4663 | W53: ③ 謝礼品の送付のために個人情報（住所、氏名、電話番号）を使用すること。
A54: 53 | B54: 菊地宅向（畑） | C54: 塚部字聖50 （北側） | D54: 塚部字聖 | E54: 12 | F54: 6 | G54: 菊地 成人 | H54: 976-0003 | I54: 相馬市塚部字聖50 | J54: 36-0727 | L54: 1 | M54: あなた様 | Q54: 1 | W54: ③ 謝礼品の送付のために個人情報（住所、氏名、電話番号）を使用すること。
A55: 54 | B55: 大坪公会堂前 | C55: 大坪字前迫146-1 | D55: 大坪字前迫146-1 | E55: 13 | F55: 1 | G55: 大野４区区長 佐藤 吉典 | H55: 976-0007 | I55: 相馬市大坪字西畑131-1 | J55: 090-5230-2834 | L55: 1 | M55: あなた様 | R55: 1 | S55: R6.4区長変更 | W55: ③ 謝礼品の送付のために個人情報（住所、氏名、電話番号）を使用すること。
A56: 55 | B56: 大坪橋北三差路（フェンス） | C56: 大坪字清水前72-1（南側） | D56: 大坪字清水前53-4 | E56: 13 | F56: 2 | G56: （県有地） | O56: 1
A57: 56 | B57: 西工業団地入口停留所 | C57: 大坪字山神前153 （南側） | D57: 大坪字山神前 | E57: 13 | F57: 3 | G57: 和田山 文孝 | H57: 976-0007 | I57: 相馬市大坪字山神前153 | J57: 36-0794 | L57: 1 | M57: あなた様 | Q57: 1 | W57: ③ 謝礼品の送付のために個人情報（住所、氏名、電話番号）を使用すること。
A58: 57 | B58: 田村宅西側、椎木入口停留所 | C58: 椎木字伊賀屋敷36-6 | D58: 椎木字伊賀屋敷36-6 | E58: 13 | F58: 4 | G58: 田村 広忠 | H58: 976-0002 | I58: 相馬市椎木字伊賀屋敷36-6 | J58: 36-0868 | L58: 1 | M58: あなた様 | Q58: 1 | W58: ③ 謝礼品の送付のために個人情報（住所、氏名、電話番号）を使用すること。
A59: 58 | B59: 猪狩宅前の畑の東端 | C59: 椎木字北原55 （南側） | D59: 椎木字北原 | E59: 13 | F59: 5 | G59: 猪狩 嘉隆 | H59: 976-0002 | I59: 相馬市椎木字北原55 | J59: 36-0760 (猪狩義雄） | L59: 1 | M59: あなた様 | Q59: 1 | W59: ③ 謝礼品の送付のために個人情報（住所、氏名、電話番号）を使用すること。
A60: 59 | B60: 森宅東側空地（自動販売機の東） | C60: 塚部字新城下42-2 （東側） | D60: 塚部字新城下42-8 | E60: 13 | F60: 6 | G60: 森 佳英 | H60: 976-0003 | I60: 相馬市塚部字新城下42-2 | J60: 36-4471 | L60: 1 | M60: あなた様 | Q60: 1 | S60: H28.7参院選より変更 | T60: 自動販売機の東に設置すること | W60: ③ 謝礼品の送付のために個人情報（住所、氏名、電話番号）を使用すること。
A61: 60 | B61: 吉田宅西側信号機前 | C61: 初野字初野町30（西側100ｍ） | D61: 初野字西原102-1 | E61: 14 | F61: 1 | G61: 吉田 チヱ | H61: 976-0051 | I61: 相馬市初野字初野町30 | J61: 36-0594 090-1662-4363 | L61: 1 | M61: あなた様 | Q61: 1 | S61: Ｈ29.10衆院選より変更 | W61: ③ 謝礼品の送付のために個人情報（住所、氏名、電話番号）を使用すること。
A62: 61 | B62: 大野公民館前（フェンス） | C62: 石上字鵃沢326-1 | D62: 石上字鵃沢326-1 | E62: 14 | F62: 2 | G62: 相馬市教育長（中央公民館） | N62: 1 | P62: 1
A63: 62 | B63: セブンイレブン相馬黒木店向の田(西側) | C63: 黒木字勝善100-1 （南側） | D63: 黒木字勝善117-1 | E63: 14 | F63: 3 | G63: 佐藤 敏夫 | H63: 976-0052 | I63: 相馬市黒木字舘前3-2 | J63: 36-4563 | L63: 1 | M63: あなた様 | Q63: 1 | S63: H26.10県知事選より変更 | W63: ③ 謝礼品の送付のために個人情報（住所、氏名、電話番号）を使用すること。
A64: 63 | B64: 黒木郵便局(西側フェンス) | C64: 黒木字御門98-1付近 | D64: 黒木字御門98-1付近 | E64: 14 | F64: 4 | G64: （県有地：県道228号線） | H64: 976-0052 | K64: 1 | S64: Ｒ2.5設置場所変更。道路占用申請書提出
A65: 64 | B65: 西部子ども公民館西側 | C65: 黒木字町67-1 | D65: 黒木字町67-1 | E65: 14 | F65: 5 | G65: 相馬市（こども家庭課） | N65: 1 | P65: 1 | S65: Ｈ29.10衆院より変更
A66: 65 | B66: 旧雇用促進住宅第２宿舎入口、南側 | C66: 黒木字榎下352-1（南側） | D66: 黒木字榎下356 | E66: 14 | F66: 6 | G66: 半谷 陽子 | H66: 976-0052 | I66: 相馬市黒木字榎下326 | J66: 080-9628-5543 | L66: 1 | M66: あなた様 | R66: 1 | S66: R05所有者住所変更 （黒木字榎下315→黒木字榎下326） R6から榎下５４へ移動したい（効果を上げるため） | W66: ③ 謝礼品の送付のために個人情報（住所、氏名、電話番号）を使用すること。
A67: 66 | B67: 旧大野稚蚕飼育所前 | C67: 黒木字北台131-8 （北側） | D67: 黒木字北台136-13 | E67: 14 | F67: 7 | G67: 小関 和弘 | H67: 976-0052 | I67: 相馬市黒木字町14番地 | J67: 36-4558 090-8927-2585 | L67: 1 | M67: あなた様 | Q67: 1 | S67: H21.12.20市議選においてポスター掲示場借用依頼をしたところ、杉森さんより議会の渡辺局長経由で今はその土地については分からないとの申立て有り。現地で聞き取り調査の結果、共有等あるが小関貞一さんに依頼することにした。 H23.8.6小関貞一さん死亡により所有者名変更。（小関和弘さん） | W67: ③ 謝礼品の送付のために個人情報（住所、氏名、電話番号）を使用すること。
A68: 67 | B68: 諏訪神社入口右手 | C68: 黒木字薬師堂143-2 （北側） | D68: 黒木字薬師堂140 | E68: 14 | F68: 8 | G68: 桃井 利昌 | H68: 976-0052 | I68: 相馬市黒木字薬師堂87 | J68: 36-0584 | L68: 1 | M68: あなた様 | Q68: 1 | W68: ③ 謝礼品の送付のために個人情報（住所、氏名、電話番号）を使用すること。
A69: 68 | B69: 初野多目的集会所前 | C69: 初野字栗原9-4 | D69: 初野字栗原9-4 | E69: 14 | F69: 9 | G69: 大野５区区長 佐 成 | H69: 976-0051 | I69: 相馬市初野字金谷内268 | J69: 35-5746 090-1931-5746 | L69: 1 | M69: あなた様 | R69: 1 | W69: ③ 謝礼品の送付のために個人情報（住所、氏名、電話番号）を使用すること。
A70: 69 | B70: 小野多目的集会所前 | C70: 小野字薬師堂35 | D70: 小野字薬師堂35 | E70: 14 | F70: 10 | G70: 大野７区区長 菊地 利宗 | H70: 976-0053 | I70: 相馬市小野字薬師堂158 | J70: 36-0495 090-4881-7171 | L70: 1 | M70: あなた様 | R70: 1 | S70: R02.4区長変更 | W70: ③ 謝礼品の送付のために個人情報（住所、氏名、電話番号）を使用すること。
A71: 70 | B71: 飯豊小学校西側フェンス | C71: 大曲字天神前42 | D71: 大曲字天神前42 | E71: 15 | F71: 1 | G71: 飯豊小学校長 | H71: 976-0032 | I71: 相馬市大曲字天神前42 | J71: 35-3209 | L71: 1 | M71: 貴職 | N71: 1 | P71: 1 | S71: 依頼文２箇所（相馬市教育長（総務課）へも出す） R3.9場所変更。体育館横の金網フェンスへ移動。 | T71: R3.9場所変更。体育館横の金網フェンスへ移動。
A72: 71 | B72: 程田明神前住宅団地前（東端） | C72: 程田字明神前257-52（南側） | D72: 程田字明神前257-52 | E72: 15 | F72: 2 | G72: 相馬市（建築課） | N72: 1 | P72: 1 | S72: R3.9.2建築課より、災害公営住宅払い下げのため、個人所有となった。東端のごみステーションわきに変更。 | T72: ごみステーションわきに設置。地下の防火水槽に注意して設置してください。
A73: 72 | B73: 荒宅向の畑、交通安全立看板の東 | C73: 柏崎字中台2 （北側） | D73: 柏崎字中台2（北側） | E73: 15 | F73: 4 | G73: 荒 信 | H73: 976-0034 | I73: 相馬市柏崎字中台2 | J73: 36-7976 | L73: 1 | M73: あなた様 | Q73: 1 | T73: 交通安全立看板の東（西の畑は所有者が違うので注意） | W73: ③ 謝礼品の送付のために個人情報（住所、氏名、電話番号）を使用すること。
A74: 73 | B74: 太田宅前の畑 | C74: 柏崎字西台63 （東側） | D74: 柏崎字西台63（東側） | E74: 15 | F74: 5 | G74: 太田 榮子 | H74: 976-0034 | I74: 相馬市柏崎字西台63 | J74: 36-0174 | L74: 1 | M74: あなた様 | Q74: 1 | W74: ③ 謝礼品の送付のために個人情報（住所、氏名、電話番号）を使用すること。
A75: 74 | B75: 草野建設倉庫東側歩道ガードフェンス | C75: 程田字形部田26（倉庫東側歩道） | D75: 程田字形部田85-14 | E75: 15 | F75: 6 | G75: （市有地） | O75: 1 | S75: R4参院選より市道上へ変更 | T75: R4設置箇所市道へ変更
A76: 75 | B76: 佐伯宅前の畑 | C76: 岩子字北稲田154-1 （南側） | D76: 岩子字稲田10-1 | E76: 15 | F76: 7 | G76: 遠藤 友幸 | H76: 976-0025 | I76: 相馬市岩子字北稲田150 | J76: 35-2982 090-4889-0845 | L76: 1 | M76: あなた様 | Q76: 1 | S76: H27.1場所変更 R3.10.12所有者変更息子へ | W76: ③ 謝礼品の送付のために個人情報（住所、氏名、電話番号）を使用すること。
A77: 76 | B77: 岩子防災集合所向の畑 | C77: 岩子字数馬206-3 （北側） | D77: 岩子字数馬198-1 | E77: 15 | F77: 8 | G77: 岡本 俶享 | H77: 976-0025 | I77: 相馬市岩子字数馬22 | J77: 35-2459、090-5239-7133 | L77: 1 | M77: あなた様 | Q77: 1 | W77: ③ 謝礼品の送付のために個人情報（住所、氏名、電話番号）を使用すること。
A78: 77 | B78: 松川浦スポーツセンター入口 | C78: 岩子字長谷地10-1 | D78: 岩子字長谷地10-1 | E78: 15 | F78: 11 | G78: 相馬市教育長（生涯学習課） | N78: 1 | P78: 1 | S78: R6から投票所統合により北側ゴミステーション隣へ移動
A79: 78 | B79: 佐藤宅北側 | C79: 南飯渕字木関無102 | D79: 南飯渕字木関無102 | E79: 16 | F79: 1 | G79: 佐藤 清一 | H79: 976-0026 | I79: 相馬市南飯渕字木関無102 | J79: 36-2415 35-5698 | L79: 1 | M79: あなた様 | Q79: 1 | W79: ③ 謝礼品の送付のために個人情報（住所、氏名、電話番号）を使用すること。
A80: 79 | B80: 横山宅後（裏） | C80: 南飯渕字明神6 | D80: 南飯渕字明神6 | E80: 16 | F80: 2 | G80: 横山 弘 | H80: 976-0026 | I80: 相馬市南飯渕字明神6 | J80: 35-3996 | L80: 1 | M80: あなた様 | Q80: 1 | W80: ③ 謝礼品の送付のために個人情報（住所、氏名、電話番号）を使用すること。
A81: 80 | B81: 水澤宅向の畑 | C81: 大曲字大毛内202 （南側） | D81: 大曲字大毛内 | E81: 16 | F81: 3 | G81: 水澤 孝行 | H81: 976-0032 | I81: 相馬市大曲字大毛内202 | J81: 35-5854 | L81: 1 | M81: あなた様 | Q81: 1 | W81: ③ 謝礼品の送付のために個人情報（住所、氏名、電話番号）を使用すること。
A82: 81 | B82: 馬場野多目的集会所前 | C82: 馬場野字宝田1 | D82: 馬場野字宝田1 | E82: 16 | F82: 4 | G82: 飯豊７区区長 寺島 眞一 | H82: 976-0036 | I82: 相馬市馬場野字鹿島前67 | J82: 35-2898 | L82: 1 | M82: あなた様 | R82: 1 | S82: R03小字修正 | W82: ③ 謝礼品の送付のために個人情報（住所、氏名、電話番号）を使用すること。
A83: 82 | B83: ABCマツモト相馬店駐車場 | C83: 馬場野字雨田29-1 （南側） | D83: 馬場野字雨田29-1 | E83: 16 | F83: 5 | G83: 株式会社まつもと 代表取締役社長 松本 定雄 | H83: 976-0036 | I83: 相馬市馬場野字雨田35-1 | J83: 35-1515 | L83: 1 | M83: あなた様 | Q83: 1 | S83: R3.9掲示場名称申出により変更。 | T83: Ｈ30．8所有者と設置場所（馬場野字雨田２９－１）について確認済み。 | U83: 澤田宅前（旧小池理容店東）の畑 | W83: ③ 謝礼品の送付のために個人情報（住所、氏名、電話番号）を使用すること。
A84: 83 | B84: 杉﨑宅ブロック塀 | C84: 馬場野字福迫57 | D84: 馬場野字福迫57 | E84: 16 | F84: 6 | G84: 杉崎 隆 | H84: 350-1304 | I84: 埼玉県狭山市狭山台1-4-9狭山台ハイコーポA604 | J84: 04-2958-7967 | L84: 1 | M84: あなた様 | Q84: 1 | S84: R4.4.21地震の罹災状況確認。設置可能。 R3.9.15芳子さん施設入所のため、今後は弟の隆さんへ送付する。 H28.3現地確認。フェンスは新しいがアルミ製で強度に少し問題あり。近辺で適切な設置場所が見つからず、取りあえず現状維持。次期市議選までには要再検討。 | W84: ③ 謝礼品の送付のために個人情報（住所、氏名、電話番号）を使用すること。
A85: 84 | B85: 馬場野住宅団地入口 | C85: 馬場野字山田83-61（東側） | D85: 馬場野字山田111-3 | E85: 16 | F85: 7 | G85: （市有地） | O85: 1
A86: 85 | B86: 福島県農業総合センター 浜地域研究所南側 | C86: 成田字五郎右エ門橋100 | D86: 成田字五郎右エ門橋100 | E86: 17 | F86: 1 | G86: 福島県農業総合センター 浜地域研究所 所長 | H86: 979-2542 | I86: 相馬市成田字五郎右エ門橋100 | J86: 35-2633 | L86: 1 | M86: 貴職 | S86: R5.8.1 設置場所の変更 提出期限を過ぎても返送がなく、電話もつながらないため、別の場所に設置することとした。 旧：蓮沼宅ブロック塀 成田字大作116 蓮沼 淳子 〒979-2542 相馬市成田字大作116 35-5557 新 成田字五郎右ェ門橋100 R4追記。謝礼受取は夜間指定にする R4.4.21地震の罹災状況確認。塀破損あり。 H24.12衆院選より変更 | T86: H24.12.8～位置変更
A87: 86 | B87: 横山宅南側 | C87: 成田字天王前226-2（南側） | D87: 成田字天王前228南側 | E87: 17 | F87: 2 | G87: 相馬市（都市整備課） | N87: 1 | P87: 1 | S87: R06.09 ㈱小野中村より提案場所に設置場所移動 旧設置場所：成田字岡本60 佐藤宅前、岡本停留所付近 佐藤辰雄 | W87: ③ 謝礼品の送付のために個人情報（住所、氏名、電話番号）を使用すること。
A88: 87 | B88: 旧八幡駐在所前 | C88: 坪田字涼ヶ岡39-1 （南側） | D88: 坪田字涼ヶ岡40 | E88: 17 | F88: 3 | G88: 涼ケ岡共有地会会長 後藤 建一 | H88: 979-2533 | I88: 相馬市坪田字八幡西196-2 | J88: 36-7221 | L88: 1 | M88: あなた様 | Q88: 1 | S88: H28.3現地確認。現状維持。 | W88: ③ 謝礼品の送付のために個人情報（住所、氏名、電話番号）を使用すること。
A89: 88 | B89: 天野利記念碑前 | C89: 坪田字下高松5（北側） | D89: 坪田字高松 | E89: 17 | F89: 4 | G89: 八幡３区区長 佐藤 進 | H89: 979-2533 | I89: 相馬市坪田字駒場157 | J89: 36-7641 090-7326-9482 | L89: 1 | M89: あなた様 | R89: 1 | S89: R02.4区長変更 | W89: ③ 謝礼品の送付のために個人情報（住所、氏名、電話番号）を使用すること。
A90: 89 | B90: 今田研修所前（八坂神社前） | C90: 今田字久保前211-2 | D90: 今田字久保前211-2 | E90: 17 | F90: 5 | G90: 八幡１区区長 佐藤 雄一 | H90: 979-2541 | I90: 相馬市今田字山野85 | J90: 36-7503 090-2604-4528 | L90: 1 | M90: あなた様 | R90: 1 | S90: H22.5.31総務課へ確認済。R02.4区長変更 | W90: ③ 謝礼品の送付のために個人情報（住所、氏名、電話番号）を使用すること。
A91: 90 | B91: 佐藤宅前の畑 | C91: 今田字藤堂林143 | D91: 今田字藤堂林143 | E91: 17 | F91: 6 | G91: 佐藤 功 | H91: 979-2541 | I91: 相馬市今田字藤堂林143 | J91: 36-7476 | L91: 1 | M91: あなた様 | Q91: 1 | W91: ③ 謝礼品の送付のために個人情報（住所、氏名、電話番号）を使用すること。
A92: 91 | B92: 八幡公民館前 | C92: 坪田字北田68 | D92: 坪田字北田68 | E92: 17 | F92: 7 | G92: 相馬市教育長（中央公民館） | N92: 1 | P92: 1
A93: 92 | B93: 髙橋宅南側の畑 | C93: 坪田字台町145-4 （南側） | D93: 坪田字台町147-1 | E93: 17 | F93: 8 | G93: 横山 晃一 | H93: 979-2533 | I93: 相馬市坪田字平林125 | J93: 36-7773 （横山 陽子） | L93: 1 | M93: あなた様 | Q93: 1 | S93: H28.7参院選より変更 横山晃一氏（R2.4.11死亡） | W93: ③ 謝礼品の送付のために個人情報（住所、氏名、電話番号）を使用すること。 | X93: 1
A94: 93 | B94: 中城宅北側の畑 | C94: 坪田字牛安沢105-1 （北側） | D94: 坪田字牛安沢105-2 | E94: 17 | F94: 9 | G94: 池田 忠正 | H94: 979-2533 | I94: 相馬市坪田字台町102 | J94: 36-7809 | L94: 1 | M94: あなた様 | Q94: 1 | S94: H28.7参院選より変更 | T94: 番線を切りっぱなしにしない | W94: ③ 謝礼品の送付のために個人情報（住所、氏名、電話番号）を使用すること。
A95: 94 | B95: 松道坂頂上 | C95: 富沢字松道 （松道バス停の南300ｍ） | D95: 富沢字松道334-2 | E95: 18 | F95: 1 | G95: （県有地） | K95: 1 | S95: R01より道路占用申請書提出
A96: 95 | B96: 旧但野宅前の田 | C96: 富沢字松道155 （西側） | D96: 富沢字松道148-1 | E96: 18 | F96: 2 | G96: 大橋 一照 | H96: 976-0037 | I96: 相馬市中野字向陽71 | J96: 36-2864 | L96: 1 | M96: あなた様 | Q96: 1 | W96: ③ 謝礼品の送付のために個人情報（住所、氏名、電話番号）を使用すること。
A97: 96 | B97: 佐藤宅前の畑 | C97: 富沢字北目19 | D97: 富沢字北目19 | E97: 18 | F97: 3 | G97: 佐藤 忠好 | H97: 979-2532 | I97: 相馬市富沢字北目19 | J97: 36-7730 （佐藤 久司） | L97: 1 | M97: あなた様 | Q97: 1 | S97: 佐藤忠好氏（R1.7.22死亡） | W97: ③ 謝礼品の送付のために個人情報（住所、氏名、電話番号）を使用すること。 | X97: 1
A98: 97 | B98: 富沢公会堂向（ゴミステーション付近） | C98: 富沢字ぬかり2 | D98: 富沢字ぬかり2 | E98: 18 | F98: 4 | G98: 相馬市（地域防災対策室） | H98: 976-0042 | I98: 相馬市中村北町63-3 | N98: 1 | P98: 1 | S98: R010610ポスター台帳がJAになっていたが、JAからの指摘により調査した結果、市有地（防災所有。H14.6.25JAより寄付受）であることが判明 富沢字原田372 （東側） | T98: ゴミステーション付近
A99: 98 | B99: 冨田宅前の畑 | C99: 富沢字水神109 | D99: 富沢字水神109 | E99: 18 | F99: 5 | G99: 冨田 博 | H99: 979-2532 | I99: 相馬市富沢字水神107-1 | J99: 36-7662 090-1828-9617 | L99: 1 | M99: あなた様 | Q99: 1 | S99: R05所有者住所変更 （富沢字水神109→富沢字水神107-1） | W99: ③ 謝礼品の送付のために個人情報（住所、氏名、電話番号）を使用すること。
A100: 99 | B100: 国道115号線バイパス交差点西、橋本宅の畑 | C100: 粟津字粟津91-1 | D100: 粟津字粟津91-1 | E100: 19 | F100: 1 | G100: 橋本 義衛 | H100: 976-0152 | I100: 相馬市粟津字粟津91-1 | J100: 36-7409 | L100: 1 | M100: あなた様 | Q100: 1 | S100: R05.5.12掲示場名を修正（国道115号線バイパス交差点西、橋本義衛宅の畑→国道115号線バイパス交差点西、橋本宅の畑） | W100: ③ 謝礼品の送付のために個人情報（住所、氏名、電話番号）を使用すること。
...

Sheet 一覧_庁内借用先_差込用 (旧)
A1: 設置№ | B1: 管理者 | C1: 担当課 | D1: 設置場所_1 | E1: 住所_1_公図 | F1: 設置場所_2 | G1: 住所_2_公図 | H1: 設置場所_3 | I1: 住所_3_公図 | J1: 設置場所_4 | K1: 住所_4_公図 | L1: 設置場所_5 | M1: 住所_5_公図 | N1: 設置場所_6 | O1: 住所_6_公図 | P1: 設置場所_7 | Q1: 住所_7_公図 | R1: 設置場所_8 | S1: 住所_8_公図 | T1: 設置場所_9 | U1: 住所_9_公図 | V1: 設置場所_10 | W1: 住所_10_公図 | X1: 設置場所_11 | Y1: 住所_11_公図 | Z1: 設置場所_1２ | AA1: 住所_1２_公図 | AB1: 備考
A2: 8 | B2: 相馬市長 | C2: 財政課長 | D2: =#REF! -> #REF! | E2: =#REF! -> #REF!
A3: 4、 97 | B3: 相馬市長 | C3: 地域防災対策室長 | D3: =#REF! -> #REF! | E3: =#REF! -> #REF! | F3: =#REF! -> #REF! | G3: =#REF! -> #REF!
A4: 22、64 | B4: 相馬市長 | C4: こども家庭課長 | D4: =#REF! -> #REF! | E4: =#REF! -> #REF! | F4: =#REF! -> #REF! | G4: =#REF! -> #REF!
A5: 17 | B5: 相馬市長 | C5: 高齢福祉課長 | D5: =#REF! -> #REF! | E5: =#REF! -> #REF!
A6: 6 | B6: 相馬市長 | C6: 保健センター所長 | D6: =#REF! -> #REF! | E6: =#REF! -> #REF!
A7: 7、12、13、15、26、31、45、46、86、125、137 | B7: 相馬市長 | C7: 都市整備課長 | D7: =#REF! -> #REF! | E7: =#REF! -> #REF! | F7: =#REF! -> #REF! | G7: =#REF! -> #REF! | H7: =#REF! -> #REF! | I7: =#REF! -> #REF! | J7: =#REF! -> #REF! | K7: =#REF! -> #REF! | ... Y7: =#REF! -> #REF!
A8: 1、28、71 | B8: 相馬市長 | C8: 建築課長 | D8: =#REF! -> #REF! | E8: =#REF! -> #REF! | F8: =#REF! -> #REF! | G8: =#REF! -> #REF! | H8: =#REF! -> #REF! | I8: =#REF! -> #REF!
A9: 16、 118 | B9: 相馬市長 | C9: 商工観光課長 | D9: =#REF! -> #REF! | E9: =#REF! -> #REF! | F9: =#REF! -> #REF! | G9: =#REF! -> #REF!
A10: 20、38、70、128、129 | B10: 相馬市教育長 | C10: 総務課長 | D10: =#REF! -> #REF! | E10: =#REF! -> #REF! | F10: =#REF! -> #REF! | G10: =#REF! -> #REF! | H10: =#REF! -> #REF! | I10: =#REF! -> #REF! | J10: =#REF! -> #REF! | K10: =#REF! -> #REF! | ... M10: =#REF! -> #REF!
A11: 37、48、77 | B11: 相馬市教育長 | C11: 生涯学習課長 | D11: =#REF! -> #REF! | E11: =#REF! -> #REF! | F11: =#REF! -> #REF! | G11: =#REF! -> #REF! | H11: =#REF! -> #REF! | I11: =#REF! -> #REF!
A12: 61、91、103、115 | B12: 相馬市教育長 | C12: 中央公民館長 | D12: =#REF! -> #REF! | E12: =#REF! -> #REF! | F12: =#REF! -> #REF! | G12: =#REF! -> #REF! | H12: =#REF! -> #REF! | I12: =#REF! -> #REF! | J12: =#REF! -> #REF! | K12: =#REF! -> #REF!
A13: 140 | B13: 相馬市長 | C13: 都市整備課長 | D13: =#REF! -> #REF! | E13: =#REF! -> #REF!
B15: 「依頼文_相馬市あて」と一致 | C15: =SUM(D15:Y15) -> 36 | D15: =COUNTA(D2:D13) -> 12 | F15: =COUNTA(F2:F13) -> 8 | H15: =COUNTA(H2:H13) -> 5 | J15: =COUNTA(J2:J13) -> 3 | L15: =COUNTA(L2:L13) -> 2 | N15: =COUNTA(N2:N13) -> 1 | P15: =COUNTA(P2:P13) -> 1 | R15: =COUNTA(R2:R13) -> 1 | T15: =COUNTA(T2:T13) -> 1 | V15: =COUNTA(V2:V13) -> 1 | X15: =COUNTA(X2:X13) -> 1
C16: =C15=#REF! -> #REF!

Sheet 一覧_謝礼送付用 (旧)
A1: 設置№ | B1: 掲示場名 | C1: 所在地 （住宅地図対応） | D1: 掲示場住所（公図） | E1: 投票区 | F1: 区毎 番号 | G1: 所有者等氏名 | H1: 郵便番号 | I1: 住所 | J1: 電話番号 | K1: 依頼文 別文書あり | L1: 依頼文 あらかじめ文書 | M1: 依頼文 肩書_差込用 | N1: 依頼文 相馬市あて | O1: 依頼文 なし | P1: 依頼文 文書箱 | Q1: （謝礼） 宅急便 | R1: （謝礼） 文書箱 | S1: 備考 | T1: 業者へ指示事項 | U1: 謝礼確認 | V1: ←謝礼確認の1を抽出する。
A2: 1 | B2: =#REF! -> #REF! | C2: =#REF! -> #REF! | D2: =#REF! -> #REF! | E2: =#REF! -> #REF! | F2: =#REF! -> #REF! | G2: =#REF! -> #REF! | H2: =#REF! -> #REF! | I2: =#REF! -> #REF! | ... T2: =#REF! -> #REF! | U2: =Q2+R2 -> #REF!
A3: 2 | B3: =#REF! -> #REF! | C3: =#REF! -> #REF! | D3: =#REF! -> #REF! | E3: =#REF! -> #REF! | F3: =#REF! -> #REF! | G3: =#REF! -> #REF! | H3: =#REF! -> #REF! | I3: =#REF! -> #REF! | ... T3: =#REF! -> #REF! | U3: =Q3+R3 -> #REF!
A4: 3 | B4: =#REF! -> #REF! | C4: =#REF! -> #REF! | D4: =#REF! -> #REF! | E4: =#REF! -> #REF! | F4: =#REF! -> #REF! | G4: =#REF! -> #REF! | H4: =#REF! -> #REF! | I4: =#REF! -> #REF! | ... T4: =#REF! -> #REF! | U4: =Q4+R4 -> #REF!
A5: 4 | B5: =#REF! -> #REF! | C5: =#REF! -> #REF! | D5: =#REF! -> #REF! | E5: =#REF! -> #REF! | F5: =#REF! -> #REF! | G5: =#REF! -> #REF! | H5: =#REF! -> #REF! | I5: =#REF! -> #REF! | ... T5: =#REF! -> #REF! | U5: =Q5+R5 -> #REF!
A6: 5 | B6: =#REF! -> #REF! | C6: =#REF! -> #REF! | D6: =#REF! -> #REF! | E6: =#REF! -> #REF! | F6: =#REF! -> #REF! | G6: =#REF! -> #REF! | H6: =#REF! -> #REF! | I6: =#REF! -> #REF! | ... T6: =#REF! -> #REF! | U6: =Q6+R6 -> #REF!
A7: 6 | B7: =#REF! -> #REF! | C7: =#REF! -> #REF! | D7: =#REF! -> #REF! | E7: =#REF! -> #REF! | F7: =#REF! -> #REF! | G7: =#REF! -> #REF! | H7: =#REF! -> #REF! | I7: =#REF! -> #REF! | ... T7: =#REF! -> #REF! | U7: =Q7+R7 -> #REF!
A8: 7 | B8: =#REF! -> #REF! | C8: =#REF! -> #REF! | D8: =#REF! -> #REF! | E8: =#REF! -> #REF! | F8: =#REF! -> #REF! | G8: =#REF! -> #REF! | H8: =#REF! -> #REF! | I8: =#REF! -> #REF! | ... T8: =#REF! -> #REF! | U8: =Q8+R8 -> #REF!
A9: 8 | B9: =#REF! -> #REF! | C9: =#REF! -> #REF! | D9: =#REF! -> #REF! | E9: =#REF! -> #REF! | F9: =#REF! -> #REF! | G9: =#REF! -> #REF! | H9: =#REF! -> #REF! | I9: =#REF! -> #REF! | ... T9: =#REF! -> #REF! | U9: =Q9+R9 -> #REF!
A10: 9 | B10: =#REF! -> #REF! | C10: =#REF! -> #REF! | D10: =#REF! -> #REF! | E10: =#REF! -> #REF! | F10: =#REF! -> #REF! | G10: =#REF! -> #REF! | H10: =#REF! -> #REF! | I10: =#REF! -> #REF! | ... T10: =#REF! -> #REF! | U10: =Q10+R10 -> #REF!
A11: 10 | B11: =#REF! -> #REF! | C11: =#REF! -> #REF! | D11: =#REF! -> #REF! | E11: =#REF! -> #REF! | F11: =#REF! -> #REF! | G11: =#REF! -> #REF! | H11: =#REF! -> #REF! | I11: =#REF! -> #REF! | ... T11: =#REF! -> #REF! | U11: =Q11+R11 -> #REF!
A12: 11 | B12: =#REF! -> #REF! | C12: =#REF! -> #REF! | D12: =#REF! -> #REF! | E12: =#REF! -> #REF! | F12: =#REF! -> #REF! | G12: =#REF! -> #REF! | H12: =#REF! -> #REF! | I12: =#REF! -> #REF! | ... T12: =#REF! -> #REF! | U12: =Q12+R12 -> #REF!
A13: 12 | B13: =#REF! -> #REF! | C13: =#REF! -> #REF! | D13: =#REF! -> #REF! | E13: =#REF! -> #REF! | F13: =#REF! -> #REF! | G13: =#REF! -> #REF! | H13: =#REF! -> #REF! | I13: =#REF! -> #REF! | ... T13: =#REF! -> #REF! | U13: =Q13+R13 -> #REF!
... A149: 148 | B149: =#REF! -> #REF! | C149: =#REF! -> #REF! | D149: =#REF! -> #REF! | E149: =#REF! -> #REF! | F149: =#REF! -> #REF! | G149: =#REF! -> #REF! | H149: =#REF! -> #REF! | I149: =#REF! -> #REF! | ... T149: =#REF! -> #REF! | U149: =Q149+R149 -> #REF!
K150: =SUM(K2:K41) -> #REF! | L150: =SUM(L2:L41) -> #REF! | N150: =SUM(N2:N41) -> #REF! | O150: =SUM(O2:O41) -> #REF! | P150: =SUM(P2:P41) -> #REF! | Q150: =SUM(Q2:Q149) -> #REF! | R150: =SUM(R2:T149) -> #REF! | S150: =SUM(S2:S41) -> #REF! | T150: =SUM(T2:T41) -> #REF! | U150: =SUM(U2:U149) -> #REF!

Sheet 法定設置数と実数確認【県報告用数値】 (旧)
A1: 投票区 | B1: 選挙人名簿登録者数 | C1: 面積 | D1: 法定数 | E1: 箇所数 | F1: 増減 | G1: →抽出→→ | I1: 投票区 | J1: 1000人未満抽出 | K1: 2㎢未満 | L1: 2㎢以上4㎢未満 | M1: 4㎢以上8㎢未満 | N1: 8㎢以上 | O1: 箇所数抽出 | P1: 面積 | Q1: 投票区 | R1: 1000人以上抽出 | S1: 4㎢未満 | T1: 4㎢以上 8㎢未満 | U1: 8㎢以上 | V1: 箇所数抽出 | W1: →集計→→ | Y1: 選挙人名簿登録者数 | Z1: 面積 | AA1: 投票所の数 | AB1: ポスター掲示場の数
A2: 1 | B2: 1671 | C2: 1.96 | D2: =IF(AND(B2<1000,C2<2),5,IF(AND(B2<1000,C2<4),6,IF(AND(B2<1000,C2<8),7,IF(AND(B2<1000,C2>8),8,IF(AND(B2<5000,C2<4),7,IF(AND(B2<5000,C2<8),8,9)))))) -> 7 | E2: =COUNTIF(#REF!,A2) -> #REF! | F2: =E2-D2 -> #REF! | I2: 1 | J2: =IF($B2>1000,"",$B2) | K2: =IF($J2="","",IF($C2>$P$2,"",$C2)) | L2: =IF($J2="","",IF(AND($C2>=$P$2,$C2<$P$3),$C2,"")) | M2: =IF($J2="","",IF(AND($C2>=$P$3,$C2<$P$4),$C2,"")) | N2: =IF($J2="","",IF(AND($C2>=$P$4,$C2<$P$5),$C2,"")) | O2: =IF($B2>1000,"",$E2) | P2: 2 | Q2: 1 | R2: =IF($B2>=1000,$B2,"") -> 1671 | S2: =IF($R2="","",IF($C2>$P$3,"",$C2)) -> 1.96 | T2: =IF($R2="","",IF(AND($C2>=$P$3,$C2<$P$4),$C2,"")) | U2: =IF($R2="","",IF(AND($C2>=$P$4,$C2<$P$5),$C2,"")) | V2: =IF($B2>1000,$E2,"") -> #REF! | Y2: 1,000人未満 | Z2: 2㎢未満 | AA2: =K28 -> 4 | AB2: =K29 -> #REF!
A3: 2 | B3: 1909 | C3: 1.35 | D3: =IF(AND(B3<1000,C3<2),5,IF(AND(B3<1000,C3<4),6,IF(AND(B3<1000,C3<8),7,IF(AND(B3<1000,C3>8),8,IF(AND(B3<5000,C3<4),7,IF(AND(B3<5000,C3<8),8,9)))))) -> 7 | E3: =COUNTIF(#REF!,A3) -> #REF! | F3: =E3-D3 -> #REF! | I3: 2 | J3: =IF($B3>1000,"",$B3) | K3: =IF($J3="","",IF($C3>$P$2,"",$C3)) | L3: =IF($J3="","",IF(AND($C3>=$P$2,$C3<$P$3),$C3,"")) | M3: =IF($J3="","",IF(AND($C3>=$P$3,$C3<$P$4),$C3,"")) | N3: =IF($J3="","",IF(AND($C3>=$P$4,$C3<$P$5),$C3,"")) | O3: =IF($B3>1000,"",$E3) | P3: 4 | Q3: 2 | R3: =IF($B3>=1000,$B3,"") -> 1909 | S3: =IF($R3="","",IF($C3>$P$3,"",$C3)) -> 1.35 | T3: =IF($R3="","",IF(AND($C3>=$P$3,$C3<$P$4),$C3,"")) | U3: =IF($R3="","",IF(AND($C3>=$P$4,$C3<$P$5),$C3,"")) | V3: =IF($B3>1000,$E3,"") -> #REF! | Z3: 2㎢以上 4㎢未満 | AA3: =L28 -> 2 | AB3: =L29 -> #REF!
A4: 3 | B4: 2859 | C4: 1.63 | D4: =IF(AND(B4<1000,C4<2),5,IF(AND(B4<1000,C4<4),6,IF(AND(B4<1000,C4<8),7,IF(AND(B4<1000,C4>8),8,IF(AND(B4<5000,C4<4),7,IF(AND(B4<5000,C4<8),8,9)))))) -> 7 | E4: =COUNTIF(#REF!,A4) -> #REF! | F4: =E4-D4 -> #REF! | I4: 3 | J4: =IF($B4>1000,"",$B4) | K4: =IF($J4="","",IF($C4>$P$2,"",$C4)) | L4: =IF($J4="","",IF(AND($C4>=$P$2,$C4<$P$3),$C4,"")) | M4: =IF($J4="","",IF(AND($C4>=$P$3,$C4<$P$4),$C4,"")) | N4: =IF($J4="","",IF(AND($C4>=$P$4,$C4<$P$5),$C4,"")) | O4: =IF($B4>1000,"",$E4) | P4: 8 | Q4: 3 | R4: =IF($B4>=1000,$B4,"") -> 2859 | S4: =IF($R4="","",IF($C4>$P$3,"",$C4)) -> 1.63 | T4: =IF($R4="","",IF(AND($C4>=$P$3,$C4<$P$4),$C4,"")) | U4: =IF($R4="","",IF(AND($C4>=$P$4,$C4<$P$5),$C4,"")) | V4: =IF($B4>1000,$E4,"") -> #REF! | Z4: 4㎢以上 8㎢未満 | AA4: =M28 -> 3 | AB4: =M29 -> #REF!
A5: 4 | B5: 832 | C5: 1.24 | D5: =IF(AND(B5<1000,C5<2),5,IF(AND(B5<1000,C5<4),6,IF(AND(B5<1000,C5<8),7,IF(AND(B5<1000,C5>8),8,IF(AND(B5<5000,C5<4),7,IF(AND(B5<5000,C5<8),8,9)))))) -> 5 | E5: =COUNTIF(#REF!,A5) -> #REF! | F5: =E5-D5 -> #REF! | I5: 4 | J5: =IF($B5>1000,"",$B5) -> 832 | K5: =IF($J5="","",IF($C5>$P$2,"",$C5)) -> 1.24 | L5: =IF($J5="","",IF(AND($C5>=$P$2,$C5<$P$3),$C5,"")) | M5: =IF($J5="","",IF(AND($C5>=$P$3,$C5<$P$4),$C5,"")) | N5: =IF($J5="","",IF(AND($C5>=$P$4,$C5<$P$5),$C5,"")) | O5: =IF($B5>1000,"",$E5) -> #REF! | P5: 1000 | Q5: 4 | R5: =IF($B5>=1000,$B5,"") | S5: =IF($R5="","",IF($C5>$P$3,"",$C5)) | T5: =IF($R5="","",IF(AND($C5>=$P$3,$C5<$P$4),$C5,"")) | U5: =IF($R5="","",IF(AND($C5>=$P$4,$C5<$P$5),$C5,"")) | V5: =IF($B5>1000,$E5,"") | Z5: 8㎢以上 | AA5: =N28 -> 6 | AB5: =N29 -> #REF!
A6: 5 | B6: 547 | C6: 0.62 | D6: =IF(AND(B6<1000,C6<2),5,IF(AND(B6<1000,C6<4),6,IF(AND(B6<1000,C6<8),7,IF(AND(B6<1000,C6>8),8,IF(AND(B6<5000,C6<4),7,IF(AND(B6<5000,C6<8),8,9)))))) -> 5 | E6: =COUNTIF(#REF!,A6) -> #REF! | F6: =E6-D6 -> #REF! | I6: 5 | J6: =IF($B6>1000,"",$B6) -> 547 | K6: =IF($J6="","",IF($C6>$P$2,"",$C6)) -> 0.62 | L6: =IF($J6="","",IF(AND($C6>=$P$2,$C6<$P$3),$C6,"")) | M6: =IF($J6="","",IF(AND($C6>=$P$3,$C6<$P$4),$C6,"")) | N6: =IF($J6="","",IF(AND($C6>=$P$4,$C6<$P$5),$C6,"")) | O6: =IF($B6>1000,"",$E6) -> #REF! | Q6: 5 | R6: =IF($B6>=1000,$B6,"") | S6: =IF($R6="","",IF($C6>$P$3,"",$C6)) | T6: =IF($R6="","",IF(AND($C6>=$P$3,$C6<$P$4),$C6,"")) | U6: =IF($R6="","",IF(AND($C6>=$P$4,$C6<$P$5),$C6,"")) | V6: =IF($B6>1000,$E6,"") | Y6: 1,000人以上5,000人未満 | Z6: 4㎢未満 | AA6: =S28 -> 6 | AB6: =S29 -> #REF!
A7: 6 | B7: 1551 | C7: 1.21 | D7: =IF(AND(B7<1000,C7<2),5,IF(AND(B7<1000,C7<4),6,IF(AND(B7<1000,C7<8),7,IF(AND(B7<1000,C7>8),8,IF(AND(B7<5000,C7<4),7,IF(AND(B7<5000,C7<8),8,9)))))) -> 7 | E7: =COUNTIF(#REF!,A7) -> #REF! | F7: =E7-D7 -> #REF! | I7: 6 | J7: =IF($B7>1000,"",$B7) | K7: =IF($J7="","",IF($C7>$P$2,"",$C7)) | L7: =IF($J7="","",IF(AND($C7>=$P$2,$C7<$P$3),$C7,"")) | M7: =IF($J7="","",IF(AND($C7>=$P$3,$C7<$P$4),$C7,"")) | N7: =IF($J7="","",IF(AND($C7>=$P$4,$C7<$P$5),$C7,"")) | O7: =IF($B7>1000,"",$E7) | Q7: 6 | R7: =IF($B7>=1000,$B7,"") -> 1551 | S7: =IF($R7="","",IF($C7>$P$3,"",$C7)) -> 1.21 | T7: =IF($R7="","",IF(AND($C7>=$P$3,$C7<$P$4),$C7,"")) | U7: =IF($R7="","",IF(AND($C7>=$P$4,$C7<$P$5),$C7,"")) | V7: =IF($B7>1000,$E7,"") -> #REF! | Z7: 4㎢以上 8㎢未満 | AA7: =T28 -> 1 | AB7: =T29 -> #REF!
A8: 7 | B8: 719 | C8: 1.25 | D8: =IF(AND(B8<1000,C8<2),5,IF(AND(B8<1000,C8<4),6,IF(AND(B8<1000,C8<8),7,IF(AND(B8<1000,C8>8),8,IF(AND(B8<5000,C8<4),7,IF(AND(B8<5000,C8<8),8,9)))))) -> 5 | E8: =COUNTIF(#REF!,A8) -> #REF! | F8: =E8-D8 -> #REF! | I8: 7 | J8: =IF($B8>1000,"",$B8) -> 719 | K8: =IF($J8="","",IF($C8>$P$2,"",$C8)) -> 1.25 | L8: =IF($J8="","",IF(AND($C8>=$P$2,$C8<$P$3),$C8,"")) | M8: =IF($J8="","",IF(AND($C8>=$P$3,$C8<$P$4),$C8,"")) | N8: =IF($J8="","",IF(AND($C8>=$P$4,$C8<$P$5),$C8,"")) | O8: =IF($B8>1000,"",$E8) -> #REF! | Q8: 7 | R8: =IF($B8>=1000,$B8,"") | S8: =IF($R8="","",IF($C8>$P$3,"",$C8)) | T8: =IF($R8="","",IF(AND($C8>=$P$3,$C8<$P$4),$C8,"")) | U8: =IF($R8="","",IF(AND($C8>=$P$4,$C8<$P$5),$C8,"")) | V8: =IF($B8>1000,$E8,"") | Z8: 8㎢以上 | AA8: =U28 -> 4 | AB8: =U29 -> #REF!
A9: 8 | B9: 2100 | C9: 4.32 | D9: =IF(AND(B9<1000,C9<2),5,IF(AND(B9<1000,C9<4),6,IF(AND(B9<1000,C9<8),7,IF(AND(B9<1000,C9>8),8,IF(AND(B9<5000,C9<4),7,IF(AND(B9<5000,C9<8),8,9)))))) -> 8 | E9: =COUNTIF(#REF!,A9) -> #REF! | F9: =E9-D9 -> #REF! | I9: 8 | J9: =IF($B9>1000,"",$B9) | K9: =IF($J9="","",IF($C9>$P$2,"",$C9)) | L9: =IF($J9="","",IF(AND($C9>=$P$2,$C9<$P$3),$C9,"")) | M9: =IF($J9="","",IF(AND($C9>=$P$3,$C9<$P$4),$C9,"")) | N9: =IF($J9="","",IF(AND($C9>=$P$4,$C9<$P$5),$C9,"")) | O9: =IF($B9>1000,"",$E9) | Q9: 8 | R9: =IF($B9>=1000,$B9,"") -> 2100 | S9: =IF($R9="","",IF($C9>$P$3,"",$C9)) | T9: =IF($R9="","",IF(AND($C9>=$P$3,$C9<$P$4),$C9,"")) -> 4.32 | U9: =IF($R9="","",IF(AND($C9>=$P$4,$C9<$P$5),$C9,"")) | V9: =IF($B9>1000,$E9,"") -> #REF! | Y9: 5,000人以上10,000人未満 | Z9: 4㎢未満 | AA9: 0 | AB9: 0
A10: 9 | B10: 1416 | C10: 3.02 | D10: =IF(AND(B10<1000,C10<2),5,IF(AND(B10<1000,C10<4),6,IF(AND(B10<1000,C10<8),7,IF(AND(B10<1000,C10>8),8,IF(AND(B10<5000,C10<4),7,IF(AND(B10<5000,C10<8),8,9)))))) -> 7 | E10: =COUNTIF(#REF!,A10) -> #REF! | F10: =E10-D10 -> #REF! | I10: 9 | J10: =IF($B10>1000,"",$B10) | K10: =IF($J10="","",IF($C10>$P$2,"",$C10)) | L10: =IF($J10="","",IF(AND($C10>=$P$2,$C10<$P$3),$C10,"")) | M10: =IF($J10="","",IF(AND($C10>=$P$3,$C10<$P$4),$C10,"")) | N10: =IF($J10="","",IF(AND($C10>=$P$4,$C10<$P$5),$C10,"")) | O10: =IF($B10>1000,"",$E10) | Q10: 9 | R10: =IF($B10>=1000,$B10,"") -> 1416 | S10: =IF($R10="","",IF($C10>$P$3,"",$C10)) -> 3.02 | T10: =IF($R10="","",IF(AND($C10>=$P$3,$C10<$P$4),$C10,"")) | U10: =IF($R10="","",IF(AND($C10>=$P$4,$C10<$P$5),$C10,"")) | V10: =IF($B10>1000,$E10,"") -> #REF! | Z10: 4㎢以上 | AA10: 0 | AB10: 0
A11: 10 | B11: 562 | C11: 2.07 | D11: =IF(AND(B11<1000,C11<2),5,IF(AND(B11<1000,C11<4),6,IF(AND(B11<1000,C11<8),7,IF(AND(B11<1000,C11>8),8,IF(AND(B11<5000,C11<4),7,IF(AND(B11<5000,C11<8),8,9)))))) -> 6 | E11: =COUNTIF(#REF!,A11) -> #REF! | F11: =E11-D11 -> #REF! | I11: 10 | J11: =IF($B11>1000,"",$B11) -> 562 | K11: =IF($J11="","",IF($C11>$P$2,"",$C11)) | L11: =IF($J11="","",IF(AND($C11>=$P$2,$C11<$P$3),$C11,"")) -> 2.07 | M11: =IF($J11="","",IF(AND($C11>=$P$3,$C11<$P$4),$C11,"")) | N11: =IF($J11="","",IF(AND($C11>=$P$4,$C11<$P$5),$C11,"")) | O11: =IF($B11>1000,"",$E11) -> #REF! | Q11: 9 | R11: =IF($B11>=1000,$B11,"") | S11: =IF($R11="","",IF($C11>$P$3,"",$C11)) | T11: =IF($R11="","",IF(AND($C11>=$P$3,$C11<$P$4),$C11,"")) | U11: =IF($R11="","",IF(AND($C11>=$P$4,$C11<$P$5),$C11,"")) | V11: =IF($B11>1000,$E11,"") | Y11: 10,000人以上 | Z11: 4㎢未満 | AA11: 0 | AB11: 0
A12: 11 | B12: 872 | C12: 1.23 | D12: =IF(AND(B12<1000,C12<2),5,IF(AND(B12<1000,C12<4),6,IF(AND(B12<1000,C12<8),7,IF(AND(B12<1000,C12>8),8,IF(AND(B12<5000,C12<4),7,IF(AND(B12<5000,C12<8),8,9)))))) -> 5 | E12: =COUNTIF(#REF!,A12) -> #REF! | F12: =E12-D12 -> #REF! | I12: 11 | J12: =IF($B12>1000,"",$B12) -> 872 | K12: =IF($J12="","",IF($C12>$P$2,"",$C12)) -> 1.23 | L12: =IF($J12="","",IF(AND($C12>=$P$2,$C12<$P$3),$C12,"")) | M12: =IF($J12="","",IF(AND($C12>=$P$3,$C12<$P$4),$C12,"")) | N12: =IF($J12="","",IF(AND($C12>=$P$4,$C12<$P$5),$C12,"")) | O12: =IF($B12>1000,"",$E12) -> #REF! | Q12: 10 | R12: =IF($B12>=1000,$B12,"") | S12: =IF($R12="","",IF($C12>$P$3,"",$C12)) | T12: =IF($R12="","",IF(AND($C12>=$P$3,$C12<$P$4),$C12,"")) | U12: =IF($R12="","",IF(AND($C12>=$P$4,$C12<$P$5),$C12,"")) | V12: =IF($B12>1000,$E12,"") | Z12: 4㎢以上 | AA12: 0 | AB12: 0
A13: 12 | B13: 841 | C13: 5.56 | D13: =IF(AND(B13<1000,C13<2),5,IF(AND(B13<1000,C13<4),6,IF(AND(B13<1000,C13<8),7,IF(AND(B13<1000,C13>8),8,IF(AND(B13<5000,C13<4),7,IF(AND(B13<5000,C13<8),8,9)))))) -> 7 | E13: =COUNTIF(#REF!,A13) -> #REF! | F13: =E13-D13 -> #REF! | I13: 12 | J13: =IF($B13>1000,"",$B13) -> 841 | K13: =IF($J13="","",IF($C13>$P$2,"",$C13)) | L13: =IF($J13="","",IF(AND($C13>=$P$2,$C13<$P$3),$C13,"")) | M13: =IF($J13="","",IF(AND($C13>=$P$3,$C13<$P$4),$C13,"")) -> 5.56 | N13: =IF($J13="","",IF(AND($C13>=$P$4,$C13<$P$5),$C13,"")) | O13: =IF($B13>1000,"",$E13) -> #REF! | Q13: 11 | R13: =IF($B13>=1000,$B13,"") | S13: =IF($R13="","",IF($C13>$P$3,"",$C13)) | T13: =IF($R13="","",IF(AND($C13>=$P$3,$C13<$P$4),$C13,"")) | U13: =IF($R13="","",IF(AND($C13>=$P$4,$C13<$P$5),$C13,"")) | V13: =IF($B13>1000,$E13,"") | AA13: =SUM(AA2:AA12) -> 26 | AB13: =SUM(AB2:AB12) -> #REF!
A14: 13 | B14: 921 | C14: 8.36 | D14: =IF(AND(B14<1000,C14<2),5,IF(AND(B14<1000,C14<4),6,IF(AND(B14<1000,C14<8),7,IF(AND(B14<1000,C14>8),8,IF(AND(B14<5000,C14<4),7,IF(AND(B14<5000,C14<8),8,9)))))) -> 8 | E14: =COUNTIF(#REF!,A14) -> #REF! | F14: =E14-D14 -> #REF! | I14: 13 | J14: =IF($B14>1000,"",$B14) -> 921 | K14: =IF($J14="","",IF($C14>$P$2,"",$C14)) | L14: =IF($J14="","",IF(AND($C14>=$P$2,$C14<$P$3),$C14,"")) | M14: =IF($J14="","",IF(AND($C14>=$P$3,$C14<$P$4),$C14,"")) | N14: =IF($J14="","",IF(AND($C14>=$P$4,$C14<$P$5),$C14,"")) -> 8.36 | O14: =IF($B14>1000,"",$E14) -> #REF! | Q14: 12 | R14: =IF($B14>=1000,$B14,"") | S14: =IF($R14="","",IF($C14>$P$3,"",$C14)) | T14: =IF($R14="","",IF(AND($C14>=$P$3,$C14<$P$4),$C14,"")) | U14: =IF($R14="","",IF(AND($C14>=$P$4,$C14<$P$5),$C14,"")) | V14: =IF($B14>1000,$E14,"")
A15: 14 | B15: 2315 | C15: 18.28 | D15: =IF(AND(B15<1000,C15<2),5,IF(AND(B15<1000,C15<4),6,IF(AND(B15<1000,C15<8),7,IF(AND(B15<1000,C15>8),8,IF(AND(B15<5000,C15<4),7,IF(AND(B15<5000,C15<8),8,9)))))) -> 9 | E15: =COUNTIF(#REF!,A15) -> #REF! | F15: =E15-D15 -> #REF! | I15: 14 | J15: =IF($B15>1000,"",$B15) | K15: =IF($J15="","",IF($C15>$P$2,"",$C15)) | L15: =IF($J15="","",IF(AND($C15>=$P$2,$C15<$P$3),$C15,"")) | M15: =IF($J15="","",IF(AND($C15>=$P$3,$C15<$P$4),$C15,"")) | N15: =IF($J15="","",IF(AND($C15>=$P$4,$C15<$P$5),$C15,"")) | O15: =IF($B15>1000,"",$E15) | Q15: 13 | R15: =IF($B15>=1000,$B15,"") -> 2315 | S15: =IF($R15="","",IF($C15>$P$3,"",$C15)) | T15: =IF($R15="","",IF(AND($C15>=$P$3,$C15<$P$4),$C15,"")) | U15: =IF($R15="","",IF(AND($C15>=$P$4,$C15<$P$5),$C15,"")) -> 18.28 | V15: =IF($B15>1000,$E15,"") -> #REF!
A16: 15 | B16: 1672 | C16: 9.43 | D16: =IF(AND(B16<1000,C16<2),5,IF(AND(B16<1000,C16<4),6,IF(AND(B16<1000,C16<8),7,IF(AND(B16<1000,C16>8),8,IF(AND(B16<5000,C16<4),7,IF(AND(B16<5000,C16<8),8,9)))))) -> 9 | E16: =COUNTIF(#REF!,A16) -> #REF! | F16: =E16-D16 -> #REF! | I16: 15 | J16: =IF($B16>1000,"",$B16) | K16: =IF($J16="","",IF($C16>$P$2,"",$C16)) | L16: =IF($J16="","",IF(AND($C16>=$P$2,$C16<$P$3),$C16,"")) | M16: =IF($J16="","",IF(AND($C16>=$P$3,$C16<$P$4),$C16,"")) | N16: =IF($J16="","",IF(AND($C16>=$P$4,$C16<$P$5),$C16,"")) | O16: =IF($B16>1000,"",$E16) | Q16: 14 | R16: =IF($B16>=1000,$B16,"") -> 1672 | S16: =IF($R16="","",IF($C16>$P$3,"",$C16)) | T16: =IF($R16="","",IF(AND($C16>=$P$3,$C16<$P$4),$C16,"")) | U16: =IF($R16="","",IF(AND($C16>=$P$4,$C16<$P$5),$C16,"")) -> 9.43 | V16: =IF($B16>1000,$E16,"") -> #REF!
A17: 16 | B17: 1669 | C17: 3.94 | D17: =IF(AND(B17<1000,C17<2),5,IF(AND(B17<1000,C17<4),6,IF(AND(B17<1000,C17<8),7,IF(AND(B17<1000,C17>8),8,IF(AND(B17<5000,C17<4),7,IF(AND(B17<5000,C17<8),8,9)))))) -> 7 | E17: =COUNTIF(#REF!,A17) -> #REF! | F17: =E17-D17 -> #REF! | I17: 16 | J17: =IF($B17>1000,"",$B17) | K17: =IF($J17="","",IF($C17>$P$2,"",$C17)) | L17: =IF($J17="","",IF(AND($C17>=$P$2,$C17<$P$3),$C17,"")) | M17: =IF($J17="","",IF(AND($C17>=$P$3,$C17<$P$4),$C17,"")) | N17: =IF($J17="","",IF(AND($C17>=$P$4,$C17<$P$5),$C17,"")) | O17: =IF($B17>1000,"",$E17) | Q17: 16 | R17: =IF($B17>=1000,$B17,"") -> 1669 | S17: =IF($R17="","",IF($C17>$P$3,"",$C17)) -> 3.94 | T17: =IF($R17="","",IF(AND($C17>=$P$3,$C17<$P$4),$C17,"")) | U17: =IF($R17="","",IF(AND($C17>=$P$4,$C17<$P$5),$C17,"")) | V17: =IF($B17>1000,$E17,"") -> #REF!
A18: 17 | B18: 1556 | C18: 13.38 | D18: =IF(AND(B18<1000,C18<2),5,IF(AND(B18<1000,C18<4),6,IF(AND(B18<1000,C18<8),7,IF(AND(B18<1000,C18>8),8,IF(AND(B18<5000,C18<4),7,IF(AND(B18<5000,C18<8),8,9)))))) -> 9 | E18: =COUNTIF(#REF!,A18) -> #REF! | F18: =E18-D18 -> #REF! | I18: 17 | J18: =IF($B18>1000,"",$B18) | K18: =IF($J18="","",IF($C18>$P$2,"",$C18)) | L18: =IF($J18="","",IF(AND($C18>=$P$2,$C18<$P$3),$C18,"")) | M18: =IF($J18="","",IF(AND($C18>=$P$3,$C18<$P$4),$C18,"")) | N18: =IF($J18="","",IF(AND($C18>=$P$4,$C18<$P$5),$C18,"")) | O18: =IF($B18>1000,"",$E18) | Q18: 17 | R18: =IF($B18>=1000,$B18,"") -> 1556 | S18: =IF($R18="","",IF($C18>$P$3,"",$C18)) | T18: =IF($R18="","",IF(AND($C18>=$P$3,$C18<$P$4),$C18,"")) | U18: =IF($R18="","",IF(AND($C18>=$P$4,$C18<$P$5),$C18,"")) -> 13.38 | V18: =IF($B18>1000,$E18,"") -> #REF!
A19: 18 | B19: 212 | C19: 5.4 | D19: =IF(AND(B19<1000,C19<2),5,IF(AND(B19<1000,C19<4),6,IF(AND(B19<1000,C19<8),7,IF(AND(B19<1000,C19>8),8,IF(AND(B19<5000,C19<4),7,IF(AND(B19<5000,C19<8),8,9)))))) -> 7 | E19: =COUNTIF(#REF!,A19) -> #REF! | F19: =E19-D19 -> #REF! | I19: 18 | J19: =IF($B19>1000,"",$B19) -> 212 | K19: =IF($J19="","",IF($C19>$P$2,"",$C19)) | L19: =IF($J19="","",IF(AND($C19>=$P$2,$C19<$P$3),$C19,"")) | M19: =IF($J19="","",IF(AND($C19>=$P$3,$C19<$P$4),$C19,"")) -> 5.4 | N19: =IF($J19="","",IF(AND($C19>=$P$4,$C19<$P$5),$C19,"")) | O19: =IF($B19>1000,"",$E19) -> #REF! | Q19: 18 | R19: =IF($B19>=1000,$B19,"") | S19: =IF($R19="","",IF($C19>$P$3,"",$C19)) | T19: =IF($R19="","",IF(AND($C19>=$P$3,$C19<$P$4),$C19,"")) | U19: =IF($R19="","",IF(AND($C19>=$P$4,$C19<$P$5),$C19,"")) | V19: =IF($B19>1000,$E19,"")
A20: 19 | B20: 823 | C20: 21.86 | D20: =IF(AND(B20<1000,C20<2),5,IF(AND(B20<1000,C20<4),6,IF(AND(B20<1000,C20<8),7,IF(AND(B20<1000,C20>8),8,IF(AND(B20<5000,C20<4),7,IF(AND(B20<5000,C20<8),8,9)))))) -> 8 | E20: =COUNTIF(#REF!,A20) -> #REF! | F20: =E20-D20 -> #REF! | I20: 19 | J20: =IF($B20>1000,"",$B20) -> 823 | K20: =IF($J20="","",IF($C20>$P$2,"",$C20)) | L20: =IF($J20="","",IF(AND($C20>=$P$2,$C20<$P$3),$C20,"")) | M20: =IF($J20="","",IF(AND($C20>=$P$3,$C20<$P$4),$C20,"")) | N20: =IF($J20="","",IF(AND($C20>=$P$4,$C20<$P$5),$C20,"")) -> 21.86 | O20: =IF($B20>1000,"",$E20) -> #REF! | Q20: 19 | R20: =IF($B20>=1000,$B20,"") | S20: =IF($R20="","",IF($C20>$P$3,"",$C20)) | T20: =IF($R20="","",IF(AND($C20>=$P$3,$C20<$P$4),$C20,"")) | U20: =IF($R20="","",IF(AND($C20>=$P$4,$C20<$P$5),$C20,"")) | V20: =IF($B20>1000,$E20,"")
A21: 20 | B21: 158 | C21: 31.46 | D21: =IF(AND(B21<1000,C21<2),5,IF(AND(B21<1000,C21<4),6,IF(AND(B21<1000,C21<8),7,IF(AND(B21<1000,C21>8),8,IF(AND(B21<5000,C21<4),7,IF(AND(B21<5000,C21<8),8,9)))))) -> 8 | E21: =COUNTIF(#REF!,A21) -> #REF! | F21: =E21-D21 -> #REF! | I21: 20 | J21: =IF($B21>1000,"",$B21) -> 158 | K21: =IF($J21="","",IF($C21>$P$2,"",$C21)) | L21: =IF($J21="","",IF(AND($C21>=$P$2,$C21<$P$3),$C21,"")) | M21: =IF($J21="","",IF(AND($C21>=$P$3,$C21<$P$4),$C21,"")) | N21: =IF($J21="","",IF(AND($C21>=$P$4,$C21<$P$5),$C21,"")) -> 31.46 | O21: =IF($B21>1000,"",$E21) -> #REF! | Q21: 20 | R21: =IF($B21>=1000,$B21,"") | S21: =IF($R21="","",IF($C21>$P$3,"",$C21)) | T21: =IF($R21="","",IF(AND($C21>=$P$3,$C21<$P$4),$C21,"")) | U21: =IF($R21="","",IF(AND($C21>=$P$4,$C21<$P$5),$C21,"")) | V21: =IF($B21>1000,$E21,"")
A22: 21 | B22: 1218 | C22: 11.96 | D22: =IF(AND(B22<1000,C22<2),5,IF(AND(B22<1000,C22<4),6,IF(AND(B22<1000,C22<8),7,IF(AND(B22<1000,C22>8),8,IF(AND(B22<5000,C22<4),7,IF(AND(B22<5000,C22<8),8,9)))))) -> 9 | E22: =COUNTIF(#REF!,A22) -> #REF! | F22: =E22-D22 -> #REF! | I22: 21 | J22: =IF($B22>1000,"",$B22) | K22: =IF($J22="","",IF($C22>$P$2,"",$C22)) | L22: =IF($J22="","",IF(AND($C22>=$P$2,$C22<$P$3),$C22,"")) | M22: =IF($J22="","",IF(AND($C22>=$P$3,$C22<$P$4),$C22,"")) | N22: =IF($J22="","",IF(AND($C22>=$P$4,$C22<$P$5),$C22,"")) | O22: =IF($B22>1000,"",$E22) | Q22: 21 | R22: =IF($B22>=1000,$B22,"") -> 1218 | S22: =IF($R22="","",IF($C22>$P$3,"",$C22)) | T22: =IF($R22="","",IF(AND($C22>=$P$3,$C22<$P$4),$C22,"")) | U22: =IF($R22="","",IF(AND($C22>=$P$4,$C22<$P$5),$C22,"")) -> 11.96 | V22: =IF($B22>1000,$E22,"") -> #REF!
A23: 22 | B23: 169 | C23: 3.44 | D23: =IF(AND(B23<1000,C23<2),5,IF(AND(B23<1000,C23<4),6,IF(AND(B23<1000,C23<8),7,IF(AND(B23<1000,C23>8),8,IF(AND(B23<5000,C23<4),7,IF(AND(B23<5000,C23<8),8,9)))))) -> 6 | E23: =COUNTIF(#REF!,A23) -> #REF! | F23: =E23-D23 -> #REF! | I23: 22 | J23: =IF($B23>1000,"",$B23) -> 169 | K23: =IF($J23="","",IF($C23>$P$2,"",$C23)) | L23: =IF($J23="","",IF(AND($C23>=$P$2,$C23<$P$3),$C23,"")) -> 3.44 | M23: =IF($J23="","",IF(AND($C23>=$P$3,$C23<$P$4),$C23,"")) | N23: =IF($J23="","",IF(AND($C23>=$P$4,$C23<$P$5),$C23,"")) | O23: =IF($B23>1000,"",$E23) -> #REF! | Q23: 22 | R23: =IF($B23>=1000,$B23,"") | S23: =IF($R23="","",IF($C23>$P$3,"",$C23)) | T23: =IF($R23="","",IF(AND($C23>=$P$3,$C23<$P$4),$C23,"")) | U23: =IF($R23="","",IF(AND($C23>=$P$4,$C23<$P$5),$C23,"")) | V23: =IF($B23>1000,$E23,"")
A24: 23 | B24: 567 | C24: 10.08 | D24: =IF(AND(B24<1000,C24<2),5,IF(AND(B24<1000,C24<4),6,IF(AND(B24<1000,C24<8),7,IF(AND(B24<1000,C24>8),8,IF(AND(B24<5000,C24<4),7,IF(AND(B24<5000,C24<8),8,9)))))) -> 8 | E24: =COUNTIF(#REF!,A24) -> #REF! | F24: =E24-D24 -> #REF! | I24: 23 | J24: =IF($B24>1000,"",$B24) -> 567 | K24: =IF($J24="","",IF($C24>$P$2,"",$C24)) | L24: =IF($J24="","",IF(AND($C24>=$P$2,$C24<$P$3),$C24,"")) | M24: =IF($J24="","",IF(AND($C24>=$P$3,$C24<$P$4),$C24,"")) | N24: =IF($J24="","",IF(AND($C24>=$P$4,$C24<$P$5),$C24,"")) -> 10.08 | O24: =IF($B24>1000,"",$E24) -> #REF! | Q24: 23 | R24: =IF($B24>=1000,$B24,"") | S24: =IF($R24="","",IF($C24>$P$3,"",$C24)) | T24: =IF($R24="","",IF(AND($C24>=$P$3,$C24<$P$4),$C24,"")) | U24: =IF($R24="","",IF(AND($C24>=$P$4,$C24<$P$5),$C24,"")) | V24: =IF($B24>1000,$E24,"")
A25: 24 | B25: 214 | C25: 5.35 | D25: =IF(AND(B25<1000,C25<2),5,IF(AND(B25<1000,C25<4),6,IF(AND(B25<1000,C25<8),7,IF(AND(B25<1000,C25>8),8,IF(AND(B25<5000,C25<4),7,IF(AND(B25<5000,C25<8),8,9)))))) -> 7 | E25: =COUNTIF(#REF!,A25) -> #REF! | F25: =E25-D25 -> #REF! | I25: 24 | J25: =IF($B25>1000,"",$B25) -> 214 | K25: =IF($J25="","",IF($C25>$P$2,"",$C25)) | L25: =IF($J25="","",IF(AND($C25>=$P$2,$C25<$P$3),$C25,"")) | M25: =IF($J25="","",IF(AND($C25>=$P$3,$C25<$P$4),$C25,"")) -> 5.35 | N25: =IF($J25="","",IF(AND($C25>=$P$4,$C25<$P$5),$C25,"")) | O25: =IF($B25>1000,"",$E25) -> #REF! | Q25: 24 | R25: =IF($B25>=1000,$B25,"") | S25: =IF($R25="","",IF($C25>$P$3,"",$C25)) | T25: =IF($R25="","",IF(AND($C25>=$P$3,$C25<$P$4),$C25,"")) | U25: =IF($R25="","",IF(AND($C25>=$P$4,$C25<$P$5),$C25,"")) | V25: =IF($B25>1000,$E25,"")
... A27: 26 | B27: 120 | C27: 11.13 | D27: =IF(AND(B27<1000,C27<2),5,IF(AND(B27<1000,C27<4),6,IF(AND(B27<1000,C27<8),7,IF(AND(B27<1000,C27>8),8,IF(AND(B27<5000,C27<4),7,IF(AND(B27<5000,C27<8),8,9)))))) -> 8 | E27: =COUNTIF(#REF!,A27) -> #REF! | F27: =E27-D27 -> #REF! | I27: 26 | J27: =IF($B27>1000,"",$B27) -> 120 | K27: =IF($J27="","",IF($C27>$P$2,"",$C27)) | L27: =IF($J27="","",IF(AND($C27>=$P$2,$C27<$P$3),$C27,"")) | M27: =IF($J27="","",IF(AND($C27>=$P$3,$C27<$P$4),$C27,"")) | N27: =IF($J27="","",IF(AND($C27>=$P$4,$C27<$P$5),$C27,"")) -> 11.13 | O27: =IF($B27>1000,"",$E27) -> #REF! | Q27: 26 | R27: =IF($B27>=1000,$B27,"") | S27: =IF($R27="","",IF($C27>$P$3,"",$C27)) | T27: =IF($R27="","",IF(AND($C27>=$P$3,$C27<$P$4),$C27,"")) | U27: =IF($R27="","",IF(AND($C27>=$P$4,$C27<$P$5),$C27,"")) | V27: =IF($B27>1000,$E27,"")
A28: 合計 | B28: =SUM(B2:B27) -> 27640 | C28: =SUM(C2:C27) -> 197.79 | D28: =SUM(D2:D27) -> 187 | E28: =SUM(E2:E27) -> #REF! | F28: =SUM(F2:F27) -> #REF! | I28: 投票所の数 | J28: =I10-COUNTIF($J$2:$J$27,"") -> -2 | K28: =COUNT(K2:K27) -> 4 | L28: =COUNT(L2:L27) -> 2 | M28: =COUNT(M2:M27) -> 3 | N28: =COUNT(N2:N27) -> 6 | Q28: 投票所の数 | R28: =Q10-COUNTIF($R$2:$R$27,"") -> -6 | S28: =COUNT(S2:S27) -> 6 | T28: =COUNT(T2:T27) -> 1 | U28: =COUNT(U2:U27) -> 4
I29: 掲示場の数 | K29: =SUMIF(K2:K27,">0.001",$O$2:$O$27) -> #REF! | L29: =SUMIF(L2:L27,">0.001",$O$2:$O$27) -> #REF! | M29: =SUMIF(M2:M27,">0.001",$O$2:$O$27) -> #REF! | N29: =SUMIF(N2:N27,">0.001",$O$2:$O$27) -> #REF! | O29: =SUM(O2:O27) -> #REF! | Q29: 掲示場の数 | S29: =SUMIF(S2:S27,">0.001",$V$2:$V$27) -> #REF! | T29: =SUMIF(T2:T27,">0.001",$V$2:$V$27) -> #REF! | U29: =SUMIF(U2:U27,">0.001",$V$2:$V$27) -> #REF! | V29: =SUM(V2:V27) -> #REF!

Sheet ポスター掲示場一覧（145カ所）
B1: 令和8年10月25日執行 「福島県知事選挙」 ポスター掲示場一覧（145カ所）
A2: 設置№ | B2: 投票区 | C2: 地区 番号 | D2: 掲示場名 | E2: 所在地 | F2: 位置情報 （外部リンク）
A3: 1 | B3: 1 | C3: 1 | D3: 市営長谷堂住宅入口 | E3: 西山字長谷堂9-9 | F3: 位置はこちら
A4: 2 | C4: 2 | D4: そうま土地改良区道路側ブロック | E4: 西山字表西山76 | F4: 位置はこちら
A5: 3 | C5: 3 | D5: 宅地西側県有地（県道相馬大内線沿） | E5: 西山字水沢316-5（西側） | F5: 位置はこちら
A6: 4 | C6: 4 | D6: 防災倉庫跡地前 | E6: 西山字表西山50-1 | F6: 位置はこちら
A7: 5 | C7: 5 | D7: 相馬高等学校南側フェンス | E7: 中村字大手先57-1 | F7: 位置はこちら
A8: 6 | C8: 6 | D8: 保健センター前 | E8: 中村字大手先44-3 | F8: 位置はこちら
A9: 7 | C9: 7 | D9: 宅地西側市道敷(空地） | E9: 中村字本町108 | F9: 位置はこちら
A10: 8 | B10: 2 | C10: 1 | D10: 市役所西南側フェンス | E10: 中村字北町63-3 | F10: 位置はこちら
A11: 9 | C11: 2 | D11: 東邦銀行相馬支店南側国道沿 | E11: 中村字大町58-1 | F11: 位置はこちら
A12: 10 | C12: 3 | D12: 相馬市民プール向フェンス | E12: 中村字桜ヶ丘54-2（南側） | F12: 位置はこちら
A13: 11 | C13: 4 | D13: シーシャBAR＆カラオケ北側フェンス | E13: 中村字新町10-1 | F13: 位置はこちら
A14: 12 | B14: 3 | C14: 1 | D14: 前沢目公園東側フェンス | E14: 中村字泉町3 | F14: 位置はこちら
A15: 13 | C15: 2 | D15: 高池前公園南側フェンス | E15: 中村字高池前44 | F15: 位置はこちら
A16: 14 | C16: 3 | D16: 桜ヶ丘公園北側フェンス | E16: 中村字桜ヶ丘154 | F16: 位置はこちら
A17: 15 | C17: 4 | D17: はまなす商店街看板北側 | E17: 中村字塚田62、72 | F17: 位置はこちら
A18: 16 | C18: 5 | D18: 福祉センターはまなす館（北西側） | E18: 小泉字高池357 | F18: 位置はこちら
A19: 17 | B19: 4 | C19: 1 | D19: 和料理みはらし道路向のフェンス | E19: 中野字寺前1-2（北側） | F19: 位置はこちら
A20: 18 | C20: 2 | D20: 福島トヨペット㈱相馬店（南側） | E20: 中野字寺前340 | F20: 位置はこちら
A21: 19 | C21: 3 | D21: 向陽中学校敷地北側（ネットフェンス前） | E21: 中野字桜町76 | F21: 位置はこちら
A22: 20 | B22: 5 | C22: 1 | D22: 市営黒木田住宅前 | E22: 中野字黒木田152-1 | F22: 位置はこちら
A23: 21 | C23: 2 | D23: 愛育園南側フェンス | E23: 中野字清水172-2 | F23: 位置はこちら
A24: 22 | B24: 6 | C24: 1 | D24: 振興公社ビル駐車場南端フェンス | E24: 中村字塚ノ町65-16 | F24: 位置はこちら
A25: 23 | C25: 2 | D25: 宅地前南側の西より宇多川土手 | E25: 北飯渕三丁目1-1向 | F25: 位置はこちら
A26: 24 | C26: 3 | D26: レオパレスファミーユⅠ前南側歩道の花壇 | E26: 北飯渕二丁目6-6前 | F26: 位置はこちら
A27: 25 | C27: 4 | D27: ㈱南東北クボタ相馬営業所東側 | E27: 沖ノ内三丁目10-25 | F27: 位置はこちら
A28: 26 | C28: 5 | D28: 沖ノ内公園北側フェンス | E28: 沖ノ内二丁目6-1 | F28: 位置はこちら
A29: 27 | B29: 7 | C29: 1 | D29: 宅地ブロック前 | E29: 小泉字根岸120-2 | F29: 位置はこちら
A30: 28 | C30: 2 | D30: 中村幼稚園入口、警察官舎前 | E30: 新沼字坪ヶ迫1-1 | F30: 位置はこちら
A31: 29 | C31: 3 | D31: 公立相馬総合病院西側出入口 | E31: 新沼字坪ヶ迫98 | F31: 位置はこちら
A32: 30 | C32: 4 | D32: 鹿島神社入口 | E32: 新沼字鹿島前383 | F32: 位置はこちら
A33: 31 | B33: 8 | C33: 1 | D33: 中島ストア東側緑地 | E33: 新沼字刈敷田21-34 | F33: 位置はこちら
A34: 32 | C34: 2 | D34: 刈敷田集会所 | E34: 新沼字刈敷田14-13（東側） | F34: 位置はこちら
A35: 33 | C35: 3 | D35: 美容室はなみずき道路向三差路 | E35: 新沼字観音前138-1 （南側） | F35: 位置はこちら
A36: 34 | C36: 4 | D36: 本笑停留所フェンス | E36: 小泉字山田432-1 （北側） | F36: 位置はこちら
A37: 35 | C37: 5 | D37: プラシード前三差路 | E37: 本笑字前田21-1 （南側） | F37: 位置はこちら
A38: 36 | C38: 6 | D38: 小泉山田停留所（電柱の東側） | E38: 小泉字山田316-1 （南側） | F38: 位置はこちら
A39: 37 | C39: 7 | D39: 光陽サッカー場正面入口（東側） | E39: 光陽三丁目3-1 | F39: 位置はこちら
A40: 38 | B40: 9 | C40: 1 | D40: 中村第二小学校前土手 | E40: 尾浜字細田1 | F40: 位置はこちら
A41: 39 | C41: 2 | D41: 市営細田東住宅団地道路向、宅地入口（電柱の北側） | E41: 尾浜字細田406-9（東側） | F41: 位置はこちら
A42: 40 | C42: 3 | D42: 下り松停留所（相馬港方面） | E42: 原釜字札ノ沢89（北側） | F42: 位置はこちら
A43: 41 | C43: 4 | D43: トミ美容室東側 | E43: 尾浜字原42-1 | F43: 位置はこちら
A44: 42 | B44: 10 | C44: 1 | D44: 東部公民館入口（元水源地）ガードフェンス | E44: 原釜字北高野56（東側） | F44: 位置はこちら
A45: 43 | C45: 2 | D45: 宅地ブロック塀 | E45: 原釜字大津9-1 （南側） | F45: 位置はこちら
A46: 44 | B46: 11 | C46: 1 | D46: 株式会社ナガホリ管理地 | E46: 尾浜字高塚280-1 | F46: 位置はこちら
A47: 45 | C47: 2 | D47: 高平児童公園南東側 | E47: 尾浜字高塚217 | F47: 位置はこちら
A48: 46 | C48: 3 | D48: 尾浜こども公園東側駐車場 | E48: 尾浜字牛鼻毛67-2 | F48: 位置はこちら
A49: 47 | C49: 4 | D49: ホテルみなとや前緑地、南端 | E49: 尾浜字追川137 | F49: 位置はこちら
A50: 48 | B50: 12 | C50: 1 | D50: 光陽パークゴルフ場入口 | E50: 光陽四丁目2-5 | F50: 位置はこちら
A51: 49 | C51: 2 | D51: 渡部綱記翁頌徳碑の東隣 | E51: 石上字中曽根40 （南側） | F51: 位置はこちら
A52: 50 | C52: 3 | D52: 旧ＪＡそうま大野支店前 | E52: 石上字前田1-1 | F52: 位置はこちら
A53: 51 | B53: 12 | C53: 4 | D53: 宅地前（土手） | E53: 塚部字山崎8-1 | F53: 位置はこちら
A54: 52 | C54: 5 | D54: 塚部集会所西側空地 | E54: 塚部字貴布根前146 （西側） | F54: 位置はこちら
A55: 53 | C55: 6 | D55: 宅地向（畑） | E55: 塚部字聖50 （北側） | F55: 位置はこちら
A56: 54 | B56: 13 | C56: 1 | D56: 大坪公会堂前 | E56: 大坪字前迫146-1 | F56: 位置はこちら
A57: 55 | C57: 2 | D57: 大坪橋北三差路（フェンス） | E57: 大坪字清水前72-1（南側） | F57: 位置はこちら
A58: 56 | C58: 3 | D58: 西工業団地入口停留所 | E58: 大坪字山神前153 （南側） | F58: 位置はこちら
A59: 57 | C59: 4 | D59: 宅地西側、椎木入口停留所 | E59: 椎木字伊賀屋敷36-6 | F59: 位置はこちら
A60: 58 | C60: 5 | D60: 宅地前の畑の東端 | E60: 椎木字北原55 （南側） | F60: 位置はこちら
A61: 59 | C61: 6 | D61: 宅地東側空地（自動販売機の東） | E61: 塚部字新城下42-2 （東側） | F61: 位置はこちら
A62: 60 | B62: 14 | C62: 1 | D62: 宅地西側信号機前 | E62: 初野字初野町30（西側100ｍ） | F62: 位置はこちら
A63: 61 | C63: 2 | D63: 大野公民館前（フェンス） | E63: 石上字鵃沢326-1 | F63: 位置はこちら
A64: 62 | C64: 3 | D64: 宅地前フェンス | E64: 黒木字勝善98-1 | F64: 位置はこちら
A65: 63 | C65: 4 | D65: 黒木郵便局(西側フェンス) | E65: 黒木字御門98-1付近 | F65: 位置はこちら
A66: 64 | C66: 5 | D66: 西部子ども公民館西側 | E66: 黒木字町67-1 | F66: 位置はこちら
A67: 65 | C67: 6 | D67: 旧雇用促進住宅第２宿舎入口、南側 | E67: 黒木字榎下352-1（南側） | F67: 位置はこちら
A68: 66 | C68: 7 | D68: 旧大野稚蚕飼育所前 | E68: 黒木字北台131-8 （北側） | F68: 位置はこちら
A69: 67 | C69: 8 | D69: 諏訪神社入口右手 | E69: 黒木字薬師堂143-2 （北側） | F69: 位置はこちら
A70: 68 | C70: 9 | D70: 初野多目的集会所前 | E70: 初野字栗原9-4 | F70: 位置はこちら
A71: 69 | C71: 10 | D71: 小野多目的集会所前 | E71: 小野字薬師堂35 | F71: 位置はこちら
A72: 70 | B72: 15 | C72: 1 | D72: 飯豊小学校西側フェンス | E72: 大曲字天神前42 | F72: 位置はこちら
A73: 71 | C73: 2 | D73: 程田明神前住宅団地前（東端） | E73: 程田字明神前257-52（南側） | F73: 位置はこちら
A74: 72 | C74: 3 | D74: 宅地向の畑、交通安全立看板の東 | E74: 柏崎字中台2 （北側） | F74: 位置はこちら
A75: 73 | C75: 4 | D75: 宅地前の畑 | E75: 柏崎字西台63 （東側） | F75: 位置はこちら
A76: 74 | C76: 5 | D76: 草野建設倉庫東側歩道ガードフェンス | E76: 程田字形部田26（倉庫東側歩道） | F76: 位置はこちら
A77: 75 | C77: 6 | D77: 宅地前の畑 | E77: 岩子字北稲田154-1 （南側） | F77: 位置はこちら
A78: 76 | C78: 7 | D78: 岩子防災集合所向の畑 | E78: 岩子字数馬206-3 （北側） | F78: 位置はこちら
A79: 77 | C79: 8 | D79: 松川浦スポーツセンターゴミステーション東側 | E79: 岩子字長谷地10-1 | F79: 位置はこちら
A80: 78 | B80: 16 | C80: 1 | D80: 宅地北側 | E80: 南飯渕字木関無102 | F80: 位置はこちら
A81: 79 | C81: 2 | D81: 宅地後（裏） | E81: 南飯渕字明神6 | F81: 位置はこちら
A82: 80 | C82: 3 | D82: 宅地向の畑 | E82: 大曲字大毛内202 （南側） | F82: 位置はこちら
A83: 81 | C83: 4 | D83: 馬場野多目的集会所前 | E83: 馬場野字宝田1 | F83: 位置はこちら
A84: 82 | C84: 5 | D84: ABCマツモト相馬店駐車場 | E84: 馬場野字雨田29-1 （南側） | F84: 位置はこちら
A85: 83 | C85: 6 | D85: 宅地ブロック塀 | E85: 馬場野字福迫57 | F85: 位置はこちら
A86: 84 | C86: 7 | D86: 馬場野住宅団地入口 | E86: 馬場野字山田83-61（東側） | F86: 位置はこちら
A87: 85 | B87: 17 | C87: 1 | D87: 福島県農業総合センター 浜地域研究所南側 | E87: 成田字五郎右エ門橋100 | F87: 位置はこちら
A88: 86 | C88: 2 | D88: 宅地前カーブミラー脇ゴミステーション南側 | E88: 成田字岡本233（東側） | F88: 位置はこちら
A89: 87 | C89: 3 | D89: 旧八幡駐在所前 | E89: 坪田字涼ヶ岡39-1 （南側） | F89: 位置はこちら
A90: 88 | C90: 4 | D90: 天野利記念碑前 | E90: 坪田字下高松5（北側） | F90: 位置はこちら
A91: 89 | C91: 5 | D91: 今田研修所前（八坂神社前） | E91: 今田字久保前211-2 | F91: 位置はこちら
A92: 90 | C92: 6 | D92: 宅地前の畑 | E92: 今田字藤堂林143 | F92: 位置はこちら
A93: 91 | C93: 7 | D93: 八幡公民館前 | E93: 坪田字北田68 | F93: 位置はこちら
A94: 92 | C94: 8 | D94: 宅地南側の畑 | E94: 坪田字台町145-4 （南側） | F94: 位置はこちら
A95: 93 | C95: 9 | D95: 宅地北側の畑 | E95: 坪田字牛安沢105-1 （北側） | F95: 位置はこちら
A96: 94 | B96: 18 | C96: 1 | D96: 松道坂頂上 | E96: 富沢字松道 （松道バス停の南300ｍ） | F96: 位置はこちら
A97: 95 | C97: 2 | D97: 宅地前の田 | E97: 富沢字松道155 （西側） | F97: 位置はこちら
A98: 96 | C98: 3 | D98: 宅地前の畑 | E98: 富沢字北目19 | F98: 位置はこちら
A99: 97 | C99: 4 | D99: 富沢公会堂向（ゴミステーション付近） | E99: 富沢字ぬかり2 | F99: 位置はこちら
A100: 98 | C100: 5 | D100: 宅地前の畑 | E100: 富沢字水神109 | F100: 位置はこちら
...

Sheet 一覧_設計書用
A1: 設置№ | B1: 投票区 | C1: 区毎 番号 | D1: 掲示場名 | E1: 所在地 （住宅地図対応） | F1: 掲示場住所（公図） | G1: 所有者等氏名
A2: =#REF! -> #REF! | B2: =#REF! -> #REF! | C2: =#REF! -> #REF! | D2: =#REF! -> #REF! | E2: =#REF! -> #REF! | F2: =#REF! -> #REF! | G2: =#REF! -> #REF!
A3: =#REF! -> #REF! | B3: =#REF! -> #REF! | C3: =#REF! -> #REF! | D3: =#REF! -> #REF! | E3: =#REF! -> #REF! | F3: =#REF! -> #REF! | G3: =#REF! -> #REF!
A4: =#REF! -> #REF! | B4: =#REF! -> #REF! | C4: =#REF! -> #REF! | D4: =#REF! -> #REF! | E4: =#REF! -> #REF! | F4: =#REF! -> #REF! | G4: =#REF! -> #REF!
A5: =#REF! -> #REF! | B5: =#REF! -> #REF! | C5: =#REF! -> #REF! | D5: =#REF! -> #REF! | E5: =#REF! -> #REF! | F5: =#REF! -> #REF! | G5: =#REF! -> #REF!
A6: =#REF! -> #REF! | B6: =#REF! -> #REF! | C6: =#REF! -> #REF! | D6: =#REF! -> #REF! | E6: =#REF! -> #REF! | F6: =#REF! -> #REF! | G6: =#REF! -> #REF!
A7: =#REF! -> #REF! | B7: =#REF! -> #REF! | C7: =#REF! -> #REF! | D7: =#REF! -> #REF! | E7: =#REF! -> #REF! | F7: =#REF! -> #REF! | G7: =#REF! -> #REF!
A8: =#REF! -> #REF! | B8: =#REF! -> #REF! | C8: =#REF! -> #REF! | D8: =#REF! -> #REF! | E8: =#REF! -> #REF! | F8: =#REF! -> #REF! | G8: =#REF! -> #REF!
A9: =#REF! -> #REF! | B9: =#REF! -> #REF! | C9: =#REF! -> #REF! | D9: =#REF! -> #REF! | E9: =#REF! -> #REF! | F9: =#REF! -> #REF! | G9: =#REF! -> #REF!
A10: =#REF! -> #REF! | B10: =#REF! -> #REF! | C10: =#REF! -> #REF! | D10: =#REF! -> #REF! | E10: =#REF! -> #REF! | F10: =#REF! -> #REF! | G10: =#REF! -> #REF!
A11: =#REF! -> #REF! | B11: =#REF! -> #REF! | C11: =#REF! -> #REF! | D11: =#REF! -> #REF! | E11: =#REF! -> #REF! | F11: =#REF! -> #REF! | G11: =#REF! -> #REF!
A12: =#REF! -> #REF! | B12: =#REF! -> #REF! | C12: =#REF! -> #REF! | D12: =#REF! -> #REF! | E12: =#REF! -> #REF! | F12: =#REF! -> #REF! | G12: =#REF! -> #REF!
A13: =#REF! -> #REF! | B13: =#REF! -> #REF! | C13: =#REF! -> #REF! | D13: =#REF! -> #REF! | E13: =#REF! -> #REF! | F13: =#REF! -> #REF! | G13: =#REF! -> #REF!
... A149: =#REF! -> #REF! | B149: =#REF! -> #REF! | C149: =#REF! -> #REF! | D149: =#REF! -> #REF! | E149: =#REF! -> #REF! | F149: =#REF! -> #REF! | G149: =#REF! -> #REF!
